BEGIN:VCALENDAR
VERSION:2.0
PRODID:-//American Gelbvieh - ECPv6.15.18//NONSGML v1.0//EN
CALSCALE:GREGORIAN
METHOD:PUBLISH
X-WR-CALNAME:American Gelbvieh
X-ORIGINAL-URL:https://gelbvieh.org
X-WR-CALDESC:Events for American Gelbvieh
REFRESH-INTERVAL;VALUE=DURATION:PT1H
X-Robots-Tag:noindex
X-PUBLISHED-TTL:PT1H
BEGIN:VTIMEZONE
TZID:America/Denver
BEGIN:DAYLIGHT
TZOFFSETFROM:-0700
TZOFFSETTO:-0600
TZNAME:MDT
DTSTART:20150308T090000
END:DAYLIGHT
BEGIN:STANDARD
TZOFFSETFROM:-0600
TZOFFSETTO:-0700
TZNAME:MST
DTSTART:20151101T080000
END:STANDARD
BEGIN:DAYLIGHT
TZOFFSETFROM:-0700
TZOFFSETTO:-0600
TZNAME:MDT
DTSTART:20160313T090000
END:DAYLIGHT
BEGIN:STANDARD
TZOFFSETFROM:-0600
TZOFFSETTO:-0700
TZNAME:MST
DTSTART:20161106T080000
END:STANDARD
BEGIN:DAYLIGHT
TZOFFSETFROM:-0700
TZOFFSETTO:-0600
TZNAME:MDT
DTSTART:20170312T090000
END:DAYLIGHT
BEGIN:STANDARD
TZOFFSETFROM:-0600
TZOFFSETTO:-0700
TZNAME:MST
DTSTART:20171105T080000
END:STANDARD
END:VTIMEZONE
BEGIN:VEVENT
DTSTART;VALUE=DATE:20160610
DTEND;VALUE=DATE:20160613
DTSTAMP:20260421T182614
CREATED:20160212T213729Z
LAST-MODIFIED:20160226T224705Z
UID:7964-1465516800-1465775999@gelbvieh.org
SUMMARY:AGJA Western Regional
DESCRIPTION:Click here to view complete details
URL:https://gelbvieh.org/event/agja-western-regional
LOCATION:Central States Fairgrounds\, 800 San Francisco Street\, Rapid Cith\, SD\, United States
CATEGORIES:AGA Announcements,Juniors
END:VEVENT
BEGIN:VEVENT
DTSTART;TZID=America/Denver:20160629T080000
DTEND;TZID=America/Denver:20160629T120000
DTSTAMP:20260421T182614
CREATED:20160627T211628Z
LAST-MODIFIED:20160628T213953Z
UID:9015-1467187200-1467201600@gelbvieh.org
SUMMARY:AGA Registry Unavailable
DESCRIPTION:The AGA Online Registry Service will be inaccessible to the membership the morning of Wednesday\, June 29 for routine maintenance. The registry service will be back online in the afternoon. We apologize for any inconvenience this may cause. If you have any questions about the AGA Registry Service\, please contact the AGA office at 303-465-2333.
URL:https://gelbvieh.org/event/aga-registry-unavailable
CATEGORIES:AGA Announcements
END:VEVENT
BEGIN:VEVENT
DTSTART;TZID=America/Denver:20160629T080000
DTEND;TZID=America/Denver:20160629T163000
DTSTAMP:20260421T182614
CREATED:20160627T140207Z
LAST-MODIFIED:20160628T214104Z
UID:9009-1467187200-1467217800@gelbvieh.org
SUMMARY:AGA Office Closed
DESCRIPTION:The AGA Office will be closed to allow staff time to pack the current AGA headquarters and prepare for the move to the new location.
URL:https://gelbvieh.org/event/aga-office-closed-5
LOCATION:AGA Office\, 10900 Dover Street\, Westminster\, 80021\, United States
CATEGORIES:AGA Announcements
END:VEVENT
END:VCALENDAR