BEGIN:VCALENDAR
VERSION:2.0
PRODID:-//American Gelbvieh - ECPv6.15.20//NONSGML v1.0//EN
CALSCALE:GREGORIAN
METHOD:PUBLISH
X-WR-CALNAME:American Gelbvieh
X-ORIGINAL-URL:https://gelbvieh.org
X-WR-CALDESC:Events for American Gelbvieh
REFRESH-INTERVAL;VALUE=DURATION:PT1H
X-Robots-Tag:noindex
X-PUBLISHED-TTL:PT1H
BEGIN:VTIMEZONE
TZID:America/Chicago
BEGIN:DAYLIGHT
TZOFFSETFROM:-0600
TZOFFSETTO:-0500
TZNAME:CDT
DTSTART:20150308T080000
END:DAYLIGHT
BEGIN:STANDARD
TZOFFSETFROM:-0500
TZOFFSETTO:-0600
TZNAME:CST
DTSTART:20151101T070000
END:STANDARD
BEGIN:DAYLIGHT
TZOFFSETFROM:-0600
TZOFFSETTO:-0500
TZNAME:CDT
DTSTART:20160313T080000
END:DAYLIGHT
BEGIN:STANDARD
TZOFFSETFROM:-0500
TZOFFSETTO:-0600
TZNAME:CST
DTSTART:20161106T070000
END:STANDARD
BEGIN:DAYLIGHT
TZOFFSETFROM:-0600
TZOFFSETTO:-0500
TZNAME:CDT
DTSTART:20170312T080000
END:DAYLIGHT
BEGIN:STANDARD
TZOFFSETFROM:-0500
TZOFFSETTO:-0600
TZNAME:CST
DTSTART:20171105T070000
END:STANDARD
END:VTIMEZONE
BEGIN:VTIMEZONE
TZID:America/Denver
BEGIN:DAYLIGHT
TZOFFSETFROM:-0700
TZOFFSETTO:-0600
TZNAME:MDT
DTSTART:20150308T090000
END:DAYLIGHT
BEGIN:STANDARD
TZOFFSETFROM:-0600
TZOFFSETTO:-0700
TZNAME:MST
DTSTART:20151101T080000
END:STANDARD
BEGIN:DAYLIGHT
TZOFFSETFROM:-0700
TZOFFSETTO:-0600
TZNAME:MDT
DTSTART:20160313T090000
END:DAYLIGHT
BEGIN:STANDARD
TZOFFSETFROM:-0600
TZOFFSETTO:-0700
TZNAME:MST
DTSTART:20161106T080000
END:STANDARD
BEGIN:DAYLIGHT
TZOFFSETFROM:-0700
TZOFFSETTO:-0600
TZNAME:MDT
DTSTART:20170312T090000
END:DAYLIGHT
BEGIN:STANDARD
TZOFFSETFROM:-0600
TZOFFSETTO:-0700
TZNAME:MST
DTSTART:20171105T080000
END:STANDARD
END:VTIMEZONE
BEGIN:VTIMEZONE
TZID:America/Kentucky/Louisville
BEGIN:DAYLIGHT
TZOFFSETFROM:-0500
TZOFFSETTO:-0400
TZNAME:EDT
DTSTART:20150308T070000
END:DAYLIGHT
BEGIN:STANDARD
TZOFFSETFROM:-0400
TZOFFSETTO:-0500
TZNAME:EST
DTSTART:20151101T060000
END:STANDARD
BEGIN:DAYLIGHT
TZOFFSETFROM:-0500
TZOFFSETTO:-0400
TZNAME:EDT
DTSTART:20160313T070000
END:DAYLIGHT
BEGIN:STANDARD
TZOFFSETFROM:-0400
TZOFFSETTO:-0500
TZNAME:EST
DTSTART:20161106T060000
END:STANDARD
BEGIN:DAYLIGHT
TZOFFSETFROM:-0500
TZOFFSETTO:-0400
TZNAME:EDT
DTSTART:20170312T070000
END:DAYLIGHT
BEGIN:STANDARD
TZOFFSETFROM:-0400
TZOFFSETTO:-0500
TZNAME:EST
DTSTART:20171105T060000
END:STANDARD
END:VTIMEZONE
BEGIN:VEVENT
DTSTART;TZID=America/Chicago:20160312T130000
DTEND;TZID=America/Chicago:20160312T170000
DTSTAMP:20260423T121238
CREATED:20160217T211038Z
LAST-MODIFIED:20160217T211038Z
UID:8087-1457787600-1457802000@gelbvieh.org
SUMMARY:2nd Annual REDstock Sale
DESCRIPTION:
URL:https://gelbvieh.org/event/2nd-annual-redstock-sale
LOCATION:Litton Ag Center\, Chillicothe\, MO\, United States
ORGANIZER;CN="Scott Bachman":MAILTO:scott_bachman@yahoo.com
END:VEVENT
BEGIN:VEVENT
DTSTART;TZID=America/Denver:20160311T163000
DTEND;TZID=America/Denver:20160313T090000
DTSTAMP:20260423T121238
CREATED:20160205T223156Z
LAST-MODIFIED:20160217T220613Z
UID:7820-1457713800-1457859600@gelbvieh.org
SUMMARY:28th Tennessee Beef Agribition Gelbvieh & Balancer Show and Sale
DESCRIPTION:Show: March 11\, 4:30 p.m. CST \nSale: March 12\, 4:00 p.m. CST \nJunior Show: March 13\, 9:00 a.m. CST
URL:https://gelbvieh.org/event/tennessee-gelbvieh-beef-agribition
LOCATION:Unnamed Venue\, 945 East Baddour Parkway\, Lebanon\, United States
CATEGORIES:Event
ORGANIZER;CN="Unnamed Organizer":MAILTO:jon.water@blountk12.org
END:VEVENT
BEGIN:VEVENT
DTSTART;TZID=America/Denver:20160310T010000
DTEND;TZID=America/Denver:20160310T150000
DTSTAMP:20260423T121238
CREATED:20160215T185033Z
LAST-MODIFIED:20160215T185033Z
UID:7975-1457571600-1457622000@gelbvieh.org
SUMMARY:11th Annual Triple Play Bull Sale
DESCRIPTION:Volek Ranch\, Forbes Ranch\, and Leonhardt Ranch Bid Off Sale
URL:https://gelbvieh.org/event/11th-annual-triple-play-bull-sale
LOCATION:Huron Continental Marketing\, Huron\, SD\, United States
END:VEVENT
BEGIN:VEVENT
DTSTART;TZID=America/Denver:20160310T003000
DTEND;TZID=America/Denver:20160310T150000
DTSTAMP:20260423T121238
CREATED:20160217T210545Z
LAST-MODIFIED:20160217T210545Z
UID:8084-1457569800-1457622000@gelbvieh.org
SUMMARY:Raile Gelbvieh/Balancer Bull Sale
DESCRIPTION:
URL:https://gelbvieh.org/event/raile-gelbviehbalancer-bull-sale
LOCATION:Burlington Livestock Exchange\, Burlington\, CO\, United States
ORGANIZER;CN="Delbert & Marilyn Raile":MAILTO:dmraile@railegelbvieh.com
END:VEVENT
BEGIN:VEVENT
DTSTART;TZID=America/Chicago:20160309T080000
DTEND;TZID=America/Chicago:20160310T190000
DTSTAMP:20260423T121238
CREATED:20160217T210330Z
LAST-MODIFIED:20160217T210330Z
UID:8081-1457510400-1457636400@gelbvieh.org
SUMMARY:Hart Farm Gelbvieh 2nd Annual Private Treaty Online Bull Sale
DESCRIPTION:
URL:https://gelbvieh.org/event/hart-farm-gelbvieh-2nd-annual-private-treaty-online-bull-sale
LOCATION:www.DVAuction.com
END:VEVENT
BEGIN:VEVENT
DTSTART;TZID=America/Denver:20160308T130000
DTEND;TZID=America/Denver:20160308T170000
DTSTAMP:20260423T121238
CREATED:20160217T210114Z
LAST-MODIFIED:20160217T210114Z
UID:8078-1457442000-1457456400@gelbvieh.org
SUMMARY:Bar Arrow Cattle Company 26th Annual Production Sale
DESCRIPTION:
URL:https://gelbvieh.org/event/bar-arrow-cattle-company-26th-annual-production-sale
LOCATION:Bar Arrow Cattle Co.\, Phillipsburg\, KS\, United States
END:VEVENT
BEGIN:VEVENT
DTSTART;TZID=America/Denver:20160307T130000
DTEND;TZID=America/Denver:20160307T130000
DTSTAMP:20260423T121238
CREATED:20151209T211239Z
LAST-MODIFIED:20151209T214156Z
UID:6864-1457355600-1457355600@gelbvieh.org
SUMMARY:24th Annual Hojer Ranch Production
DESCRIPTION:Offering: 130 Yearling Bulls – 60 High Quality Heifers
URL:https://gelbvieh.org/event/24th-annual-hojer-ranch-production
LOCATION:Magness Livestock Pavilion\, East Hwy. 14 105 Custer Ave. SE\, Huron\, SD\, 57350\, United States
CATEGORIES:Sales
ORGANIZER;CN="Hojer Gelbvieh & Balancer Ranch":MAILTO:hojer@hojerranch.com
END:VEVENT
BEGIN:VEVENT
DTSTART;TZID=America/Denver:20160307T080000
DTEND;TZID=America/Denver:20160307T170000
DTSTAMP:20260423T121238
CREATED:20151209T211950Z
LAST-MODIFIED:20151209T214156Z
UID:6867-1457337600-1457370000@gelbvieh.org
SUMMARY:MLM Gelbvieh Open House and Private Treaty
DESCRIPTION:
URL:https://gelbvieh.org/event/mlm-gelbvieh-open-house-and-private-treaty
LOCATION:MLM GELBVIEH\, 824 Road 3000\, Superior\, NE\, 68978\, United States
CATEGORIES:Sales
ORGANIZER;CN="Unnamed Organizer":MAILTO:mlm68968@yahoo.com
END:VEVENT
BEGIN:VEVENT
DTSTART;TZID=America/Denver:20160305T130000
DTEND;TZID=America/Denver:20160305T170000
DTSTAMP:20260423T121238
CREATED:20160217T205736Z
LAST-MODIFIED:20160217T205736Z
UID:8075-1457182800-1457197200@gelbvieh.org
SUMMARY:Cib's Gelbvieh Opening Day Sale
DESCRIPTION:View Sale Catalog
URL:https://gelbvieh.org/event/cibs-gelbvieh-opening-day-sale
LOCATION:On the Farm\, 2786 R Ave\, Clutier\, IA\, 52217\, United States
ORGANIZER;CN="Matt & Tina Cibula":MAILTO:tnmcibula@yahoo.com
END:VEVENT
BEGIN:VEVENT
DTSTART;TZID=America/Denver:20160305T130000
DTEND;TZID=America/Denver:20160305T170000
DTSTAMP:20260423T121238
CREATED:20160217T205213Z
LAST-MODIFIED:20160217T205839Z
UID:8071-1457182800-1457197200@gelbvieh.org
SUMMARY:Flying H Genetics Roughage 'N Ready Bull & Female Sale
DESCRIPTION:View sale catalog
URL:https://gelbvieh.org/event/flying-h-genetics-roughage-n-ready-bull-female-sale
LOCATION:At the Ranch\, Arapahoe\, NE\, United States
END:VEVENT
BEGIN:VEVENT
DTSTART;TZID=America/Denver:20160305T130000
DTEND;TZID=America/Denver:20160305T170000
DTSTAMP:20260423T121238
CREATED:20160217T202556Z
LAST-MODIFIED:20160217T202556Z
UID:8068-1457182800-1457197200@gelbvieh.org
SUMMARY:Thorstenson Gelbvieh & Angus 35th Annual Bull Sale
DESCRIPTION:View Sale Catalog
URL:https://gelbvieh.org/event/thorstenson-gelbvieh-angus-35th-annual-bull-sale
LOCATION:Lazy TV Ranch\, Selby\, SD\, United States
END:VEVENT
BEGIN:VEVENT
DTSTART;TZID=America/Denver:20160305T120000
DTEND;TZID=America/Denver:20160305T160000
DTSTAMP:20260423T121238
CREATED:20160217T201726Z
LAST-MODIFIED:20160217T201726Z
UID:8065-1457179200-1457193600@gelbvieh.org
SUMMARY:SEGA Gelbvieh Bull Sale
DESCRIPTION:Offering red and black\, polled\, PAP tested\, and ultrasound scanned bulls. \nViewing of the cattle starts at 10:30 a.m.\nLunch at noon\nSale at 1:00 p.m.
URL:https://gelbvieh.org/event/sega-gelbvieh-bull-sale
LOCATION:At the Ranch\, Pierce\, CO\, United States
ORGANIZER;CN="Steve and Gail Fiolkoski":MAILTO:gafiolk@aol.com
END:VEVENT
BEGIN:VEVENT
DTSTART;TZID=America/Denver:20160305T110000
DTEND;TZID=America/Denver:20160305T180000
DTSTAMP:20260423T121238
CREATED:20151209T210808Z
LAST-MODIFIED:20151210T183123Z
UID:6860-1457175600-1457200800@gelbvieh.org
SUMMARY:Davidson Gelbvieh & Lonesome Dove Ranch 27th Annual Bull Sale
DESCRIPTION:
URL:https://gelbvieh.org/event/davidson-gelbvieh-lonesome-dove-ranch-27th-annual-bull-sale
LOCATION:Davidson Gelbvieh & Lonesome Dove Ranch\, Box 681\, Ponteix\, SK\, S0N 1Z0\, Canada
CATEGORIES:Sales
ORGANIZER;CN="Davidson Gelbvieh":MAILTO:davidsongelbvieh@sasktel.net
END:VEVENT
BEGIN:VEVENT
DTSTART;VALUE=DATE:20160305
DTEND;VALUE=DATE:20160306
DTSTAMP:20260423T121238
CREATED:20160212T001945Z
LAST-MODIFIED:20160212T001945Z
UID:7944-1457136000-1457222399@gelbvieh.org
SUMMARY:Judd Ranch Inc.\, 38th Bull Sale
DESCRIPTION:View sale catalog
URL:https://gelbvieh.org/event/judd-ranch-inc-38th-bull-sale
LOCATION:At the Ranch\, Pomona \, KS\, United States
CATEGORIES:Sales
END:VEVENT
BEGIN:VEVENT
DTSTART;TZID=America/Denver:20160304T130000
DTEND;TZID=America/Denver:20160304T160000
DTSTAMP:20260423T121238
CREATED:20160217T201221Z
LAST-MODIFIED:20160217T201221Z
UID:8062-1457096400-1457107200@gelbvieh.org
SUMMARY:Chimney Butte Ranch Annual Bull Sale
DESCRIPTION:
URL:https://gelbvieh.org/event/chimney-butte-ranch-annual-bull-sale
LOCATION:Kist Livestock Auction\, Mandan\, ND\, United States
END:VEVENT
BEGIN:VEVENT
DTSTART;TZID=America/Denver:20160301T130000
DTEND;TZID=America/Denver:20160301T170000
DTSTAMP:20260423T121238
CREATED:20160217T200511Z
LAST-MODIFIED:20160217T200511Z
UID:8059-1456837200-1456851600@gelbvieh.org
SUMMARY:Warner Beef Genetics Genetic Investment Sale
DESCRIPTION:View Sale Catalog
URL:https://gelbvieh.org/event/warner-beef-genetics-genetic-investment-sale
LOCATION:At the Ranch\, Arapahoe\, NE\, United States
END:VEVENT
BEGIN:VEVENT
DTSTART;TZID=America/Denver:20160228T080000
DTEND;TZID=America/Denver:20160228T170000
DTSTAMP:20260423T121238
CREATED:20160216T185156Z
LAST-MODIFIED:20160216T185156Z
UID:8039-1456646400-1456678800@gelbvieh.org
SUMMARY:Ceroll Gelbvieh Annual Silent Auction & Bid-Off Sale
DESCRIPTION:
URL:https://gelbvieh.org/event/ceroll-gelbvieh-annual-silent-auction-bid-off-sale
LOCATION:Unnamed Venue\, Sisseton\, SD\, United States
END:VEVENT
BEGIN:VEVENT
DTSTART;TZID=America/Denver:20160227T130000
DTEND;TZID=America/Denver:20160227T160000
DTSTAMP:20260423T121238
CREATED:20160216T181057Z
LAST-MODIFIED:20160216T181057Z
UID:8033-1456578000-1456588800@gelbvieh.org
SUMMARY:Swanson Cattle Company
DESCRIPTION:
URL:https://gelbvieh.org/event/swanson-cattle-company
LOCATION:At the Ranch\, 10908 724 Road\, Oxford\, NE\, United States
END:VEVENT
BEGIN:VEVENT
DTSTART;TZID=America/Denver:20160227T123000
DTEND;TZID=America/Denver:20160227T160000
DTSTAMP:20260423T121238
CREATED:20160216T182923Z
LAST-MODIFIED:20160216T182923Z
UID:8036-1456576200-1456588800@gelbvieh.org
SUMMARY:Post Rock Cattle Company
DESCRIPTION:View Sale Catalog
URL:https://gelbvieh.org/event/post-rock-cattle-company
LOCATION:Post Rock Cattle Company Sale Facility\, Barnard\, KS\, United States
END:VEVENT
BEGIN:VEVENT
DTSTART;VALUE=DATE:20160227
DTEND;VALUE=DATE:20160228
DTSTAMP:20260423T121238
CREATED:20160205T224518Z
LAST-MODIFIED:20160205T224611Z
UID:7831-1456531200-1456617599@gelbvieh.org
SUMMARY:Seedstock Plus North Missouri Bull Sale
DESCRIPTION:
URL:https://gelbvieh.org/event/seedstock-plus-north-missouri-bull-sale
LOCATION:Unnamed Venue\, Kingsville\, MO\, United States
CATEGORIES:Sales
END:VEVENT
BEGIN:VEVENT
DTSTART;TZID=America/Denver:20160226T120000
DTEND;TZID=America/Denver:20160226T163000
DTSTAMP:20260423T121238
CREATED:20151209T205905Z
LAST-MODIFIED:20160212T002135Z
UID:6857-1456488000-1456504200@gelbvieh.org
SUMMARY:25th Annual "Pot of Gold" Gelbvieh and Balancer Bull Sale
DESCRIPTION:Join us at Jim’s Auction Barn in Montrose. \nAll bulls trich\, fertility\, PI BVD and P.A.P. tested. If you can’t make it to the sale\, bid online at DVAuction.com. \nSee details of the sale at the Pot of Gold Web site.
URL:https://gelbvieh.org/event/25th-annual-pot-of-gold-gelbvieh-angus-and-balancer-sale
LOCATION:Jim’s Auction Barn\, 62687 Jay Jay Rd\, Montrose\, CO\, 81401\, United States
CATEGORIES:Sales
ORGANIZER;CN="Dave Bowman":MAILTO:davedawn@gelbviehbulls.net
END:VEVENT
BEGIN:VEVENT
DTSTART;TZID=America/Denver:20160225T120000
DTEND;TZID=America/Denver:20160225T140000
DTSTAMP:20260423T121238
CREATED:20160216T180047Z
LAST-MODIFIED:20160216T180047Z
UID:8030-1456401600-1456408800@gelbvieh.org
SUMMARY:Plateau Gebvieh Annual Bull Sale
DESCRIPTION:View Sale Catalog
URL:https://gelbvieh.org/event/plateau-gebvieh-annual-bull-sale
LOCATION:Livestock Exchange LLC\, Brush\, CO\, United States
END:VEVENT
BEGIN:VEVENT
DTSTART;TZID=America/Denver:20160224T130000
DTEND;TZID=America/Denver:20160224T170000
DTSTAMP:20260423T121238
CREATED:20160216T173033Z
LAST-MODIFIED:20160216T173033Z
UID:8026-1456318800-1456333200@gelbvieh.org
SUMMARY:Grund Beef Genetics Annual Bull Sale
DESCRIPTION:
URL:https://gelbvieh.org/event/grund-beef-genetics-annual-bull-sale
LOCATION:Oakley Livestock Commission\, Oakley\, KS\, United States
ORGANIZER;CN="Jerry Grund":MAILTO:jcgrund@wbsnet.org
END:VEVENT
BEGIN:VEVENT
DTSTART;TZID=America/Denver:20160222T130000
DTEND;TZID=America/Denver:20160222T170000
DTSTAMP:20260423T121238
CREATED:20160216T170153Z
LAST-MODIFIED:20160216T170153Z
UID:8023-1456146000-1456160400@gelbvieh.org
SUMMARY:Beastrom Ranch 36th Annual Bull Sale
DESCRIPTION:View Sale Catalog
URL:https://gelbvieh.org/event/beastrom-ranch-36th-annual-bull-sale
LOCATION:At the Ranch\, 20453 Cendak Road\, Pierre\, SD\, United States
END:VEVENT
BEGIN:VEVENT
DTSTART;VALUE=DATE:20160222
DTEND;VALUE=DATE:20160223
DTSTAMP:20260423T121238
CREATED:20160205T224909Z
LAST-MODIFIED:20160205T224909Z
UID:7834-1456099200-1456185599@gelbvieh.org
SUMMARY:AGA American Rancher Episode Premieres
DESCRIPTION:
URL:https://gelbvieh.org/event/aga-american-rancher-episode-premieres
LOCATION:NE
CATEGORIES:AGA Announcements
END:VEVENT
BEGIN:VEVENT
DTSTART;TZID=America/Denver:20160220T130000
DTEND;TZID=America/Denver:20160220T170000
DTSTAMP:20260423T121238
CREATED:20160216T165935Z
LAST-MODIFIED:20160216T165935Z
UID:8019-1455973200-1455987600@gelbvieh.org
SUMMARY:Golden Buckle Gelbvieh Bull Sale
DESCRIPTION:View Sale Catalog
URL:https://gelbvieh.org/event/golden-buckle-gelbvieh-bull-sale
LOCATION:Napoleon Livestock Auction\, Napoleon\, ND\, United States
END:VEVENT
BEGIN:VEVENT
DTSTART;TZID=America/Denver:20160220T130000
DTEND;TZID=America/Denver:20160220T170000
DTSTAMP:20260423T121238
CREATED:20160216T165554Z
LAST-MODIFIED:20160216T165554Z
UID:8015-1455973200-1455987600@gelbvieh.org
SUMMARY:Overmiller Gelbvieh & Red Angus Production Sale
DESCRIPTION:View Sale Catalog
URL:https://gelbvieh.org/event/overmiller-gelbvieh-red-angus-production-sale
LOCATION:At the Ranch\, Smith Center\, KS\, United States
END:VEVENT
BEGIN:VEVENT
DTSTART;TZID=America/Denver:20160220T113000
DTEND;TZID=America/Denver:20160220T140000
DTSTAMP:20260423T121238
CREATED:20160215T213936Z
LAST-MODIFIED:20160215T221954Z
UID:7997-1455967800-1455976800@gelbvieh.org
SUMMARY:Kentucky Beef Expo Gelbvieh Sale
DESCRIPTION:
URL:https://gelbvieh.org/event/kentucky-beef-expo-gelbvieh-sale
LOCATION:NE
END:VEVENT
BEGIN:VEVENT
DTSTART;TZID=America/Kentucky/Louisville:20160219T130000
DTEND;TZID=America/Kentucky/Louisville:20160219T150000
DTSTAMP:20260423T121239
CREATED:20160215T205533Z
LAST-MODIFIED:20160215T205533Z
UID:7994-1455886800-1455894000@gelbvieh.org
SUMMARY:Kentucky Beef Expo Gelbvieh Show
DESCRIPTION:
URL:https://gelbvieh.org/event/kentucky-beef-expo-gelbvieh-show
LOCATION:Kentucky Fair & Exposition Center\, Louisville\, KY\, United States
ORGANIZER;CN="David Slaughter":MAILTO:hmslaughter@aol.com
END:VEVENT
BEGIN:VEVENT
DTSTART;TZID=America/Denver:20160218T110000
DTEND;TZID=America/Denver:20160218T143000
DTSTAMP:20260423T121239
CREATED:20151209T203952Z
LAST-MODIFIED:20151210T205223Z
UID:6853-1455793200-1455805800@gelbvieh.org
SUMMARY:Gustin's Diamond D Production Sale
DESCRIPTION:Join us at the Ranch in Mandan\, SD. \nPhone: 701-663-7266 \nemail: gustindd@wildblue.net \nSee more at the Gutsin’s Diamond D Gelbvieh Web site
URL:https://gelbvieh.org/event/gustins-diamond-d-production-sale
LOCATION:Gustin’s Diamond D\, 5135 Hwy 6\, Mandan\, ND\, 58554\, United States
CATEGORIES:Sales
ORGANIZER;CN="Unnamed Organizer":MAILTO:gustindd@wildblue.net
END:VEVENT
END:VCALENDAR