BEGIN:VCALENDAR
VERSION:2.0
PRODID:-//American Gelbvieh - ECPv6.15.20//NONSGML v1.0//EN
CALSCALE:GREGORIAN
METHOD:PUBLISH
X-ORIGINAL-URL:https://gelbvieh.org
X-WR-CALDESC:Events for American Gelbvieh
REFRESH-INTERVAL;VALUE=DURATION:PT1H
X-Robots-Tag:noindex
X-PUBLISHED-TTL:PT1H
BEGIN:VTIMEZONE
TZID:America/Denver
BEGIN:DAYLIGHT
TZOFFSETFROM:-0700
TZOFFSETTO:-0600
TZNAME:MDT
DTSTART:20160313T090000
END:DAYLIGHT
BEGIN:STANDARD
TZOFFSETFROM:-0600
TZOFFSETTO:-0700
TZNAME:MST
DTSTART:20161106T080000
END:STANDARD
BEGIN:DAYLIGHT
TZOFFSETFROM:-0700
TZOFFSETTO:-0600
TZNAME:MDT
DTSTART:20170312T090000
END:DAYLIGHT
BEGIN:STANDARD
TZOFFSETFROM:-0600
TZOFFSETTO:-0700
TZNAME:MST
DTSTART:20171105T080000
END:STANDARD
BEGIN:DAYLIGHT
TZOFFSETFROM:-0700
TZOFFSETTO:-0600
TZNAME:MDT
DTSTART:20180311T090000
END:DAYLIGHT
BEGIN:STANDARD
TZOFFSETFROM:-0600
TZOFFSETTO:-0700
TZNAME:MST
DTSTART:20181104T080000
END:STANDARD
BEGIN:DAYLIGHT
TZOFFSETFROM:-0700
TZOFFSETTO:-0600
TZNAME:MDT
DTSTART:20190310T090000
END:DAYLIGHT
BEGIN:STANDARD
TZOFFSETFROM:-0600
TZOFFSETTO:-0700
TZNAME:MST
DTSTART:20191103T080000
END:STANDARD
END:VTIMEZONE
BEGIN:VTIMEZONE
TZID:America/Chicago
BEGIN:DAYLIGHT
TZOFFSETFROM:-0600
TZOFFSETTO:-0500
TZNAME:CDT
DTSTART:20160313T080000
END:DAYLIGHT
BEGIN:STANDARD
TZOFFSETFROM:-0500
TZOFFSETTO:-0600
TZNAME:CST
DTSTART:20161106T070000
END:STANDARD
BEGIN:DAYLIGHT
TZOFFSETFROM:-0600
TZOFFSETTO:-0500
TZNAME:CDT
DTSTART:20170312T080000
END:DAYLIGHT
BEGIN:STANDARD
TZOFFSETFROM:-0500
TZOFFSETTO:-0600
TZNAME:CST
DTSTART:20171105T070000
END:STANDARD
BEGIN:DAYLIGHT
TZOFFSETFROM:-0600
TZOFFSETTO:-0500
TZNAME:CDT
DTSTART:20180311T080000
END:DAYLIGHT
BEGIN:STANDARD
TZOFFSETFROM:-0500
TZOFFSETTO:-0600
TZNAME:CST
DTSTART:20181104T070000
END:STANDARD
END:VTIMEZONE
BEGIN:VEVENT
DTSTART;VALUE=DATE:20171028
DTEND;VALUE=DATE:20171029
DTSTAMP:20260423T040725
CREATED:20170804T201021Z
LAST-MODIFIED:20170804T201634Z
UID:10759-1509148800-1509235199@gelbvieh.org
SUMMARY:Flying H Genetics Roughage N' Ready Fall Bull Sale
DESCRIPTION:
URL:https://gelbvieh.org/event/flying-h-genetics-roughafe-n-ready-fall-bull-sale
LOCATION:Unnamed Venue\, Butler\, MO\, United States
CATEGORIES:Sales
END:VEVENT
BEGIN:VEVENT
DTSTART;TZID=America/Chicago:20171028T130000
DTEND;TZID=America/Chicago:20171028T170000
DTSTAMP:20260423T040725
CREATED:20170804T182804Z
LAST-MODIFIED:20170804T182804Z
UID:10756-1509195600-1509210000@gelbvieh.org
SUMMARY:Warner Beef Genetics - Genetic Opportunities Female Production Sale
DESCRIPTION:100+ Females Sell \n-Donor Cows \n-Bred Heifers \n-Open Show Heifer Prospects
URL:https://gelbvieh.org/event/warner-beef-genetics-genetic-opportunities-female-production-sale
LOCATION:Warner Beef Genetics\, 42198 Road 721\, Arapahoe\, NE\, 68922\, United States
CATEGORIES:Sales
END:VEVENT
BEGIN:VEVENT
DTSTART;TZID=America/Denver:20171102T110000
DTEND;TZID=America/Denver:20171102T170000
DTSTAMP:20260423T040725
CREATED:20170815T141044Z
LAST-MODIFIED:20171026T211444Z
UID:10822-1509620400-1509642000@gelbvieh.org
SUMMARY:Ridinger Cattle Company Pioneers of Progress Inaugural Production Sale
DESCRIPTION:
URL:https://gelbvieh.org/event/ridinger-cattle-company-pioneers-of-progress-inaugural-production-sale
LOCATION:Burlington Livestock Exchange\, Burlington\, CO\, United States
CATEGORIES:Sales
END:VEVENT
BEGIN:VEVENT
DTSTART;VALUE=DATE:20171104
DTEND;VALUE=DATE:20171105
DTSTAMP:20260423T040725
CREATED:20170804T201226Z
LAST-MODIFIED:20170804T201513Z
UID:10762-1509753600-1509839999@gelbvieh.org
SUMMARY:Harriman Santa Fe Top of the Breed Bull & Female Sale
DESCRIPTION:
URL:https://gelbvieh.org/event/harriman-santa-fe-top-of-the-breed-bull-female-sale
LOCATION:Unnamed Venue\, Windsor\, MO\, United States
CATEGORIES:Sales
END:VEVENT
BEGIN:VEVENT
DTSTART;VALUE=DATE:20171104
DTEND;VALUE=DATE:20171105
DTSTAMP:20260423T040725
CREATED:20170830T190211Z
LAST-MODIFIED:20170830T190211Z
UID:10911-1509753600-1509839999@gelbvieh.org
SUMMARY:TJB Gelbvieh's 6th Annual Bull Sale
DESCRIPTION:
URL:https://gelbvieh.org/event/tjb-gelbviehs-6th-annual-bull-sale
LOCATION:TJB Gelbvieh\, 455 Brotherton Lane\, Chickamauga\, GA\, 30707\, United States
CATEGORIES:Sales
END:VEVENT
BEGIN:VEVENT
DTSTART;TZID=America/Chicago:20171104T120000
DTEND;TZID=America/Chicago:20171104T170000
DTSTAMP:20260423T040725
CREATED:20170911T135250Z
LAST-MODIFIED:20170911T135250Z
UID:10965-1509796800-1509814800@gelbvieh.org
SUMMARY:B/F Cattle Company with Cleland Cattle Company Maternal Integrity Gelbvieh & Balancer BULL SALE
DESCRIPTION:B/F Cattle Company with Cleland Cattle Company Maternal Integrity Gelbvieh & Balancer® BULL SALE – Forage developed\, work ready\, athletic\, easy keeping bulls for the commercial cattleman. For information or to request a catalog\, call Brett Foster at 660.492.2808. Videos may be viewed at www.bfcattleco.com. Sale starts at 1:00 p.m.\, lunch served at 12:00 noon.
URL:https://gelbvieh.org/event/bf-cattle-company-with-cleland-cattle-company-maternal-integrity-gelbvieh-balancer-bull-sale
LOCATION:At the Farm\, 5746 NW County Rd. 13003\, Butler\, MO\, 64730\, United States
CATEGORIES:Sales
END:VEVENT
BEGIN:VEVENT
DTSTART;VALUE=DATE:20171110
DTEND;VALUE=DATE:20171111
DTSTAMP:20260423T040725
CREATED:20171019T134728Z
LAST-MODIFIED:20171019T134728Z
UID:11207-1510272000-1510358399@gelbvieh.org
SUMMARY:Data Due for Winter NCE EPD Run
DESCRIPTION:
URL:https://gelbvieh.org/event/data-due-for-winter-nce-epd-run
LOCATION:AGA Office\, 10900 Dover Street\, Westminster\, 80021\, United States
CATEGORIES:AGA Announcements
END:VEVENT
BEGIN:VEVENT
DTSTART;VALUE=DATE:20171111
DTEND;VALUE=DATE:20171112
DTSTAMP:20260423T040725
CREATED:20170804T201431Z
LAST-MODIFIED:20170804T201438Z
UID:10764-1510358400-1510444799@gelbvieh.org
SUMMARY:Eagle Pass Ranch Fall Female Sale
DESCRIPTION:
URL:https://gelbvieh.org/event/eagle-pass-ranch-fall-female-sale
LOCATION:Unnamed Venue\, Highmore\, SD\, United States
CATEGORIES:Sales
END:VEVENT
BEGIN:VEVENT
DTSTART;VALUE=DATE:20171111
DTEND;VALUE=DATE:20171112
DTSTAMP:20260423T040725
CREATED:20170804T202026Z
LAST-MODIFIED:20171101T222205Z
UID:10766-1510358400-1510444799@gelbvieh.org
SUMMARY:C-Cross Annual Fall Bull & Female Sale
DESCRIPTION:Selling 45 Gelbvieh & Balancer bulls\, over 30 are coming 2-year old bulls. 45 Gelbvieh Female Packages will sell! \n Selling a full sib to CCRO Carolina Leverage  3214A! \nClick here to view sale catalog
URL:https://gelbvieh.org/event/c-cross-annual-fall-bull-female-sale
LOCATION:At the Ranch\, 205 J-Bob Lane\, Biscoe\, NC\, 27209\, United States
CATEGORIES:Sales
ORGANIZER;CN="Duane Strider":MAILTO:ccrosscattle@yahoo.com
END:VEVENT
BEGIN:VEVENT
DTSTART;VALUE=DATE:20171111
DTEND;VALUE=DATE:20171112
DTSTAMP:20260423T040725
CREATED:20170830T185556Z
LAST-MODIFIED:20170830T185818Z
UID:10908-1510358400-1510444799@gelbvieh.org
SUMMARY:NAILE Gelbvieh and Balancer Junior Heifer Show
DESCRIPTION:The North American International Livestock Exposition (NAILE) takes place October 31-November 16\, 2017 in Louisville\, Kentucky. The Gelbvieh and Balancer junior heifer show is being held on Saturday\, November 11 and the Gelbvieh and Balancer open show is being held on Wednesday\, November 15. The entry deadline for the show is October 1. For more information\, please visit the NAILE website or contact Gelbvieh show superintendent\, Joe Piles at 502-507-3845.
URL:https://gelbvieh.org/event/north-american-international-livestock-exposition-2
LOCATION:Kentucky Exposition Center\, 937 Phillips Lane \, Louisville\, KY\, 40209\, United States
CATEGORIES:Show
END:VEVENT
BEGIN:VEVENT
DTSTART;VALUE=DATE:20171111
DTEND;VALUE=DATE:20171112
DTSTAMP:20260423T040725
CREATED:20170830T190818Z
LAST-MODIFIED:20170830T190818Z
UID:10912-1510358400-1510444799@gelbvieh.org
SUMMARY:21st Annual Heart of America Gelbvieh Association Show-Me Plus Gelbvieh and Balancer Sale
DESCRIPTION:
URL:https://gelbvieh.org/event/21st-annual-heart-of-america-gelbvieh-association-show-me-plus-gelbvieh-and-balancer-sale
LOCATION:Unnamed Venue\, Springfield \, MO\, United States
CATEGORIES:Sales
END:VEVENT
BEGIN:VEVENT
DTSTART;VALUE=DATE:20171115
DTEND;VALUE=DATE:20171116
DTSTAMP:20260423T040725
CREATED:20170804T175746Z
LAST-MODIFIED:20170804T202105Z
UID:10750-1510704000-1510790399@gelbvieh.org
SUMMARY:NAILE 2017 Breeder's Choice Gelbvieh Heifer Futurity
DESCRIPTION:Don’t miss the great opportunity to participate in the 2017 Breeder’s Choice Gelbvieh Heifer Futurity!
URL:https://gelbvieh.org/event/naile-2017-breeders-choice-gelbvieh-heifer-futurity
LOCATION:Unnamed Venue\, Louisville\, KY\, United States
CATEGORIES:Event
END:VEVENT
BEGIN:VEVENT
DTSTART;VALUE=DATE:20171115
DTEND;VALUE=DATE:20171116
DTSTAMP:20260423T040725
CREATED:20170830T185705Z
LAST-MODIFIED:20170830T185727Z
UID:10909-1510704000-1510790399@gelbvieh.org
SUMMARY:NAILE Gelbvieh and Balancer Open Show
DESCRIPTION:The North American International Livestock Exposition (NAILE) takes place October 31-November 16\, 2017 in Louisville\, Kentucky. The Gelbvieh and Balancer junior heifer show is being held on Saturday\, November 11 and the Gelbvieh and Balancer open show is being held on Wednesday\, November 15. The entry deadline for the show is October 1. For more information\, please visit the NAILE website or contact Gelbvieh show superintendent\, Joe Piles at 502-507-3845.
URL:https://gelbvieh.org/event/north-american-international-livestock-exposition-gelbvieh-and-balancer-open-show
LOCATION:Kentucky Exposition Center\, 937 Phillips Lane \, Louisville\, KY\, 40209\, United States
CATEGORIES:Show
END:VEVENT
BEGIN:VEVENT
DTSTART;VALUE=DATE:20171118
DTEND;VALUE=DATE:20171119
DTSTAMP:20260423T040725
CREATED:20170830T191104Z
LAST-MODIFIED:20170830T195248Z
UID:10914-1510963200-1511049599@gelbvieh.org
SUMMARY:Red River Bull Sale
DESCRIPTION:Warner Beef Genetics – Dan and Kate Warner \nCedar Top Ranch – Scott Starr \nMurray Farms – Andrea Murray \nFeaturing:\n· 100 Age Advantage Balancer bulls\n• Combining the best of the Gelbvieh & Angus b ee\n• Stout bulls with added calving ease\, growth & docility\n• Backed by reputable breeders with 70+ years combined bull sale experience\n• 100% gaurantee\, no questions asked
URL:https://gelbvieh.org/event/red-river-bull-sale
LOCATION:Wichita Livestock Sale Co.\, Wichita Falls\, TX\, United States
CATEGORIES:Sales
END:VEVENT
BEGIN:VEVENT
DTSTART;TZID=America/Chicago:20171118T080000
DTEND;TZID=America/Chicago:20171119T170000
DTSTAMP:20260423T040725
CREATED:20170804T202445Z
LAST-MODIFIED:20170830T185403Z
UID:10768-1510992000-1511110800@gelbvieh.org
SUMMARY:Triple K Gelbvieh Open House
DESCRIPTION:
URL:https://gelbvieh.org/event/triple-k-gelbvieh-open-house-2
LOCATION:Triple K Gelbvieh\, Basehor\, KS\, United States
CATEGORIES:Event
END:VEVENT
BEGIN:VEVENT
DTSTART;TZID=America/Denver:20171118T120000
DTEND;TZID=America/Denver:20171118T170000
DTSTAMP:20260423T040725
CREATED:20170524T170253Z
LAST-MODIFIED:20170524T170253Z
UID:10483-1511006400-1511024400@gelbvieh.org
SUMMARY:Seedstock Plus Influence Commercial Female Sale
DESCRIPTION:
URL:https://gelbvieh.org/event/seedstock-plus-influence-commercial-female-sale-2
LOCATION:Kingsville Livestock\, Kingsville\, MO\, United States
CATEGORIES:Sales
ORGANIZER;CN="Seedstock Plus":MAILTO:john@seedstockplus.com
END:VEVENT
BEGIN:VEVENT
DTSTART;TZID=America/Chicago:20171124T080000
DTEND;TZID=America/Chicago:20171124T170000
DTSTAMP:20260423T040725
CREATED:20170804T202751Z
LAST-MODIFIED:20170804T202751Z
UID:10769-1511510400-1511542800@gelbvieh.org
SUMMARY:Kansas Gelbvieh Association Annual Meeting
DESCRIPTION:
URL:https://gelbvieh.org/event/kansas-gelbvieh-association-annual-meeting-2
LOCATION:Unnamed Venue\, Salina\, KS\, United States
CATEGORIES:Event
END:VEVENT
BEGIN:VEVENT
DTSTART;VALUE=DATE:20171125
DTEND;VALUE=DATE:20171126
DTSTAMP:20260423T040725
CREATED:20171031T182506Z
LAST-MODIFIED:20171031T182506Z
UID:11251-1511568000-1511654399@gelbvieh.org
SUMMARY:Butler Creek Farm Power in the Blood II Online Elite Female and Embryo Sale
DESCRIPTION:
URL:https://gelbvieh.org/event/butler-creek-farm-power-in-the-blood-ii-online-elite-female-and-embryo-sale
LOCATION:AngusLive.com
CATEGORIES:Sales
END:VEVENT
BEGIN:VEVENT
DTSTART;TZID=America/Denver:20171125T130000
DTEND;TZID=America/Denver:20171125T170000
DTSTAMP:20260423T040725
CREATED:20170531T134132Z
LAST-MODIFIED:20170531T141308Z
UID:10509-1511614800-1511629200@gelbvieh.org
SUMMARY:Kansas Gelbvieh Association Annual Pick of the Herds Sale
DESCRIPTION:
URL:https://gelbvieh.org/event/kansas-gelbvieh-association-annual-meeting
LOCATION:Unnamed Venue\, Salina\, KS\, United States
CATEGORIES:Sales
END:VEVENT
BEGIN:VEVENT
DTSTART;VALUE=DATE:20171128
DTEND;VALUE=DATE:20171201
DTSTAMP:20260423T040725
CREATED:20171002T215558Z
LAST-MODIFIED:20171009T184516Z
UID:11062-1511827200-1512086399@gelbvieh.org
SUMMARY:Range Beef Cow Symposium XXV
DESCRIPTION:
URL:https://gelbvieh.org/event/range-beef-cow-symposium-xxv
LOCATION:Little American Hotel & Resort\, 2800 W Lincoln Way\, Cheyenne\, WY\, 82009\, United States
CATEGORIES:AGA Announcements,Event
END:VEVENT
BEGIN:VEVENT
DTSTART;VALUE=DATE:20171129
DTEND;VALUE=DATE:20171202
DTSTAMP:20260423T040725
CREATED:20171009T184317Z
LAST-MODIFIED:20171009T184317Z
UID:11096-1511913600-1512172799@gelbvieh.org
SUMMARY:Kansas Livestock Association Convention & Trade Show
DESCRIPTION:
URL:https://gelbvieh.org/event/kansas-livestock-association-convention-trade-show
LOCATION:Century II and Hyatt Regency\, 400 W Waterman\, Wichita\, KS\, 67202\, United States
CATEGORIES:AGA Announcements,Event
END:VEVENT
BEGIN:VEVENT
DTSTART;VALUE=DATE:20171202
DTEND;VALUE=DATE:20171203
DTSTAMP:20260423T040725
CREATED:20170804T203950Z
LAST-MODIFIED:20170804T203950Z
UID:10771-1512172800-1512259199@gelbvieh.org
SUMMARY:SEGA Gelbvieh & Friends Fall Female Sale
DESCRIPTION:
URL:https://gelbvieh.org/event/sega-gelbvieh-friends-fall-female-sale
LOCATION:SEGA Gelbvieh\, 16509 WCR#86  \, Pierce\, CO\,  80650\, United States
CATEGORIES:Sales
END:VEVENT
BEGIN:VEVENT
DTSTART;VALUE=DATE:20171203
DTEND;VALUE=DATE:20171204
DTSTAMP:20260423T040725
CREATED:20171102T214626Z
LAST-MODIFIED:20171102T214626Z
UID:11291-1512259200-1512345599@gelbvieh.org
SUMMARY:The Gathering
DESCRIPTION:
URL:https://gelbvieh.org/event/the-gathering
LOCATION:Olds Cow Palace\, Olds\, Alberta\, Canada
CATEGORIES:Sales
END:VEVENT
BEGIN:VEVENT
DTSTART;VALUE=DATE:20171207
DTEND;VALUE=DATE:20171210
DTSTAMP:20260423T040725
CREATED:20170804T204424Z
LAST-MODIFIED:20171009T184434Z
UID:10772-1512604800-1512863999@gelbvieh.org
SUMMARY:47th Annual AGA National Convention
DESCRIPTION:
URL:https://gelbvieh.org/event/47th-annual-aga-national-convention
LOCATION:Hyatt Regency Wichita\, 400 W Waterman St.\, Wichita\, KS\, 67202\, United States
CATEGORIES:AGA Announcements,Event
END:VEVENT
BEGIN:VEVENT
DTSTART;VALUE=DATE:20171216
DTEND;VALUE=DATE:20171217
DTSTAMP:20260423T040725
CREATED:20170804T180403Z
LAST-MODIFIED:20170830T191248Z
UID:10753-1513382400-1513468799@gelbvieh.org
SUMMARY:Boys From the South Sale Bull Sale
DESCRIPTION:Green Hills Gelbvieh and Butler Creek Farms
URL:https://gelbvieh.org/event/green-hills-gelbvieh-and-butler-creek-bull-sale
LOCATION:Unnamed Venue\, Lebanon\, TN\, United States
CATEGORIES:Sales
END:VEVENT
BEGIN:VEVENT
DTSTART;TZID=America/Denver:20171216T110000
DTEND;TZID=America/Denver:20171216T170000
DTSTAMP:20260423T040725
CREATED:20170830T191358Z
LAST-MODIFIED:20170830T205801Z
UID:10916-1513422000-1513443600@gelbvieh.org
SUMMARY:4th Annual CJ&L Livestock Bull Sale
DESCRIPTION:
URL:https://gelbvieh.org/event/4th-annual-cjl-livestock-bull-sale
LOCATION:CJ&L Livestock\, 15849 Lower Spring Creek Rd\, Hermosa\, SD\, 57744\, United States
CATEGORIES:Sales
END:VEVENT
BEGIN:VEVENT
DTSTART;VALUE=DATE:20180101
DTEND;VALUE=DATE:20180102
DTSTAMP:20260423T040725
CREATED:20170830T191450Z
LAST-MODIFIED:20170830T191450Z
UID:10917-1514764800-1514851199@gelbvieh.org
SUMMARY:AGA Office Closed for New Year's Day
DESCRIPTION:
URL:https://gelbvieh.org/event/aga-office-closed-for-new-years-day
CATEGORIES:AGA Announcements,Event
END:VEVENT
BEGIN:VEVENT
DTSTART;VALUE=DATE:20180103
DTEND;VALUE=DATE:20180104
DTSTAMP:20260423T040725
CREATED:20170830T191604Z
LAST-MODIFIED:20170830T191604Z
UID:10918-1514937600-1515023999@gelbvieh.org
SUMMARY:NWSS Cattle arrive
DESCRIPTION:
URL:https://gelbvieh.org/event/nwss-cattle-arrive
LOCATION:National Western Stock Show\, Denver\, CO\, United States
CATEGORIES:Show
END:VEVENT
BEGIN:VEVENT
DTSTART;VALUE=DATE:20180104
DTEND;VALUE=DATE:20180105
DTSTAMP:20260423T040725
CREATED:20170830T191644Z
LAST-MODIFIED:20170830T191644Z
UID:10919-1515024000-1515110399@gelbvieh.org
SUMMARY:NWSS Cattle Check-in
DESCRIPTION:
URL:https://gelbvieh.org/event/nwss-cattle-check-in
LOCATION:National Western Stock Show\, Denver\, CO\, United States
CATEGORIES:Show
END:VEVENT
BEGIN:VEVENT
DTSTART;VALUE=DATE:20180106
DTEND;VALUE=DATE:20180107
DTSTAMP:20260423T040725
CREATED:20170830T191735Z
LAST-MODIFIED:20171009T184622Z
UID:10920-1515196800-1515283199@gelbvieh.org
SUMMARY:NWSS Gelbvieh and Balancer Junior Show
DESCRIPTION:
URL:https://gelbvieh.org/event/nwss-gelbvieh-and-balancer-junior-show
LOCATION:National Western Stock Show\, Denver\, CO\, United States
CATEGORIES:AGA Announcements,Show
END:VEVENT
END:VCALENDAR