BEGIN:VCALENDAR
VERSION:2.0
PRODID:-//American Gelbvieh - ECPv6.15.20//NONSGML v1.0//EN
CALSCALE:GREGORIAN
METHOD:PUBLISH
X-ORIGINAL-URL:https://gelbvieh.org
X-WR-CALDESC:Events for American Gelbvieh
REFRESH-INTERVAL;VALUE=DURATION:PT1H
X-Robots-Tag:noindex
X-PUBLISHED-TTL:PT1H
BEGIN:VTIMEZONE
TZID:America/Kentucky/Louisville
BEGIN:DAYLIGHT
TZOFFSETFROM:-0500
TZOFFSETTO:-0400
TZNAME:EDT
DTSTART:20160313T070000
END:DAYLIGHT
BEGIN:STANDARD
TZOFFSETFROM:-0400
TZOFFSETTO:-0500
TZNAME:EST
DTSTART:20161106T060000
END:STANDARD
BEGIN:DAYLIGHT
TZOFFSETFROM:-0500
TZOFFSETTO:-0400
TZNAME:EDT
DTSTART:20170312T070000
END:DAYLIGHT
BEGIN:STANDARD
TZOFFSETFROM:-0400
TZOFFSETTO:-0500
TZNAME:EST
DTSTART:20171105T060000
END:STANDARD
BEGIN:DAYLIGHT
TZOFFSETFROM:-0500
TZOFFSETTO:-0400
TZNAME:EDT
DTSTART:20180311T070000
END:DAYLIGHT
BEGIN:STANDARD
TZOFFSETFROM:-0400
TZOFFSETTO:-0500
TZNAME:EST
DTSTART:20181104T060000
END:STANDARD
END:VTIMEZONE
BEGIN:VTIMEZONE
TZID:America/Denver
BEGIN:DAYLIGHT
TZOFFSETFROM:-0700
TZOFFSETTO:-0600
TZNAME:MDT
DTSTART:20160313T090000
END:DAYLIGHT
BEGIN:STANDARD
TZOFFSETFROM:-0600
TZOFFSETTO:-0700
TZNAME:MST
DTSTART:20161106T080000
END:STANDARD
BEGIN:DAYLIGHT
TZOFFSETFROM:-0700
TZOFFSETTO:-0600
TZNAME:MDT
DTSTART:20170312T090000
END:DAYLIGHT
BEGIN:STANDARD
TZOFFSETFROM:-0600
TZOFFSETTO:-0700
TZNAME:MST
DTSTART:20171105T080000
END:STANDARD
BEGIN:DAYLIGHT
TZOFFSETFROM:-0700
TZOFFSETTO:-0600
TZNAME:MDT
DTSTART:20180311T090000
END:DAYLIGHT
BEGIN:STANDARD
TZOFFSETFROM:-0600
TZOFFSETTO:-0700
TZNAME:MST
DTSTART:20181104T080000
END:STANDARD
END:VTIMEZONE
BEGIN:VTIMEZONE
TZID:America/Chicago
BEGIN:DAYLIGHT
TZOFFSETFROM:-0600
TZOFFSETTO:-0500
TZNAME:CDT
DTSTART:20160313T080000
END:DAYLIGHT
BEGIN:STANDARD
TZOFFSETFROM:-0500
TZOFFSETTO:-0600
TZNAME:CST
DTSTART:20161106T070000
END:STANDARD
BEGIN:DAYLIGHT
TZOFFSETFROM:-0600
TZOFFSETTO:-0500
TZNAME:CDT
DTSTART:20170312T080000
END:DAYLIGHT
BEGIN:STANDARD
TZOFFSETFROM:-0500
TZOFFSETTO:-0600
TZNAME:CST
DTSTART:20171105T070000
END:STANDARD
BEGIN:DAYLIGHT
TZOFFSETFROM:-0600
TZOFFSETTO:-0500
TZNAME:CDT
DTSTART:20180311T080000
END:DAYLIGHT
BEGIN:STANDARD
TZOFFSETFROM:-0500
TZOFFSETTO:-0600
TZNAME:CST
DTSTART:20181104T070000
END:STANDARD
END:VTIMEZONE
BEGIN:VEVENT
DTSTART;VALUE=DATE:20170303
DTEND;VALUE=DATE:20170305
DTSTAMP:20260422T163856
CREATED:20161221T202011Z
LAST-MODIFIED:20161221T202011Z
UID:9695-1488499200-1488671999@gelbvieh.org
SUMMARY:Kentucky Beef Expo
DESCRIPTION:
URL:https://gelbvieh.org/event/kentucky-beef-expo
LOCATION:Kentucky Fair and Exposition Center\, Louisville\, KY\, United States
CATEGORIES:Sales,Show
END:VEVENT
BEGIN:VEVENT
DTSTART;VALUE=DATE:20170304
DTEND;VALUE=DATE:20170305
DTSTAMP:20260422T163856
CREATED:20160613T165222Z
LAST-MODIFIED:20160613T172127Z
UID:8924-1488585600-1488671999@gelbvieh.org
SUMMARY:SEGA Gelbvieh Bull Sale
DESCRIPTION:
URL:https://gelbvieh.org/event/sega-gelbvieh-bull-sale-2
LOCATION:At the Ranch\, 16509 WCR 86\, Pierce\, CO\, 80650\, United States
CATEGORIES:Sales
ORGANIZER;CN="SEGA Gelbvieh":MAILTO:gafiolk@aol.com
END:VEVENT
BEGIN:VEVENT
DTSTART;VALUE=DATE:20170304
DTEND;VALUE=DATE:20170305
DTSTAMP:20260422T163856
CREATED:20160613T174146Z
LAST-MODIFIED:20160613T174146Z
UID:8968-1488585600-1488671999@gelbvieh.org
SUMMARY:Thorstenson Lazy TV Ranch Annual Bull Sale
DESCRIPTION:Selling 200 bulls\, Gelbvieh\, Angus\, Balancer
URL:https://gelbvieh.org/event/thorstenson-lazy-tv-ranch-annual-bull-sale
LOCATION:At the Ranch\, 12980 Cedar Road\, Selby\, SD\, United States
CATEGORIES:Sales
END:VEVENT
BEGIN:VEVENT
DTSTART;VALUE=DATE:20170304
DTEND;VALUE=DATE:20170305
DTSTAMP:20260422T163856
CREATED:20160613T174407Z
LAST-MODIFIED:20160613T174407Z
UID:8971-1488585600-1488671999@gelbvieh.org
SUMMARY:Judd Ranch3 9th Gelbvieh\, Balancer and Red Angus Bull Sale
DESCRIPTION:
URL:https://gelbvieh.org/event/judd-ranch3-9th-gelbvieh-balancer-and-red-angus-bull-sale
LOCATION:At the Ranch\, 423 Hwy K-68\, Pomona\, KS\, United States
CATEGORIES:Sales
END:VEVENT
BEGIN:VEVENT
DTSTART;VALUE=DATE:20170304
DTEND;VALUE=DATE:20170305
DTSTAMP:20260422T163856
CREATED:20160802T162849Z
LAST-MODIFIED:20170220T143028Z
UID:9079-1488585600-1488671999@gelbvieh.org
SUMMARY:Davidson Gelbvieh & Lonesome Dove Ranch 28th Annual Bull Sale
DESCRIPTION:View sale videos: \nhttps://youtu.be/U4QKjJ5qTqc?list=PLkpKvlPIFBUEPZdbtCPYEXsaWdowKBMg-
URL:https://gelbvieh.org/event/davidson-gelbvieh-lonesome-dove-ranch-28th-annual-bull-sale
LOCATION:The Bull Yards\, Ponteix\, Saskatchewan\, Canada
CATEGORIES:Sales
END:VEVENT
BEGIN:VEVENT
DTSTART;VALUE=DATE:20170304
DTEND;VALUE=DATE:20170305
DTSTAMP:20260422T163856
CREATED:20160823T210333Z
LAST-MODIFIED:20160823T211044Z
UID:9156-1488585600-1488671999@gelbvieh.org
SUMMARY:Flying H Genetics Roughage 'N Ready Bull & Female Sale
DESCRIPTION:
URL:https://gelbvieh.org/event/flying-h-genetics-roughage-n-ready-bull-female-sale-2
LOCATION:Unnamed Venue\, Arapahoe\, NE\, United States
CATEGORIES:Sales
END:VEVENT
BEGIN:VEVENT
DTSTART;TZID=America/Chicago:20170304T080000
DTEND;TZID=America/Chicago:20170304T170000
DTSTAMP:20260422T163856
CREATED:20161207T202757Z
LAST-MODIFIED:20161207T202757Z
UID:9605-1488614400-1488646800@gelbvieh.org
SUMMARY:Seedstock Plus Arkansas Bull Sale
DESCRIPTION:
URL:https://gelbvieh.org/event/seedstock-plus-arkansas-bull-sale
LOCATION:Hope Livestock Market\, Hope\, AR\, United States
CATEGORIES:Sales
END:VEVENT
BEGIN:VEVENT
DTSTART;TZID=America/Denver:20170304T120000
DTEND;TZID=America/Denver:20170304T170000
DTSTAMP:20260422T163856
CREATED:20160920T163239Z
LAST-MODIFIED:20160920T163239Z
UID:9284-1488628800-1488646800@gelbvieh.org
SUMMARY:Hilltop Farms Bull & Female Sale
DESCRIPTION:
URL:https://gelbvieh.org/event/hilltop-farms-bull-female-sale
LOCATION:Joplin Regional Stockyards\, Carthage\, MO\, United States
CATEGORIES:Sales
END:VEVENT
BEGIN:VEVENT
DTSTART;VALUE=DATE:20170306
DTEND;VALUE=DATE:20170307
DTSTAMP:20260422T163856
CREATED:20161122T180045Z
LAST-MODIFIED:20161122T183014Z
UID:9548-1488758400-1488844799@gelbvieh.org
SUMMARY:MLM Gelbvieh Private Treaty Kickoff Sale
DESCRIPTION:
URL:https://gelbvieh.org/event/mlm-gelbvieh-private-treaty-kickoff-sale
CATEGORIES:Sales
END:VEVENT
BEGIN:VEVENT
DTSTART;TZID=America/Denver:20170306T130000
DTEND;TZID=America/Denver:20170306T170000
DTSTAMP:20260422T163856
CREATED:20160816T231532Z
LAST-MODIFIED:20160816T231532Z
UID:9110-1488805200-1488819600@gelbvieh.org
SUMMARY:Hojer Ranch 25th Annual Gelbvieh & Balancer Production Sale
DESCRIPTION:
URL:https://gelbvieh.org/event/hojer-ranch-25th-annual-gelbvieh-balancer-production-sale
LOCATION:Magness Livestock\, Huron\, SD\, United States
END:VEVENT
BEGIN:VEVENT
DTSTART;VALUE=DATE:20170307
DTEND;VALUE=DATE:20170308
DTSTAMP:20260422T163856
CREATED:20161212T154116Z
LAST-MODIFIED:20161212T154116Z
UID:9635-1488844800-1488931199@gelbvieh.org
SUMMARY:Warner Beef Genetics Genetic Investment Production Sale
DESCRIPTION:
URL:https://gelbvieh.org/event/warner-beef-genetics-genetic-investment-production-sale
LOCATION:At the Ranch\, Arapahoe\, NE\, United States
CATEGORIES:Sales
END:VEVENT
BEGIN:VEVENT
DTSTART;TZID=America/Denver:20170310T180000
DTEND;TZID=America/Denver:20170310T200000
DTSTAMP:20260422T163856
CREATED:20170124T223622Z
LAST-MODIFIED:20170124T223622Z
UID:9844-1489168800-1489176000@gelbvieh.org
SUMMARY:Quest of the West Bull Sale
DESCRIPTION:
URL:https://gelbvieh.org/event/quest-of-the-west-bull-sale
LOCATION:Unnamed Venue\, Spanish Fork\, UT\, United States
CATEGORIES:Sales
END:VEVENT
BEGIN:VEVENT
DTSTART;VALUE=DATE:20170311
DTEND;VALUE=DATE:20170312
DTSTAMP:20260422T163856
CREATED:20161103T203015Z
LAST-MODIFIED:20161103T203015Z
UID:9487-1489190400-1489276799@gelbvieh.org
SUMMARY:Genetic Power Gelbvieh and Balancer Bull Sale (J Bar M Gelbvieh and J & K Gelbvieh)
DESCRIPTION:
URL:https://gelbvieh.org/event/genetic-power-gelbvieh-and-balancer-bull-sale-j-bar-m-gelbvieh-and-j-k-gelbvieh
LOCATION:Unnamed Venue\, Springfield\, MO\, United States
CATEGORIES:Sales
END:VEVENT
BEGIN:VEVENT
DTSTART;VALUE=DATE:20170311
DTEND;VALUE=DATE:20170312
DTSTAMP:20260422T163856
CREATED:20170124T223658Z
LAST-MODIFIED:20170124T223658Z
UID:9846-1489190400-1489276799@gelbvieh.org
SUMMARY:Annual Midwest Beef Alliance Bull Sale
DESCRIPTION:
URL:https://gelbvieh.org/event/annual-midwest-beef-alliance-bull-sale
CATEGORIES:Sales
END:VEVENT
BEGIN:VEVENT
DTSTART;VALUE=DATE:20170314
DTEND;VALUE=DATE:20170315
DTSTAMP:20260422T163856
CREATED:20160613T170203Z
LAST-MODIFIED:20160613T172116Z
UID:8932-1489449600-1489535999@gelbvieh.org
SUMMARY:Bar Arrow Cattle Company 27th Annual Production Sale
DESCRIPTION:
URL:https://gelbvieh.org/event/bar-arrow-cattle-company-27th-annual-production-sale
LOCATION:At the Ranch\, 26 E. Limestone Road\, Phillipsburg\, KS\, United States
CATEGORIES:Sales
ORGANIZER;CN="Bar Arrow Cattle Company - Stuart Jarvis":MAILTO:bararrow@ruraltel.net
END:VEVENT
BEGIN:VEVENT
DTSTART;VALUE=DATE:20170315
DTEND;VALUE=DATE:20170316
DTSTAMP:20260422T163856
CREATED:20160613T165923Z
LAST-MODIFIED:20160613T172103Z
UID:8930-1489536000-1489622399@gelbvieh.org
SUMMARY:Eagle Pass Ranch Spring Bull Sale
DESCRIPTION:
URL:https://gelbvieh.org/event/eagle-pass-ranch-spring-bull-sale
LOCATION:Unnamed Venue\, Highmore\, SD\, United States
CATEGORIES:Sales
END:VEVENT
BEGIN:VEVENT
DTSTART;VALUE=DATE:20170315
DTEND;VALUE=DATE:20170316
DTSTAMP:20260422T163856
CREATED:20161212T154402Z
LAST-MODIFIED:20161212T154402Z
UID:9639-1489536000-1489622399@gelbvieh.org
SUMMARY:Herd Assessment Deadline
DESCRIPTION:
URL:https://gelbvieh.org/event/herd-assessment-deadline
CATEGORIES:AGA Announcements,Event
ORGANIZER;CN="American Gelbvieh Association":MAILTO:info@gelbvieh.org
END:VEVENT
BEGIN:VEVENT
DTSTART;TZID=America/Chicago:20170315T013000
DTEND;TZID=America/Chicago:20170315T170000
DTSTAMP:20260422T163856
CREATED:20170214T170245Z
LAST-MODIFIED:20170215T142131Z
UID:9973-1489541400-1489597200@gelbvieh.org
SUMMARY:Fladeland Livestock Second Annual Bull Sale
DESCRIPTION:
URL:https://gelbvieh.org/event/fladeland-livestock-second-annual-bull-sale
LOCATION:Johnson Auction Mart\, Moose Jaw\, Saskatchewan\, Canada
CATEGORIES:Sales
END:VEVENT
BEGIN:VEVENT
DTSTART;VALUE=DATE:20170316
DTEND;VALUE=DATE:20170317
DTSTAMP:20260422T163856
CREATED:20160613T174718Z
LAST-MODIFIED:20160613T174718Z
UID:8973-1489622400-1489708799@gelbvieh.org
SUMMARY:Kicking Horse Ranch Annual Production Sale
DESCRIPTION:
URL:https://gelbvieh.org/event/kicking-horse-ranch-annual-production-sale-2
LOCATION:Western Livestock Auction\, Great Falls\, MT\, United States
CATEGORIES:Sales
ORGANIZER;CN="Kicking Horse Ranch":MAILTO:krankin@northerntel.net
END:VEVENT
BEGIN:VEVENT
DTSTART;VALUE=DATE:20170317
DTEND;VALUE=DATE:20170318
DTSTAMP:20260422T163856
CREATED:20160920T162044Z
LAST-MODIFIED:20160920T162044Z
UID:9282-1489708800-1489795199@gelbvieh.org
SUMMARY:8th Annual Southwest Iowa Gelbvieh & Balancer Bull & Female Sale
DESCRIPTION:
URL:https://gelbvieh.org/event/8th-annual-southwest-iowa-gelbvieh-balancer-bull-female-sale
LOCATION:Creston Livestock Auction\, Creston\, IA\, United States
CATEGORIES:Sales
END:VEVENT
BEGIN:VEVENT
DTSTART;VALUE=DATE:20170318
DTEND;VALUE=DATE:20170319
DTSTAMP:20260422T163856
CREATED:20160804T133527Z
LAST-MODIFIED:20170106T145305Z
UID:9088-1489795200-1489881599@gelbvieh.org
SUMMARY:Midwest Beef Cattle Consultants\, Brooks Farms\, Inc.\, Muegge Beef Cattle 14th Annual Open House and Bull Sale
DESCRIPTION:
URL:https://gelbvieh.org/event/midwest-beef-cattle-consultants-brooks-farms-inc-ertel-cattle-and-unsicker-farms-14th-annual-open-house-and-bull-sale
LOCATION:Unnamed Venue\, Carthage\, IN\, United States
CATEGORIES:Sales
END:VEVENT
BEGIN:VEVENT
DTSTART;VALUE=DATE:20170318
DTEND;VALUE=DATE:20170319
DTSTAMP:20260422T163856
CREATED:20160816T223602Z
LAST-MODIFIED:20160816T223602Z
UID:9100-1489795200-1489881599@gelbvieh.org
SUMMARY:22nd Annual Central Montana Gelbvieh and Angus Genetics Bull Sale
DESCRIPTION:
URL:https://gelbvieh.org/event/22nd-annual-central-montana-gelbvieh-and-angus-genetics-bull-sale
LOCATION:Unnamed Venue\, Lewistown\, MT\, United States
END:VEVENT
BEGIN:VEVENT
DTSTART;VALUE=DATE:20170318
DTEND;VALUE=DATE:20170319
DTSTAMP:20260422T163856
CREATED:20160823T210200Z
LAST-MODIFIED:20160823T210200Z
UID:9154-1489795200-1489881599@gelbvieh.org
SUMMARY:Flying H Genetics Grown on Grass Spring Bull Sale
DESCRIPTION:
URL:https://gelbvieh.org/event/flying-h-genetics-grown-on-grass-spring-bull-sale
LOCATION:Unnamed Venue\, Butler\, MO\, United States
CATEGORIES:Sales
END:VEVENT
BEGIN:VEVENT
DTSTART;TZID=America/Denver:20170318T133000
DTEND;TZID=America/Denver:20170318T175900
DTSTAMP:20260422T163856
CREATED:20160920T160544Z
LAST-MODIFIED:20161212T150817Z
UID:9276-1489843800-1489859940@gelbvieh.org
SUMMARY:Lone Oak Cattle Bull Sale
DESCRIPTION:
URL:https://gelbvieh.org/event/lone-oak-cattle-bull-sale
LOCATION:At the Ranch\, Mechanicsville\, IA\, United States
CATEGORIES:Sales
ORGANIZER;CN="Lone Oak Cattle":MAILTO:hornsandthorns@netins.net
END:VEVENT
BEGIN:VEVENT
DTSTART;VALUE=DATE:20170325
DTEND;VALUE=DATE:20170326
DTSTAMP:20260422T163856
CREATED:20161212T154215Z
LAST-MODIFIED:20161212T154215Z
UID:9638-1490400000-1490486399@gelbvieh.org
SUMMARY:Cranview Gelbvieh Production Sale
DESCRIPTION:
URL:https://gelbvieh.org/event/cranview-gelbvieh-production-sale
CATEGORIES:Sales
END:VEVENT
BEGIN:VEVENT
DTSTART;VALUE=DATE:20170325
DTEND;VALUE=DATE:20170326
DTSTAMP:20260422T163856
CREATED:20161221T202057Z
LAST-MODIFIED:20161221T202057Z
UID:9697-1490400000-1490486399@gelbvieh.org
SUMMARY:Bluegrass Gelbvieh Invitational
DESCRIPTION:
URL:https://gelbvieh.org/event/bluegrass-gelbvieh-invitational-3
LOCATION:Unnamed Venue\, Mt. Sterling\, KY\, United States
CATEGORIES:Sales
END:VEVENT
BEGIN:VEVENT
DTSTART;VALUE=DATE:20170325
DTEND;VALUE=DATE:20170326
DTSTAMP:20260422T163856
CREATED:20170208T150911Z
LAST-MODIFIED:20170208T150911Z
UID:9912-1490400000-1490486399@gelbvieh.org
SUMMARY:Pearson Cattle Company Annual Bull Sale
DESCRIPTION:
URL:https://gelbvieh.org/event/pearson-cattle-company-annual-bull-sale-2
LOCATION:Unnamed Venue\, Lake City\, United States
CATEGORIES:Sales
END:VEVENT
BEGIN:VEVENT
DTSTART;TZID=America/Denver:20170325T010000
DTEND;TZID=America/Denver:20170325T170000
DTSTAMP:20260422T163856
CREATED:20170317T175222Z
LAST-MODIFIED:20170317T201951Z
UID:10177-1490403600-1490461200@gelbvieh.org
SUMMARY:Wilkinson Gelbvieh Private Treaty Bull Sale Kick-Off
DESCRIPTION:
URL:https://gelbvieh.org/event/wilkinson-gelbvieh-private-treaty-bull-sale-kick-off
LOCATION:At the Ranch\, Model\, CO\, United States
CATEGORIES:Sales
ORGANIZER;CN="Wilkinson Gelbvieh":MAILTO:bnwbulls@bmi.net
END:VEVENT
BEGIN:VEVENT
DTSTART;TZID=America/Chicago:20170325T120000
DTEND;TZID=America/Chicago:20170325T170000
DTSTAMP:20260422T163856
CREATED:20161207T202339Z
LAST-MODIFIED:20161207T202339Z
UID:9604-1490443200-1490461200@gelbvieh.org
SUMMARY:Seedstock Plus South Missouri Bull Sale
DESCRIPTION:
URL:https://gelbvieh.org/event/seedstock-plus-south-missouri-bull-sale-2
LOCATION:Joplin Regional Stockyards\, Carthage\, MO\, United States
CATEGORIES:Sales
ORGANIZER;CN="Seedstock Plus":MAILTO:john@seedstockplus.com
END:VEVENT
BEGIN:VEVENT
DTSTART;TZID=America/Denver:20170325T130000
DTEND;TZID=America/Denver:20170325T170000
DTSTAMP:20260422T163856
CREATED:20160816T224646Z
LAST-MODIFIED:20160816T224646Z
UID:9107-1490446800-1490461200@gelbvieh.org
SUMMARY:Harriman Santa Fe Top of the Breed Bull Sale
DESCRIPTION:
URL:https://gelbvieh.org/event/harriman-santa-fe-top-of-the-breed-bull-sale-3
LOCATION:Windsor Livestock Auction\, 1173 MO-52\, Windsor\, MO\, 65630\, United States
END:VEVENT
END:VCALENDAR