BEGIN:VCALENDAR
VERSION:2.0
PRODID:-//American Gelbvieh - ECPv6.15.20//NONSGML v1.0//EN
CALSCALE:GREGORIAN
METHOD:PUBLISH
X-WR-CALNAME:American Gelbvieh
X-ORIGINAL-URL:https://gelbvieh.org
X-WR-CALDESC:Events for American Gelbvieh
REFRESH-INTERVAL;VALUE=DURATION:PT1H
X-Robots-Tag:noindex
X-PUBLISHED-TTL:PT1H
BEGIN:VTIMEZONE
TZID:America/Denver
BEGIN:DAYLIGHT
TZOFFSETFROM:-0700
TZOFFSETTO:-0600
TZNAME:MDT
DTSTART:20170312T090000
END:DAYLIGHT
BEGIN:STANDARD
TZOFFSETFROM:-0600
TZOFFSETTO:-0700
TZNAME:MST
DTSTART:20171105T080000
END:STANDARD
BEGIN:DAYLIGHT
TZOFFSETFROM:-0700
TZOFFSETTO:-0600
TZNAME:MDT
DTSTART:20180311T090000
END:DAYLIGHT
BEGIN:STANDARD
TZOFFSETFROM:-0600
TZOFFSETTO:-0700
TZNAME:MST
DTSTART:20181104T080000
END:STANDARD
BEGIN:DAYLIGHT
TZOFFSETFROM:-0700
TZOFFSETTO:-0600
TZNAME:MDT
DTSTART:20190310T090000
END:DAYLIGHT
BEGIN:STANDARD
TZOFFSETFROM:-0600
TZOFFSETTO:-0700
TZNAME:MST
DTSTART:20191103T080000
END:STANDARD
BEGIN:DAYLIGHT
TZOFFSETFROM:-0700
TZOFFSETTO:-0600
TZNAME:MDT
DTSTART:20200308T090000
END:DAYLIGHT
BEGIN:STANDARD
TZOFFSETFROM:-0600
TZOFFSETTO:-0700
TZNAME:MST
DTSTART:20201101T080000
END:STANDARD
END:VTIMEZONE
BEGIN:VTIMEZONE
TZID:America/Chicago
BEGIN:DAYLIGHT
TZOFFSETFROM:-0600
TZOFFSETTO:-0500
TZNAME:CDT
DTSTART:20170312T080000
END:DAYLIGHT
BEGIN:STANDARD
TZOFFSETFROM:-0500
TZOFFSETTO:-0600
TZNAME:CST
DTSTART:20171105T070000
END:STANDARD
BEGIN:DAYLIGHT
TZOFFSETFROM:-0600
TZOFFSETTO:-0500
TZNAME:CDT
DTSTART:20180311T080000
END:DAYLIGHT
BEGIN:STANDARD
TZOFFSETFROM:-0500
TZOFFSETTO:-0600
TZNAME:CST
DTSTART:20181104T070000
END:STANDARD
BEGIN:DAYLIGHT
TZOFFSETFROM:-0600
TZOFFSETTO:-0500
TZNAME:CDT
DTSTART:20190310T080000
END:DAYLIGHT
BEGIN:STANDARD
TZOFFSETFROM:-0500
TZOFFSETTO:-0600
TZNAME:CST
DTSTART:20191103T070000
END:STANDARD
END:VTIMEZONE
BEGIN:VEVENT
DTSTART;VALUE=DATE:20181027
DTEND;VALUE=DATE:20181028
DTSTAMP:20260425T044918
CREATED:20180515T154620Z
LAST-MODIFIED:20180613T193419Z
UID:12165-1540598400-1540684799@gelbvieh.org
SUMMARY:Warner Beef Genetics “Genetic Opportunities” Female Production Sale
DESCRIPTION:Arapahoe\, NE
URL:https://gelbvieh.org/event/warner-beef-genetics-fall-female-production-sale
CATEGORIES:Event,Sales
END:VEVENT
BEGIN:VEVENT
DTSTART;TZID=America/Denver:20181027T130000
DTEND;TZID=America/Denver:20181027T160000
DTSTAMP:20260425T044918
CREATED:20180912T194501Z
LAST-MODIFIED:20181018T143956Z
UID:12943-1540645200-1540656000@gelbvieh.org
SUMMARY:Flying H Genetics 'Grown on Grass' Fall Bull Sale
DESCRIPTION:
URL:https://gelbvieh.org/event/flying-h-g
LOCATION:6573 NE State Route 52\, 6573 NE State Route 52\, Butler\, MO\, 64730
CATEGORIES:Event,Sales
END:VEVENT
BEGIN:VEVENT
DTSTART;VALUE=DATE:20181103
DTEND;VALUE=DATE:20181104
DTSTAMP:20260425T044918
CREATED:20180802T134515Z
LAST-MODIFIED:20180802T134515Z
UID:12712-1541203200-1541289599@gelbvieh.org
SUMMARY:B/F Cattle Company & Cleland Cattle Company Fall Maternal Integrity Bull Sale
DESCRIPTION:
URL:https://gelbvieh.org/event/bf-cattle-company-cleland-cattle-company-fall-maternal-integrity-bull-sale
LOCATION:Butler\, MO\, 5746 NE County Rd. 13003\, Butler\, MO\, 64730
CATEGORIES:Event,Sales
END:VEVENT
BEGIN:VEVENT
DTSTART;TZID=America/Denver:20181103T080000
DTEND;TZID=America/Denver:20181103T170000
DTSTAMP:20260425T044918
CREATED:20180613T193833Z
LAST-MODIFIED:20180613T193833Z
UID:12401-1541232000-1541264400@gelbvieh.org
SUMMARY:TJB Annual Bull Sale
DESCRIPTION:
URL:https://gelbvieh.org/event/tjb-annual-bull-sale
LOCATION:Chickamauga\, GA\, Chickamauga\, GA
CATEGORIES:Event,Sales
END:VEVENT
BEGIN:VEVENT
DTSTART;TZID=America/Denver:20181103T080000
DTEND;TZID=America/Denver:20181103T170000
DTSTAMP:20260425T044918
CREATED:20180613T194056Z
LAST-MODIFIED:20180613T194056Z
UID:12404-1541232000-1541264400@gelbvieh.org
SUMMARY:Seedstock Plus RED REWARD “Fall Edition” Bull & Female Sale
DESCRIPTION:
URL:https://gelbvieh.org/event/seedstock-plus-red-reward-fall-edition-bull-female-sale
LOCATION:Humansville\, MO\, Humansville\, MO
CATEGORIES:Event,Sales
ORGANIZER;CN="Seedstock Plus":MAILTO:john@seedstockplus.com
END:VEVENT
BEGIN:VEVENT
DTSTART;TZID=America/Denver:20181103T080000
DTEND;TZID=America/Denver:20181103T170000
DTSTAMP:20260425T044918
CREATED:20180615T200532Z
LAST-MODIFIED:20180615T200532Z
UID:12483-1541232000-1541264400@gelbvieh.org
SUMMARY:Seedstock Plus Red Reward 'Fall Edition' Bull & Female Sale
DESCRIPTION:
URL:https://gelbvieh.org/event/seedstock-plus-showcase-sale-xiii-10th-annual-customer-appreciation-sale-2
LOCATION:United Producers Livestock Market\, 9805 SW 1300\, Humansville\, MO\, 65674
ORGANIZER;CN="Seedstock Plus":MAILTO:john@seedstockplus.com
END:VEVENT
BEGIN:VEVENT
DTSTART;TZID=America/Chicago:20181103T130000
DTEND;TZID=America/Chicago:20181103T170000
DTSTAMP:20260425T044918
CREATED:20180904T192217Z
LAST-MODIFIED:20180904T192630Z
UID:12904-1541250000-1541264400@gelbvieh.org
SUMMARY:B/F Cattle Company with Cleland Cattle Company Maternal Integrity Gelbvieh & Balancer® BULL SALE
DESCRIPTION:Forage developed\, work ready\, athletic\, easy keeping bulls for the commercial cattleman. For information or to request a catalog\, call Brett Foster at 660.492.2808. Videos may be viewed at www.bfcattleco.com.
URL:https://gelbvieh.org/event/bf-cattle-company-with-cleland-cattle-company-maternal-integrity-gelbvieh-balancer-bull-sale-3
LOCATION:At the Farm\, 5746 NE County Road 13003\, Butler\, MO\, United States
CATEGORIES:Sales
END:VEVENT
BEGIN:VEVENT
DTSTART;VALUE=DATE:20181110
DTEND;VALUE=DATE:20181111
DTSTAMP:20260425T044918
CREATED:20180730T200706Z
LAST-MODIFIED:20180730T200706Z
UID:12684-1541808000-1541894399@gelbvieh.org
SUMMARY:22nd Annual Heart of America Gelbvieh Association Show-Me Plus Gelbvieh & Balancer Sale
DESCRIPTION:Start Time: 12 Noon \nSell over 200 head of Gelbvieh and Balancer females.\nIncludes Justamere Ranch Mature Herd Dispersal and\nTriple K Gelbvieh Complete Herd Dispersal. \nView and bid on DVAuction. Videos available 1 week prior to sale.
URL:https://gelbvieh.org/event/22nd-annual-heart-of-america-gelbvieh-association-show-me-plus-gelbvieh-balancer-sale
LOCATION:Springfield Livestock Marketing Center\, 6821 W Independence Dr\, Springfield\, MO\, 65802\, United States
CATEGORIES:Event,Sales
END:VEVENT
BEGIN:VEVENT
DTSTART;TZID=America/Denver:20181110T080000
DTEND;TZID=America/Denver:20181115T170000
DTSTAMP:20260425T044918
CREATED:20180724T211522Z
LAST-MODIFIED:20180724T211522Z
UID:12664-1541836800-1542301200@gelbvieh.org
SUMMARY:North American International Livestock Exposition\, Louisville\, Kentucky
DESCRIPTION:Superintendent: John Chism\nEntry deadline: October 1\, 2018\nVisit show website for complete details \nJunior Heifer Show\nSaturday\, November 10\, 2018 – Shows start at 8:00 a.m. (ET) \nOpen Show\nThursday\, November 15\, 2018 @ 8:00 a.m. (ET)
URL:https://gelbvieh.org/event/north-american-international-livestock-exposition-louisville-kentucky
CATEGORIES:Event,Show
END:VEVENT
BEGIN:VEVENT
DTSTART;TZID=America/Denver:20181110T123000
DTEND;TZID=America/Denver:20181110T170000
DTSTAMP:20260425T044918
CREATED:20180823T143712Z
LAST-MODIFIED:20181106T200130Z
UID:12776-1541853000-1541869200@gelbvieh.org
SUMMARY:C-CROSS CATTLE COMPANY Top 100 Bull & Female Production Sale
DESCRIPTION:
URL:https://gelbvieh.org/event/c-cross-cattle-company-top-100-bull-female-production-sale
LOCATION:Stanly County Livestock\, 13215 Indian Mound Rd\, Norwood\, N.C.
CATEGORIES:Event,Sales
END:VEVENT
BEGIN:VEVENT
DTSTART;VALUE=DATE:20181117
DTEND;VALUE=DATE:20181118
DTSTAMP:20260425T044918
CREATED:20180515T154837Z
LAST-MODIFIED:20180515T154837Z
UID:12167-1542412800-1542499199@gelbvieh.org
SUMMARY:Red River Bull Sale
DESCRIPTION:Wichita Falls\, TX
URL:https://gelbvieh.org/event/red-river-bull-sale-2
CATEGORIES:Sales
END:VEVENT
BEGIN:VEVENT
DTSTART;TZID=America/Denver:20181117T080000
DTEND;TZID=America/Denver:20181118T170000
DTSTAMP:20260425T044918
CREATED:20180613T194439Z
LAST-MODIFIED:20180613T194439Z
UID:12407-1542441600-1542560400@gelbvieh.org
SUMMARY:Triple K Gelbvieh Open House
DESCRIPTION:
URL:https://gelbvieh.org/event/triple-k-gelbvieh-open-house-3
LOCATION:Basehor\, KS\, Basehor\, KS
CATEGORIES:Event,Sales
END:VEVENT
BEGIN:VEVENT
DTSTART;VALUE=DATE:20181124
DTEND;VALUE=DATE:20181125
DTSTAMP:20260425T044918
CREATED:20181114T175840Z
LAST-MODIFIED:20181114T175910Z
UID:13340-1543017600-1543103999@gelbvieh.org
SUMMARY:Kansas Gelbvieh Association Pick of the Herd
DESCRIPTION:Videos\nhttps://www.youtube.com/watch?v=7WSgLl-HOsM&list=PLsviWaUMnt0XW0BjiuEWG2pYAX9CTbV6P \nSale Catalog \n\n 
URL:https://gelbvieh.org/event/kansas-gelbvieh-association-pick-of-the-herd
LOCATION:Salina\, Kansas\, Salina\, KS
CATEGORIES:Event,Sales
END:VEVENT
BEGIN:VEVENT
DTSTART;TZID=America/Denver:20181128T080000
DTEND;TZID=America/Denver:20181130T170000
DTSTAMP:20260425T044918
CREATED:20180613T195010Z
LAST-MODIFIED:20180613T195010Z
UID:12410-1543392000-1543597200@gelbvieh.org
SUMMARY:48th Annual AGA National Convention
DESCRIPTION:Join us in legendary Nashville\, Tennessee for the 48th Annual AGA National Convention\, November 28-30\, 2018. This is a unique\, fun environment for AGA members to come together to network\, participate in committee meetings\, the annual meeting\, and take part in the 4th Annual Cattlemen’s Profit Roundup. Registration opens July 20\, 2018.
URL:https://gelbvieh.org/event/48th-annual-aga-national-convention
LOCATION:Nashville Airport Marriott\, 600 Marriott Dr\, Nashville\, TN\, 37214
CATEGORIES:AGA Announcements,Event
ORGANIZER;CN="American Gelbvieh Association":MAILTO:info@gelbvieh.org
END:VEVENT
BEGIN:VEVENT
DTSTART;TZID=America/Denver:20181130T080000
DTEND;TZID=America/Denver:20181130T170000
DTSTAMP:20260425T044918
CREATED:20180613T195132Z
LAST-MODIFIED:20180613T195132Z
UID:12413-1543564800-1543597200@gelbvieh.org
SUMMARY:Knoll Crest Farm Total Performance Bull Sale
DESCRIPTION:
URL:https://gelbvieh.org/event/knoll-crest-farm-total-performance-bull-sale
LOCATION:Red House\, VA\, Red House\, VA
CATEGORIES:Event,Sales
ORGANIZER;CN="Knoll Crest Farm":MAILTO:knollcrest@hughesnet.com
END:VEVENT
BEGIN:VEVENT
DTSTART;TZID=America/Denver:20181201T080000
DTEND;TZID=America/Denver:20181201T170000
DTSTAMP:20260425T044918
CREATED:20180613T195429Z
LAST-MODIFIED:20180613T195429Z
UID:12416-1543651200-1543683600@gelbvieh.org
SUMMARY:SEGA Gelbvieh & Friends Fall Female Sale
DESCRIPTION:
URL:https://gelbvieh.org/event/sega-gelbvieh-friends-fall-female-sale-2
LOCATION:Pierce\, CO\, Pierce\, CO
CATEGORIES:Event,Sales
END:VEVENT
BEGIN:VEVENT
DTSTART;VALUE=DATE:20181203
DTEND;VALUE=DATE:20181204
DTSTAMP:20260425T044918
CREATED:20180925T145454Z
LAST-MODIFIED:20180925T145454Z
UID:13022-1543795200-1543881599@gelbvieh.org
SUMMARY:Taubenheim Gelbvieh Elite 11 Female Sale
DESCRIPTION:
URL:https://gelbvieh.org/event/taubenheim-gelbvieh-elite-11-female-sale
CATEGORIES:Event,Sales
END:VEVENT
BEGIN:VEVENT
DTSTART;TZID=America/Denver:20181215T080000
DTEND;TZID=America/Denver:20181215T170000
DTSTAMP:20260425T044918
CREATED:20180613T195554Z
LAST-MODIFIED:20180907T155929Z
UID:12419-1544860800-1544893200@gelbvieh.org
SUMMARY:CJ&L Livestock 5th Annual Bull Sale
DESCRIPTION:
URL:https://gelbvieh.org/event/cjl-livestock-5th-annual-bull-sale
LOCATION:Hermosa\, SD\, Hermosa\, SD
CATEGORIES:Event,Sales
END:VEVENT
BEGIN:VEVENT
DTSTART;TZID=America/Denver:20181224T073000
DTEND;TZID=America/Denver:20181226T170000
DTSTAMP:20260425T044918
CREATED:20181221T224113Z
LAST-MODIFIED:20181221T224113Z
UID:13522-1545636600-1545843600@gelbvieh.org
SUMMARY:AGA Office Closed for Christmas
DESCRIPTION:
URL:https://gelbvieh.org/event/aga-office-closed-christmas
CATEGORIES:AGA Announcements,Event
END:VEVENT
BEGIN:VEVENT
DTSTART;TZID=America/Denver:20190101T073000
DTEND;TZID=America/Denver:20190101T160000
DTSTAMP:20260425T044918
CREATED:20181221T224148Z
LAST-MODIFIED:20181221T224148Z
UID:13524-1546327800-1546358400@gelbvieh.org
SUMMARY:AGA Office Closed for New Year's Day
DESCRIPTION:
URL:https://gelbvieh.org/event/aga-office-closed-new-years-day
CATEGORIES:AGA Announcements,Event
END:VEVENT
BEGIN:VEVENT
DTSTART;TZID=America/Denver:20190110T073000
DTEND;TZID=America/Denver:20190110T160000
DTSTAMP:20260425T044918
CREATED:20181221T224224Z
LAST-MODIFIED:20181221T224224Z
UID:13526-1547105400-1547136000@gelbvieh.org
SUMMARY:AGA Office Closed for NWSS Gelbvieh Events
DESCRIPTION:
URL:https://gelbvieh.org/event/aga-office-closed-nwss-gelbvieh-events
CATEGORIES:AGA Announcements,Event
END:VEVENT
BEGIN:VEVENT
DTSTART;TZID=America/Denver:20190113T180000
DTEND;TZID=America/Denver:20190113T200000
DTSTAMP:20260425T044918
CREATED:20181219T214917Z
LAST-MODIFIED:20181219T214917Z
UID:13467-1547402400-1547409600@gelbvieh.org
SUMMARY:Gelbvieh and Balancer National Sale
DESCRIPTION:The Gelbvieh and Balancer National Sale will be held at the Beef Palace Arena located on the Hill at the NWSS grounds on Sunday\, January 13. For more information contact National Sale Manager Keith Kissee at 817-821-6263 or visit Keith’s website at www.kkseedstock.com
URL:https://gelbvieh.org/event/gelbvieh-balancer-national-sale
CATEGORIES:Event,Sales
END:VEVENT
BEGIN:VEVENT
DTSTART;TZID=America/Denver:20190114T073000
DTEND;TZID=America/Denver:20190114T160000
DTSTAMP:20260425T044918
CREATED:20181221T224358Z
LAST-MODIFIED:20181221T224358Z
UID:13529-1547451000-1547481600@gelbvieh.org
SUMMARY:AGA Office Closed for NWSS Gelbvieh Events
DESCRIPTION:
URL:https://gelbvieh.org/event/aga-office-closed-nwss-gelbvieh-events-2
CATEGORIES:AGA Announcements,Event
END:VEVENT
BEGIN:VEVENT
DTSTART;TZID=America/Denver:20190126T160000
DTEND;TZID=America/Denver:20190126T173000
DTSTAMP:20260425T044918
CREATED:20181211T184010Z
LAST-MODIFIED:20181220T181405Z
UID:13405-1548518400-1548523800@gelbvieh.org
SUMMARY:Zimmerman Ranch / Wohl Farms Production Sale
DESCRIPTION:Contacts:\nJohn Wohl 701-673-4644 jjjwohl@yahoo.com\nBrad Zimmerman 701-400-8297 zimmfg@bektel.com
URL:https://gelbvieh.org/event/zimmerman-ranch-wohl-farms-production-sale
LOCATION:Pifer’s Auction Center\, 510 7th St NW\, Steele\, ND\, 58482
CATEGORIES:Event,Sales
END:VEVENT
BEGIN:VEVENT
DTSTART;TZID=America/Denver:20190126T183000
DTEND;TZID=America/Denver:20190126T200000
DTSTAMP:20260425T044918
CREATED:20181214T202838Z
LAST-MODIFIED:20181214T202838Z
UID:13448-1548527400-1548532800@gelbvieh.org
SUMMARY:ND Gelbvieh Association Annual Meeting 6:30
DESCRIPTION:bdockter10@hotmail.com
URL:https://gelbvieh.org/event/nd-gelbvieh-association-annual-meeting-630
CATEGORIES:Event
END:VEVENT
BEGIN:VEVENT
DTSTART;TZID=America/Denver:20190127T170000
DTEND;TZID=America/Denver:20190127T190000
DTSTAMP:20260425T044918
CREATED:20181214T204223Z
LAST-MODIFIED:20181214T204223Z
UID:13450-1548608400-1548615600@gelbvieh.org
SUMMARY:ND Gelbvieh Association’s Gelbvieh Conference 5:00
DESCRIPTION:Bailey March\nbdockter10@hotmail.com
URL:https://gelbvieh.org/event/nd-gelbvieh-associations-gelbvieh-conference-500
CATEGORIES:Event
END:VEVENT
BEGIN:VEVENT
DTSTART;TZID=America/Denver:20190127T190000
DTEND;TZID=America/Denver:20190127T210000
DTSTAMP:20260425T044918
CREATED:20181214T204313Z
LAST-MODIFIED:20181214T204313Z
UID:13452-1548615600-1548622800@gelbvieh.org
SUMMARY:ND Golden Rule Sale (video sale) at the Baymont Hotel\, Mandan ND 7:00
DESCRIPTION:Bailey March\nbdockter10@hotmail.com
URL:https://gelbvieh.org/event/nd-golden-rule-sale-video-sale-baymont-hotel-mandan-nd-700
LOCATION:Mandan\, ND\, Mandan\, ND
CATEGORIES:Event
END:VEVENT
BEGIN:VEVENT
DTSTART;TZID=America/Denver:20190130T080000
DTEND;TZID=America/Denver:20190201T170000
DTSTAMP:20260425T044918
CREATED:20190122T222428Z
LAST-MODIFIED:20190122T222428Z
UID:13639-1548835200-1549040400@gelbvieh.org
SUMMARY:National Cattlemen’s Beef Association’s (NCBA) Cattle Industry Convention and NCBA Trade Show
DESCRIPTION:Be sure to stop and visit the AGA in booth #2557 if you are attending the National Cattlemen’s Beef Association’s (NCBA) Cattle Industry Convention and NCBA Trade Show\, January 30-February 1 in New Orleans\, Louisiana. The AGA will once again be teaming up with the American Simmental Association and the North American Limousin Foundation to host a joint multi-breed booth.
URL:https://gelbvieh.org/event/national-cattlemens-beef-associations-ncba-cattle-industry-convention-ncba-trade-show
LOCATION:New Orleans\, LA\, New Orleans\, Louisiana
CATEGORIES:AGA Announcements,Event
END:VEVENT
BEGIN:VEVENT
DTSTART;VALUE=DATE:20190131
DTEND;VALUE=DATE:20190201
DTSTAMP:20260425T044918
CREATED:20180907T160521Z
LAST-MODIFIED:20190122T164240Z
UID:12917-1548892800-1548979199@gelbvieh.org
SUMMARY:Black Hills Stock Show Gelbvieh/Balancer Show & Sale
DESCRIPTION:View 2019 Black Hills Stock Show Gelbvieh & Balancer Show and Sale Supplemental Catalog here https://issuu.com/ddmarti/docs/2019_bhss_catalog
URL:https://gelbvieh.org/event/black-hills-stock-show-gelbviehbalancer-show-sale
LOCATION:Rapid City\, SD\, Rapid City\, SD\, United States
CATEGORIES:Event,Sales
END:VEVENT
BEGIN:VEVENT
DTSTART;TZID=America/Denver:20190204T080000
DTEND;TZID=America/Denver:20190204T170000
DTSTAMP:20260425T044918
CREATED:20180613T195908Z
LAST-MODIFIED:20180613T195908Z
UID:12425-1549267200-1549299600@gelbvieh.org
SUMMARY:Taubenheim Gelbvieh 29th Annual Production Sale
DESCRIPTION:
URL:https://gelbvieh.org/event/taubenheim-gelbvieh-29th-annual-production-sale
LOCATION:Amherst\, NE\, AMHERST\, NE
CATEGORIES:Event,Sales
END:VEVENT
END:VCALENDAR