BEGIN:VCALENDAR
VERSION:2.0
PRODID:-//American Gelbvieh - ECPv6.15.20//NONSGML v1.0//EN
CALSCALE:GREGORIAN
METHOD:PUBLISH
X-ORIGINAL-URL:https://gelbvieh.org
X-WR-CALDESC:Events for American Gelbvieh
REFRESH-INTERVAL;VALUE=DURATION:PT1H
X-Robots-Tag:noindex
X-PUBLISHED-TTL:PT1H
BEGIN:VTIMEZONE
TZID:America/Denver
BEGIN:DAYLIGHT
TZOFFSETFROM:-0700
TZOFFSETTO:-0600
TZNAME:MDT
DTSTART:20180311T090000
END:DAYLIGHT
BEGIN:STANDARD
TZOFFSETFROM:-0600
TZOFFSETTO:-0700
TZNAME:MST
DTSTART:20181104T080000
END:STANDARD
BEGIN:DAYLIGHT
TZOFFSETFROM:-0700
TZOFFSETTO:-0600
TZNAME:MDT
DTSTART:20190310T090000
END:DAYLIGHT
BEGIN:STANDARD
TZOFFSETFROM:-0600
TZOFFSETTO:-0700
TZNAME:MST
DTSTART:20191103T080000
END:STANDARD
BEGIN:DAYLIGHT
TZOFFSETFROM:-0700
TZOFFSETTO:-0600
TZNAME:MDT
DTSTART:20200308T090000
END:DAYLIGHT
BEGIN:STANDARD
TZOFFSETFROM:-0600
TZOFFSETTO:-0700
TZNAME:MST
DTSTART:20201101T080000
END:STANDARD
END:VTIMEZONE
BEGIN:VTIMEZONE
TZID:America/Chicago
BEGIN:DAYLIGHT
TZOFFSETFROM:-0600
TZOFFSETTO:-0500
TZNAME:CDT
DTSTART:20180311T080000
END:DAYLIGHT
BEGIN:STANDARD
TZOFFSETFROM:-0500
TZOFFSETTO:-0600
TZNAME:CST
DTSTART:20181104T070000
END:STANDARD
BEGIN:DAYLIGHT
TZOFFSETFROM:-0600
TZOFFSETTO:-0500
TZNAME:CDT
DTSTART:20190310T080000
END:DAYLIGHT
BEGIN:STANDARD
TZOFFSETFROM:-0500
TZOFFSETTO:-0600
TZNAME:CST
DTSTART:20191103T070000
END:STANDARD
BEGIN:DAYLIGHT
TZOFFSETFROM:-0600
TZOFFSETTO:-0500
TZNAME:CDT
DTSTART:20200308T080000
END:DAYLIGHT
BEGIN:STANDARD
TZOFFSETFROM:-0500
TZOFFSETTO:-0600
TZNAME:CST
DTSTART:20201101T070000
END:STANDARD
END:VTIMEZONE
BEGIN:VEVENT
DTSTART;TZID=America/Denver:20190302T080000
DTEND;TZID=America/Denver:20190302T170000
DTSTAMP:20260425T104724
CREATED:20180615T202002Z
LAST-MODIFIED:20180615T202002Z
UID:12489-1551513600-1551546000@gelbvieh.org
SUMMARY:Seedstock Plus Arkansas Bull & Female Sale
DESCRIPTION:
URL:https://gelbvieh.org/event/seedstock-plus-arkansas-bull-female-sale
LOCATION:Hope Livestock Auction\, 2105 W 3rd St\, Hope\, AR\, 71801
CATEGORIES:Event,Sales
ORGANIZER;CN="Seedstock Plus":MAILTO:john@seedstockplus.com
END:VEVENT
BEGIN:VEVENT
DTSTART;VALUE=DATE:20190304
DTEND;VALUE=DATE:20190305
DTSTAMP:20260425T104724
CREATED:20180813T205354Z
LAST-MODIFIED:20180813T205431Z
UID:12745-1551657600-1551743999@gelbvieh.org
SUMMARY:Hojer Ranch 27th Annual Gelbvieh & Balancer Production Sale
DESCRIPTION:
URL:https://gelbvieh.org/event/hojer-ranch-27th-annual-gelbvieh-balancer-production-sale
LOCATION:Huron\, SD\, Huron\, SD
CATEGORIES:Event,Sales
ORGANIZER;CN="Hojer Gelbvieh & Balancer Ranch":MAILTO:hojer@hojerranch.com
END:VEVENT
BEGIN:VEVENT
DTSTART;VALUE=DATE:20190304
DTEND;VALUE=DATE:20190305
DTSTAMP:20260425T104724
CREATED:20180910T134021Z
LAST-MODIFIED:20180910T134021Z
UID:12925-1551657600-1551743999@gelbvieh.org
SUMMARY:MLM Gelbvieh Open House and Private Treaty Kickoff Sale
DESCRIPTION:
URL:https://gelbvieh.org/event/mlm-gelbvieh-open-house-and-private-treaty-kickoff-sale
LOCATION:At the Ranch\, Superior\, Nebraska
CATEGORIES:Event,Sales
END:VEVENT
BEGIN:VEVENT
DTSTART;VALUE=DATE:20190305
DTEND;VALUE=DATE:20190306
DTSTAMP:20260425T104724
CREATED:20180515T154954Z
LAST-MODIFIED:20180613T201445Z
UID:12169-1551744000-1551830399@gelbvieh.org
SUMMARY:Warner Beef Genetics “Genetic Investment“ Bull Sale
DESCRIPTION:Arapahoe\, NE
URL:https://gelbvieh.org/event/warner-beef-genetics-nebraska-bull-sale
LOCATION:MO
CATEGORIES:Sales
END:VEVENT
BEGIN:VEVENT
DTSTART;TZID=America/Denver:20190309T080000
DTEND;TZID=America/Denver:20190309T170000
DTSTAMP:20260425T104724
CREATED:20180613T202029Z
LAST-MODIFIED:20180613T202029Z
UID:12454-1552118400-1552150800@gelbvieh.org
SUMMARY:Genetic Power Bull Sale
DESCRIPTION:
URL:https://gelbvieh.org/event/genetic-power-bull-sale-2
LOCATION:Springfield\, MO\, Springfield\, MO
CATEGORIES:Event,Sales
END:VEVENT
BEGIN:VEVENT
DTSTART;TZID=America/Denver:20190309T120000
DTEND;TZID=America/Denver:20190309T170000
DTSTAMP:20260425T104724
CREATED:20180615T202105Z
LAST-MODIFIED:20190122T160720Z
UID:12492-1552132800-1552150800@gelbvieh.org
SUMMARY:Seedstock Plus Red Reward Bull & Female Sale
DESCRIPTION:
URL:https://gelbvieh.org/event/seedstock-plus-red-reward-bull-female-sale
LOCATION:Wheeler Livestock Auction\, Osceola\, MO
CATEGORIES:Event,Sales
ORGANIZER;CN="Seedstock Plus":MAILTO:john@seedstockplus.com
END:VEVENT
BEGIN:VEVENT
DTSTART;TZID=America/Denver:20190312T080000
DTEND;TZID=America/Denver:20190312T170000
DTSTAMP:20260425T104724
CREATED:20180613T202149Z
LAST-MODIFIED:20180613T202149Z
UID:12457-1552377600-1552410000@gelbvieh.org
SUMMARY:Bar Arrow Cattle Company 29th Annual Production Sale
DESCRIPTION:
URL:https://gelbvieh.org/event/bar-arrow-cattle-company-29th-annual-production-sale
LOCATION:Phillipsburg\, KS\, Phillipsburg\, KS
CATEGORIES:Event,Sales
ORGANIZER;CN="Bar Arrow Cattle Company - Stuart Jarvis":MAILTO:bararrow@ruraltel.net
END:VEVENT
BEGIN:VEVENT
DTSTART;TZID=America/Denver:20190313T080000
DTEND;TZID=America/Denver:20190313T170000
DTSTAMP:20260425T104724
CREATED:20190208T180922Z
LAST-MODIFIED:20190208T180922Z
UID:13751-1552464000-1552496400@gelbvieh.org
SUMMARY:Fladeland Livestock Fourth Annual Bull Sale
DESCRIPTION:March 13\, 2019\, Moose Jaw\, SK\, Canada \nClicke here to view sale catalog: https://issuu.com/ddmarti/docs/fladeland_2019_bull_sale \n 
URL:https://gelbvieh.org/event/fladeland-livestock-fourth-annual-bull-sale
LOCATION:Johnstone Auction Mart\, Moose Jaw\, Saskatchewan\, Canada
CATEGORIES:Event,Sales
END:VEVENT
BEGIN:VEVENT
DTSTART;VALUE=DATE:20190316
DTEND;VALUE=DATE:20190317
DTSTAMP:20260425T104724
CREATED:20180912T195053Z
LAST-MODIFIED:20180912T195053Z
UID:12948-1552694400-1552780799@gelbvieh.org
SUMMARY:Flying H Genetics 22nd Grown on Fescue Grass Bull & Bred Heifer Sale
DESCRIPTION:
URL:https://gelbvieh.org/event/flying-h-genetics-22nd-grown-on-fescue-grass-bull-bred-heifer-sale
LOCATION:Butler\, MO\, 5746 NE County Rd. 13003\, Butler\, MO\, 64730
CATEGORIES:Event,Sales
END:VEVENT
BEGIN:VEVENT
DTSTART;VALUE=DATE:20190316
DTEND;VALUE=DATE:20190317
DTSTAMP:20260425T104724
CREATED:20181113T163117Z
LAST-MODIFIED:20181113T163355Z
UID:13332-1552694400-1552780799@gelbvieh.org
SUMMARY:16th Annual Open House and Bull and Female Sale
DESCRIPTION:March 16\, 2019 \nMidwest Beef Cattle Consultants\, M5 Ag\, Brooks Farms\, Inc.\, DJ Weimer and Ertel Cattle Company; 16th Annual Open House and Bull and Female Sale\, Carthage\, IN
URL:https://gelbvieh.org/event/16th-annual-open-house-and-bull-and-female-sale
LOCATION:Carthage\, MO\, Carthage\, MO
CATEGORIES:Event,Sales
END:VEVENT
BEGIN:VEVENT
DTSTART;TZID=America/Denver:20190316T133000
DTEND;TZID=America/Denver:20190316T170000
DTSTAMP:20260425T104724
CREATED:20180815T153943Z
LAST-MODIFIED:20180815T153943Z
UID:12748-1552743000-1552755600@gelbvieh.org
SUMMARY:Lone Oak Cattle Annual Production Sale
DESCRIPTION:
URL:https://gelbvieh.org/event/lone-oak-cattle-annual-production-sale
LOCATION:Lone Oak Cattle\, 20963 30th Street\, Mechanicsville\, Iowa\, 52306
CATEGORIES:Event,Sales
END:VEVENT
BEGIN:VEVENT
DTSTART;TZID=America/Denver:20190321T080000
DTEND;TZID=America/Denver:20190321T170000
DTSTAMP:20260425T104724
CREATED:20180613T202352Z
LAST-MODIFIED:20180613T202352Z
UID:12460-1553155200-1553187600@gelbvieh.org
SUMMARY:Kicking Horse Ranch Annual Production Sale
DESCRIPTION:
URL:https://gelbvieh.org/event/kicking-horse-ranch-annual-production-sale-4
LOCATION:Great Falls\, MT\, Great Falls\, MT
CATEGORIES:Event,Sales
ORGANIZER;CN="Kicking Horse Ranch":MAILTO:krankin@northerntel.net
END:VEVENT
BEGIN:VEVENT
DTSTART;TZID=America/Denver:20190323T080000
DTEND;TZID=America/Denver:20190323T170000
DTSTAMP:20260425T104724
CREATED:20180615T202239Z
LAST-MODIFIED:20180615T202239Z
UID:12494-1553328000-1553360400@gelbvieh.org
SUMMARY:Seedstock Plus South Missouri Bull Sale
DESCRIPTION:
URL:https://gelbvieh.org/event/seedstock-plus-south-missouri-bull-sale-4
LOCATION:Joplin Regional Stockyards\, Carthage\, MO\, United States
CATEGORIES:Event,Sales
ORGANIZER;CN="Seedstock Plus":MAILTO:john@seedstockplus.com
END:VEVENT
BEGIN:VEVENT
DTSTART;TZID=America/Denver:20190324T080000
DTEND;TZID=America/Denver:20190324T170000
DTSTAMP:20260425T104724
CREATED:20180613T202518Z
LAST-MODIFIED:20190130T160310Z
UID:12463-1553414400-1553446800@gelbvieh.org
SUMMARY:Cranview Gelbvieh 14th Annual Genetic Progress Sale
DESCRIPTION:We will be selling 50+ bulls that include progeny from Jackpot 7551B\, one of the top carcass PB bulls in the breed\, and approximately 25 yearling heifers.  A third of the offering will be PB and all of the animals are parent verified.  All of the animals have been tested for homo polled and homo black.
URL:https://gelbvieh.org/event/cranview-gelbvieh-14th-annual-genetic-progress-sale
LOCATION:Rugby\, ND\, Rugby\, ND
CATEGORIES:Event,Sales
END:VEVENT
BEGIN:VEVENT
DTSTART;VALUE=DATE:20190330
DTEND;VALUE=DATE:20190331
DTSTAMP:20260425T104724
CREATED:20180912T194749Z
LAST-MODIFIED:20190228T203347Z
UID:12945-1553904000-1553990399@gelbvieh.org
SUMMARY:SALE POSTPONED - NEW SALE DATE! Flying H Genetics 39th Annual Roughage N’ Ready Herd Bull Sale
DESCRIPTION:
URL:https://gelbvieh.org/event/flying-h-genetics-39th-annual-roughage-n-ready-herd-bull-sale
LOCATION:Arapahoe\, NE\, Arapahoe\, NE
CATEGORIES:Event,Sales
END:VEVENT
BEGIN:VEVENT
DTSTART;VALUE=DATE:20190330
DTEND;VALUE=DATE:20190331
DTSTAMP:20260425T104724
CREATED:20181114T211922Z
LAST-MODIFIED:20181114T211922Z
UID:13343-1553904000-1553990399@gelbvieh.org
SUMMARY:Bluegrass Gelbvieh Invitational
DESCRIPTION:
URL:https://gelbvieh.org/event/bluegrass-gelbvieh-invitational-4
LOCATION:Mt. Sterling\, KY\, Mt. Sterling\, KY
CATEGORIES:Event,Sales
END:VEVENT
BEGIN:VEVENT
DTSTART;VALUE=DATE:20190406
DTEND;VALUE=DATE:20190407
DTSTAMP:20260425T104724
CREATED:20190307T202037Z
LAST-MODIFIED:20190307T202037Z
UID:13976-1554508800-1554595199@gelbvieh.org
SUMMARY:Circle S Ranch Annual Going to Grass Sale
DESCRIPTION:
URL:https://gelbvieh.org/event/circle-s-ranch-annual-going-to-grass-sale
LOCATION:At the Ranch\, Canton\, KS\, United States
CATEGORIES:Sales
ORGANIZER;CN="Circle S Ranch":MAILTO:circle_s@hometelco.net
END:VEVENT
BEGIN:VEVENT
DTSTART;TZID=America/Denver:20190406T130000
DTEND;TZID=America/Denver:20190406T170000
DTSTAMP:20260425T104724
CREATED:20190128T214941Z
LAST-MODIFIED:20190128T214941Z
UID:13672-1554555600-1554570000@gelbvieh.org
SUMMARY:B/F Cattle Company with Cleland Cattle Company Maternal Integrity Gelbvieh & Balancer® BULL SALE
DESCRIPTION:B/F Cattle Company with Cleland Cattle Company Maternal Integrity Gelbvieh & Balancer® BULL SALE – Forage developed\, work ready\, athletic\, easy keeping bulls for the commercial cattleman. For information or to request a catalog\, call Brett Foster at 660.492.2808. Videos may be viewed at www.bfcattleco.com. \nTime: \n1:00 pm  \n(lunch served at noon)
URL:https://gelbvieh.org/event/b-f-cattle-company-cleland-cattle-company-maternal-integrity-gelbvieh-balancer-bull-sale
LOCATION:At the Farm\, 5746 NE County Rd. 13003\, Butler\, MO\, 64730
CATEGORIES:Event,Sales
END:VEVENT
BEGIN:VEVENT
DTSTART;VALUE=DATE:20190407
DTEND;VALUE=DATE:20190408
DTSTAMP:20260425T104724
CREATED:20190325T174732Z
LAST-MODIFIED:20190325T175057Z
UID:14050-1554595200-1554681599@gelbvieh.org
SUMMARY:TJB Gelbvieh & Balancer Online Embryo Sale
DESCRIPTION:TJB Gelbvieh & Balancer Online Embryo Sale
URL:https://gelbvieh.org/event/14050
LOCATION:Online
CATEGORIES:Sales
END:VEVENT
BEGIN:VEVENT
DTSTART;VALUE=DATE:20190413
DTEND;VALUE=DATE:20190414
DTSTAMP:20260425T104724
CREATED:20190315T204847Z
LAST-MODIFIED:20190315T204847Z
UID:14024-1555113600-1555199999@gelbvieh.org
SUMMARY:Bar T Bar Annual Bull Sale
DESCRIPTION:Selling 235 Balancer\, Southern Balancer\, Hybrid\, Angus & Gelbvieh Bulls.
URL:https://gelbvieh.org/event/bar-t-bar-annual-bull-sale
LOCATION:Crater Ranch Headquarters\, AZ\, United States
CATEGORIES:Sales
ORGANIZER;CN="Bar T Bar Ranch":MAILTO:info@bartbar.com
END:VEVENT
BEGIN:VEVENT
DTSTART;TZID=America/Denver:20190417T140000
DTEND;TZID=America/Denver:20190417T170000
DTSTAMP:20260425T104724
CREATED:20190401T145739Z
LAST-MODIFIED:20190401T145739Z
UID:14127-1555509600-1555520400@gelbvieh.org
SUMMARY:Tucker Family Farms Professional Replacement Female Sale
DESCRIPTION:Wednesday\, April 17\, 2019\n2:00 PM EDT\, at the farm\, 713 Indian Creek Rd\, Amherst\, VA 24521\nLunch served at 12:30 PM EDT
URL:https://gelbvieh.org/event/tucker-family-farms-professional-replacement-female-sale-2
LOCATION:Tucker Family Farms\, 713 Indian Creek Road\, Amherst\, VA\, 24521\, United States
CATEGORIES:Event,Sales
END:VEVENT
BEGIN:VEVENT
DTSTART;VALUE=DATE:20190511
DTEND;VALUE=DATE:20190512
DTSTAMP:20260425T104724
CREATED:20181114T212006Z
LAST-MODIFIED:20181114T212006Z
UID:13345-1557532800-1557619199@gelbvieh.org
SUMMARY:Middle Tennessee Gelbvieh/Angus Invitational
DESCRIPTION:
URL:https://gelbvieh.org/event/middle-tennessee-gelbviehangus-invitational
LOCATION:Centerville\, TN
CATEGORIES:Event,Sales
END:VEVENT
BEGIN:VEVENT
DTSTART;VALUE=DATE:20190511
DTEND;VALUE=DATE:20190512
DTSTAMP:20260425T104724
CREATED:20190221T154206Z
LAST-MODIFIED:20190221T154337Z
UID:13835-1557532800-1557619199@gelbvieh.org
SUMMARY:T Bar S Cattle Company Missouri Field Day
DESCRIPTION:
URL:https://gelbvieh.org/event/t-bar-s-cattle-company-missouri-field-day
LOCATION:Billings\, MO
CATEGORIES:Event
ORGANIZER;CN="T Bar S Cattle Company":MAILTO:tbarscattle@gmail.com
END:VEVENT
BEGIN:VEVENT
DTSTART;VALUE=DATE:20190511
DTEND;VALUE=DATE:20190512
DTSTAMP:20260425T104724
CREATED:20190315T195721Z
LAST-MODIFIED:20190315T195721Z
UID:14019-1557532800-1557619199@gelbvieh.org
SUMMARY:Kittle Farms Building a Legacy Spring 2019 Sale
DESCRIPTION:4:00 p.m. Trade Show \n5:00 p.m. Dinner \n6:00 p.m. Sale
URL:https://gelbvieh.org/event/kittle-farms-building-a-legacy-spring-2019-sale
LOCATION:NE Alabama Agri-Business Center\, 1571 McCurdy Ave N\, Rainsville\, AL\, 35986\, United States
CATEGORIES:Sales
END:VEVENT
BEGIN:VEVENT
DTSTART;TZID=America/Denver:20190618T080000
DTEND;TZID=America/Denver:20190621T170000
DTSTAMP:20260425T104724
CREATED:20180830T202751Z
LAST-MODIFIED:20190404T130611Z
UID:12900-1560844800-1561136400@gelbvieh.org
SUMMARY:2019 Beef Improvement Federation Research Symposium & Convention
DESCRIPTION:
URL:https://gelbvieh.org/event/2019-beef-improvement-federation-research-symposium-convention
LOCATION:Brookings\, South Dakota\, Brookings\, SD\, United States
CATEGORIES:Event,Industry Events
END:VEVENT
BEGIN:VEVENT
DTSTART;TZID=America/Denver:20190707T080000
DTEND;TZID=America/Denver:20190712T170000
DTSTAMP:20260425T104724
CREATED:20180724T211700Z
LAST-MODIFIED:20180724T211700Z
UID:12666-1562486400-1562950800@gelbvieh.org
SUMMARY:2019 AGJA Music City Showdown
DESCRIPTION:
URL:https://gelbvieh.org/event/2019-agja-music-city-showdown
LOCATION:Lebanon\, TN\, Lebanon\, TN
CATEGORIES:Event,Juniors,Show
END:VEVENT
BEGIN:VEVENT
DTSTART;TZID=America/Chicago:20191012T120000
DTEND;TZID=America/Chicago:20191012T170000
DTSTAMP:20260425T104724
CREATED:20190626T144627Z
LAST-MODIFIED:20190626T144706Z
UID:14491-1570881600-1570899600@gelbvieh.org
SUMMARY:Judd Ranch 29th Annual Cow Power Female Sale
DESCRIPTION:
URL:https://gelbvieh.org/event/judd-ranch-29th-annual-cow-power-female-sale
LOCATION:Judd Ranch\, Pomona\, KS\, United States
CATEGORIES:Event
END:VEVENT
BEGIN:VEVENT
DTSTART;VALUE=DATE:20191019
DTEND;VALUE=DATE:20191020
DTSTAMP:20260425T104724
CREATED:20190605T162021Z
LAST-MODIFIED:20190605T162021Z
UID:14440-1571443200-1571529599@gelbvieh.org
SUMMARY:Seedstock Plus Fall Bull Sale
DESCRIPTION:
URL:https://gelbvieh.org/event/seedstock-plus-fall-bull-sale-4
LOCATION:Joplin Regional Stockyards\, Carthage\, MO\, United States
CATEGORIES:Event
END:VEVENT
BEGIN:VEVENT
DTSTART;VALUE=DATE:20191025
DTEND;VALUE=DATE:20191026
DTSTAMP:20260425T104724
CREATED:20190221T154259Z
LAST-MODIFIED:20190221T154259Z
UID:13839-1571961600-1572047999@gelbvieh.org
SUMMARY:T Bar S Cattle Company Focused on the Future Bull and Female Sale
DESCRIPTION:
URL:https://gelbvieh.org/event/t-bar-s-cattle-company-focused-on-the-future-bull-and-female-sale
LOCATION:Billings\, MO
CATEGORIES:Sales
ORGANIZER;CN="T Bar S Cattle Company":MAILTO:tbarscattle@gmail.com
END:VEVENT
BEGIN:VEVENT
DTSTART;TZID=America/Chicago:20191025T120000
DTEND;TZID=America/Chicago:20191025T223000
DTSTAMP:20260425T104724
CREATED:20190813T195941Z
LAST-MODIFIED:20190813T195941Z
UID:14665-1572004800-1572042600@gelbvieh.org
SUMMARY:T Bar S Cattle Company Focused on the Future Bull and Female Sale
DESCRIPTION:T Bar S Cattle Company’s Focused on the Future Bull and Female Sale\nSelling approximately 50 head of Gelbvieh and Balancer Genetics\nCattle available for viewing at 12:00 PM\nDinner served\, sale beginning at 6:00 PM
URL:https://gelbvieh.org/event/t-bar-s-cattle-company-focused-on-the-future-bull-and-female-sale-2
LOCATION:T Bar S Cattle Company\, 761 State Highway 413\, Billings\, MO\, 65610\, United States
CATEGORIES:Event
END:VEVENT
END:VCALENDAR