BEGIN:VCALENDAR
VERSION:2.0
PRODID:-//American Gelbvieh - ECPv6.15.20//NONSGML v1.0//EN
CALSCALE:GREGORIAN
METHOD:PUBLISH
X-WR-CALNAME:American Gelbvieh
X-ORIGINAL-URL:https://gelbvieh.org
X-WR-CALDESC:Events for American Gelbvieh
REFRESH-INTERVAL;VALUE=DURATION:PT1H
X-Robots-Tag:noindex
X-PUBLISHED-TTL:PT1H
BEGIN:VTIMEZONE
TZID:America/Denver
BEGIN:DAYLIGHT
TZOFFSETFROM:-0700
TZOFFSETTO:-0600
TZNAME:MDT
DTSTART:20140309T090000
END:DAYLIGHT
BEGIN:STANDARD
TZOFFSETFROM:-0600
TZOFFSETTO:-0700
TZNAME:MST
DTSTART:20141102T080000
END:STANDARD
BEGIN:DAYLIGHT
TZOFFSETFROM:-0700
TZOFFSETTO:-0600
TZNAME:MDT
DTSTART:20150308T090000
END:DAYLIGHT
BEGIN:STANDARD
TZOFFSETFROM:-0600
TZOFFSETTO:-0700
TZNAME:MST
DTSTART:20151101T080000
END:STANDARD
BEGIN:DAYLIGHT
TZOFFSETFROM:-0700
TZOFFSETTO:-0600
TZNAME:MDT
DTSTART:20160313T090000
END:DAYLIGHT
BEGIN:STANDARD
TZOFFSETFROM:-0600
TZOFFSETTO:-0700
TZNAME:MST
DTSTART:20161106T080000
END:STANDARD
BEGIN:DAYLIGHT
TZOFFSETFROM:-0700
TZOFFSETTO:-0600
TZNAME:MDT
DTSTART:20170312T090000
END:DAYLIGHT
BEGIN:STANDARD
TZOFFSETFROM:-0600
TZOFFSETTO:-0700
TZNAME:MST
DTSTART:20171105T080000
END:STANDARD
END:VTIMEZONE
BEGIN:VTIMEZONE
TZID:America/Chicago
BEGIN:DAYLIGHT
TZOFFSETFROM:-0600
TZOFFSETTO:-0500
TZNAME:CDT
DTSTART:20140309T080000
END:DAYLIGHT
BEGIN:STANDARD
TZOFFSETFROM:-0500
TZOFFSETTO:-0600
TZNAME:CST
DTSTART:20141102T070000
END:STANDARD
BEGIN:DAYLIGHT
TZOFFSETFROM:-0600
TZOFFSETTO:-0500
TZNAME:CDT
DTSTART:20150308T080000
END:DAYLIGHT
BEGIN:STANDARD
TZOFFSETFROM:-0500
TZOFFSETTO:-0600
TZNAME:CST
DTSTART:20151101T070000
END:STANDARD
BEGIN:DAYLIGHT
TZOFFSETFROM:-0600
TZOFFSETTO:-0500
TZNAME:CDT
DTSTART:20160313T080000
END:DAYLIGHT
BEGIN:STANDARD
TZOFFSETFROM:-0500
TZOFFSETTO:-0600
TZNAME:CST
DTSTART:20161106T070000
END:STANDARD
END:VTIMEZONE
BEGIN:VEVENT
DTSTART;VALUE=DATE:20160209
DTEND;VALUE=DATE:20160210
DTSTAMP:20260425T072924
CREATED:20160205T223936Z
LAST-MODIFIED:20160205T223936Z
UID:7826-1454976000-1455062399@gelbvieh.org
SUMMARY:43rd Annual Gelbvieh Gold Sale
DESCRIPTION:
URL:https://gelbvieh.org/event/43rd-annual-gelbvieh-gold-sale
LOCATION:Unnamed Venue\, Des Moines\, IA\, United States
CATEGORIES:Sales
END:VEVENT
BEGIN:VEVENT
DTSTART;TZID=America/Denver:20160206T130000
DTEND;TZID=America/Denver:20160206T170000
DTSTAMP:20260425T072924
CREATED:20151209T202542Z
LAST-MODIFIED:20151210T175511Z
UID:6847-1454763600-1454778000@gelbvieh.org
SUMMARY:Lost River Livestock Bull Sale
DESCRIPTION:02.06.2016 \nAt the Farm
URL:https://gelbvieh.org/event/lost-river-livestock-bull-sale
LOCATION:Lost River Livestock Ranch\, 12866 Lindberg Lake Road \, Clearbrook\, MN\, 56634\, United States
CATEGORIES:Sales
END:VEVENT
BEGIN:VEVENT
DTSTART;TZID=America/Denver:20160125T080000
DTEND;TZID=America/Denver:20160125T170000
DTSTAMP:20260425T072924
CREATED:20151229T225127Z
LAST-MODIFIED:20151229T225127Z
UID:7659-1453708800-1453741200@gelbvieh.org
SUMMARY:North Dakota Gelbvieh Association Golden Rule Sale
DESCRIPTION:
URL:https://gelbvieh.org/event/north-dakota-gelbvieh-association-golden-rule-sale
LOCATION:Unnamed Venue\, Mandan\, SD\, United States
END:VEVENT
BEGIN:VEVENT
DTSTART;TZID=America/Denver:20160111T000000
DTEND;TZID=America/Denver:20160111T230000
DTSTAMP:20260425T072924
CREATED:20151229T224642Z
LAST-MODIFIED:20160108T172656Z
UID:7657-1452470400-1452553200@gelbvieh.org
SUMMARY:National Gelbvieh & Balancer Show
DESCRIPTION:
URL:https://gelbvieh.org/event/national-gelbvieh-balancer-show
LOCATION:Stadium Arena\, Denver
CATEGORIES:AGA Announcements
END:VEVENT
BEGIN:VEVENT
DTSTART;TZID=America/Denver:20160110T000000
DTEND;TZID=America/Denver:20160110T230000
DTSTAMP:20260425T072924
CREATED:20151229T224543Z
LAST-MODIFIED:20160108T172730Z
UID:7656-1452384000-1452466800@gelbvieh.org
SUMMARY:NWSS Gelbvieh & Balancer Pen Show
DESCRIPTION:
URL:https://gelbvieh.org/event/nwss-gelbvieh-balancer-pen-show
LOCATION:Stadium Arena\, Denver
CATEGORIES:AGA Announcements,Event
END:VEVENT
BEGIN:VEVENT
DTSTART;TZID=America/Denver:20160109T000000
DTEND;TZID=America/Denver:20160110T230000
DTSTAMP:20260425T072924
CREATED:20151229T224023Z
LAST-MODIFIED:20151229T224342Z
UID:7652-1452297600-1452466800@gelbvieh.org
SUMMARY:NWSS Gelbvieh & Balancer Junior Show
DESCRIPTION:
URL:https://gelbvieh.org/event/aga-office-closed-4
LOCATION:Stadium Arena\, Denver
END:VEVENT
BEGIN:VEVENT
DTSTART;TZID=America/Denver:20160101T080000
DTEND;TZID=America/Denver:20160101T170000
DTSTAMP:20260425T072924
CREATED:20151230T180506Z
LAST-MODIFIED:20160108T172246Z
UID:7672-1451635200-1451667600@gelbvieh.org
SUMMARY:January 1 - AGA Office Closed
DESCRIPTION:
URL:https://gelbvieh.org/event/january-1-aga-office-closed
LOCATION:KS
CATEGORIES:AGA Announcements,Event
END:VEVENT
BEGIN:VEVENT
DTSTART;TZID=America/Denver:20151227T080000
DTEND;TZID=America/Denver:20151229T170000
DTSTAMP:20260425T072924
CREATED:20151229T225452Z
LAST-MODIFIED:20151229T225452Z
UID:7662-1451203200-1451408400@gelbvieh.org
SUMMARY:Cattle Industry Convention and NCBA Trade Show
DESCRIPTION:
URL:https://gelbvieh.org/event/cattle-industry-convention-and-ncba-trade-show
LOCATION:Unnamed Venue\, San Diego\, California
END:VEVENT
BEGIN:VEVENT
DTSTART;VALUE=DATE:20151223
DTEND;VALUE=DATE:20151226
DTSTAMP:20260425T072924
CREATED:20151209T201818Z
LAST-MODIFIED:20160108T172307Z
UID:6842-1450828800-1451087999@gelbvieh.org
SUMMARY:AGA Office Closed
DESCRIPTION:AGA Office is closed for the Holidays.
URL:https://gelbvieh.org/event/aga-office-closed
LOCATION:AGA Offices\, 10900 Dover Street\, Westminster\, CO\, 80021\, United States
CATEGORIES:AGA Announcements
END:VEVENT
BEGIN:VEVENT
DTSTART;VALUE=DATE:20151219
DTEND;VALUE=DATE:20151220
DTSTAMP:20260425T072924
CREATED:20151209T192228Z
LAST-MODIFIED:20151214T025843Z
UID:6835-1450483200-1450569599@gelbvieh.org
SUMMARY:CJ&L Livestock Open House and Bull Sale
DESCRIPTION:
URL:https://gelbvieh.org/event/cjl-livestock-open-house-and-bull-sale
LOCATION:CJ&L Livestock\, Hermosa\, SD\, United States
CATEGORIES:Sales
END:VEVENT
BEGIN:VEVENT
DTSTART;VALUE=DATE:20151210
DTEND;VALUE=DATE:20151213
DTSTAMP:20260425T072924
CREATED:20151209T175837Z
LAST-MODIFIED:20151210T182301Z
UID:6812-1449705600-1449964799@gelbvieh.org
SUMMARY:45th Annual American Gelbvieh Association National Convention
DESCRIPTION:Join the AGA at the national convention in Kansas City\, MO. Events held at this year’s convention include:\n\nCommittee Meetings\nAnnual AGA Membership Meeting\nAGA 101\nAwards Luncheon\nState Association Breakfast\nCattlemen’s Profit Roundup\n\nSee you in Kansas City!
URL:https://gelbvieh.org/event/45th-annual-american-gelbvieh-association-national-convention
LOCATION:Embassy Suites Kansas City-International Airport\, 7640 NW Tiffany Springs Parkway\, Kansas City\, MO\, United States
CATEGORIES:Event
ORGANIZER;CN="American Gelbvieh Association":MAILTO:info@gelbvieh.org
END:VEVENT
BEGIN:VEVENT
DTSTART;TZID=America/Denver:20151205T080000
DTEND;TZID=America/Denver:20151205T170000
DTSTAMP:20260425T072924
CREATED:20151209T201254Z
LAST-MODIFIED:20151209T214156Z
UID:6837-1449302400-1449334800@gelbvieh.org
SUMMARY:SEGA Gelbvieh & Friends Female Sale
DESCRIPTION:
URL:https://gelbvieh.org/event/sega-gelbvieh-friends-female-sale
LOCATION:SEGA Gelbvieh\, 16509 WCR#86  \, Pierce\, CO\,  80650\, United States
CATEGORIES:Sales
ORGANIZER;CN="SEGA Gelbvieh":MAILTO:gafiolk@aol.com
END:VEVENT
END:VCALENDAR