BEGIN:VCALENDAR
VERSION:2.0
PRODID:-//American Gelbvieh - ECPv6.15.20//NONSGML v1.0//EN
CALSCALE:GREGORIAN
METHOD:PUBLISH
X-WR-CALNAME:American Gelbvieh
X-ORIGINAL-URL:https://gelbvieh.org
X-WR-CALDESC:Events for American Gelbvieh
REFRESH-INTERVAL;VALUE=DURATION:PT1H
X-Robots-Tag:noindex
X-PUBLISHED-TTL:PT1H
BEGIN:VTIMEZONE
TZID:America/Chicago
BEGIN:DAYLIGHT
TZOFFSETFROM:-0600
TZOFFSETTO:-0500
TZNAME:CDT
DTSTART:20160313T080000
END:DAYLIGHT
BEGIN:STANDARD
TZOFFSETFROM:-0500
TZOFFSETTO:-0600
TZNAME:CST
DTSTART:20161106T070000
END:STANDARD
BEGIN:DAYLIGHT
TZOFFSETFROM:-0600
TZOFFSETTO:-0500
TZNAME:CDT
DTSTART:20170312T080000
END:DAYLIGHT
BEGIN:STANDARD
TZOFFSETFROM:-0500
TZOFFSETTO:-0600
TZNAME:CST
DTSTART:20171105T070000
END:STANDARD
BEGIN:DAYLIGHT
TZOFFSETFROM:-0600
TZOFFSETTO:-0500
TZNAME:CDT
DTSTART:20180311T080000
END:DAYLIGHT
BEGIN:STANDARD
TZOFFSETFROM:-0500
TZOFFSETTO:-0600
TZNAME:CST
DTSTART:20181104T070000
END:STANDARD
END:VTIMEZONE
BEGIN:VTIMEZONE
TZID:America/Denver
BEGIN:DAYLIGHT
TZOFFSETFROM:-0700
TZOFFSETTO:-0600
TZNAME:MDT
DTSTART:20160313T090000
END:DAYLIGHT
BEGIN:STANDARD
TZOFFSETFROM:-0600
TZOFFSETTO:-0700
TZNAME:MST
DTSTART:20161106T080000
END:STANDARD
BEGIN:DAYLIGHT
TZOFFSETFROM:-0700
TZOFFSETTO:-0600
TZNAME:MDT
DTSTART:20170312T090000
END:DAYLIGHT
BEGIN:STANDARD
TZOFFSETFROM:-0600
TZOFFSETTO:-0700
TZNAME:MST
DTSTART:20171105T080000
END:STANDARD
BEGIN:DAYLIGHT
TZOFFSETFROM:-0700
TZOFFSETTO:-0600
TZNAME:MDT
DTSTART:20180311T090000
END:DAYLIGHT
BEGIN:STANDARD
TZOFFSETFROM:-0600
TZOFFSETTO:-0700
TZNAME:MST
DTSTART:20181104T080000
END:STANDARD
END:VTIMEZONE
BEGIN:VEVENT
DTSTART;VALUE=DATE:20170804
DTEND;VALUE=DATE:20170805
DTSTAMP:20260422T160018
CREATED:20170804T205823Z
LAST-MODIFIED:20170804T205823Z
UID:10785-1501804800-1501891199@gelbvieh.org
SUMMARY:Warner Beef Genetics Annual Bull Sale
DESCRIPTION:
URL:https://gelbvieh.org/event/warner-beef-genetics-annual-bull-sale
LOCATION:Warner Beef Genetics\, 42198 Road 721\, Arapahoe\, NE\, 68922\, United States
CATEGORIES:Sales
END:VEVENT
BEGIN:VEVENT
DTSTART;VALUE=DATE:20170804
DTEND;VALUE=DATE:20170805
DTSTAMP:20260422T160018
CREATED:20170804T210707Z
LAST-MODIFIED:20170804T210707Z
UID:10791-1501804800-1501891199@gelbvieh.org
SUMMARY:Harriman Santa Fe Top of the Breed Bull & Female Sale
DESCRIPTION:
URL:https://gelbvieh.org/event/harriman-santa-fe-top-of-the-breed-bull-female-sale-2
LOCATION:Windsor Livestock Auction\, 1173 MO-52\, Windsor\, MO\, 65630\, United States
CATEGORIES:Sales
ORGANIZER;CN="Bob Harriman":MAILTO:bharriman39@hotmail.com
END:VEVENT
BEGIN:VEVENT
DTSTART;TZID=America/Denver:20170812T100000
DTEND;TZID=America/Denver:20170812T190000
DTSTAMP:20260422T160018
CREATED:20170731T204839Z
LAST-MODIFIED:20170731T204839Z
UID:10710-1502532000-1502564400@gelbvieh.org
SUMMARY:North Dakota Gelbvieh Association Field Day/Prairie Hills Gelbvieh Open House
DESCRIPTION:
URL:https://gelbvieh.org/event/north-dakota-gelbvieh-association-field-dayprairie-hills-gelbvieh-open-house
LOCATION:Prairie Hills Gelbvieh\, Gladstone\, ND\, United States
CATEGORIES:Event
END:VEVENT
BEGIN:VEVENT
DTSTART;VALUE=DATE:20170819
DTEND;VALUE=DATE:20170820
DTSTAMP:20260422T160018
CREATED:20170707T205502Z
LAST-MODIFIED:20170707T205502Z
UID:10629-1503100800-1503187199@gelbvieh.org
SUMMARY:Kansas Gelbvieh Association Tour
DESCRIPTION:
URL:https://gelbvieh.org/event/kansas-gelbvieh-association-tour
LOCATION:Unnamed Venue\, Southeast\, KS\, United States
CATEGORIES:Event
END:VEVENT
BEGIN:VEVENT
DTSTART;TZID=America/Denver:20170830T180000
DTEND;TZID=America/Denver:20170830T200000
DTSTAMP:20260422T160018
CREATED:20170530T133610Z
LAST-MODIFIED:20170530T133610Z
UID:10497-1504116000-1504123200@gelbvieh.org
SUMMARY:Pacific Northwest Gelbvieh Association Heifer Futurity
DESCRIPTION:
URL:https://gelbvieh.org/event/pacific-northwest-gelbvieh-association-heifer-futurity
LOCATION:Oregon State Fair & Exposition Center\, 2330 17th Street NE\, Salem\, OR\, 97301\, United States
CATEGORIES:Event
END:VEVENT
BEGIN:VEVENT
DTSTART;TZID=America/Denver:20170830T200000
DTEND;TZID=America/Denver:20170830T210000
DTSTAMP:20260422T160018
CREATED:20170530T133331Z
LAST-MODIFIED:20170530T133433Z
UID:10494-1504123200-1504126800@gelbvieh.org
SUMMARY:Pacific Northwest Gelbvieh Association Annual Meeting
DESCRIPTION:
URL:https://gelbvieh.org/event/oregon-state-fair-gelbvieh-show-2
LOCATION:Oregon State Fair\, Salem\, OR\, United States
CATEGORIES:Event
ORGANIZER;CN="Mark Hoper%2C President":MAILTO:hopfer@frontier.com
END:VEVENT
BEGIN:VEVENT
DTSTART;TZID=America/Denver:20170831T150000
DTEND;TZID=America/Denver:20170831T170000
DTSTAMP:20260422T160018
CREATED:20170530T133713Z
LAST-MODIFIED:20170530T133713Z
UID:10498-1504191600-1504198800@gelbvieh.org
SUMMARY:Oregon State Fair Gelbvieh Show
DESCRIPTION:
URL:https://gelbvieh.org/event/oregon-state-fair-gelbvieh-show-3
LOCATION:Oregon State Fair & Exposition Center\, 2330 17th Street NE\, Salem\, OR\, 97301\, United States
CATEGORIES:Show
END:VEVENT
BEGIN:VEVENT
DTSTART;VALUE=DATE:20170901
DTEND;VALUE=DATE:20170902
DTSTAMP:20260422T160018
CREATED:20170830T164918Z
LAST-MODIFIED:20170830T165030Z
UID:10903-1504224000-1504310399@gelbvieh.org
SUMMARY:AGA Office Closed
DESCRIPTION:The AGA office will be closed Friday\, September 1\, and Monday\, September 4\, 2017\, in observance of Labor Day. The office will resume regular business hours of 7:30 a.m.-4:00 p.m. Mountain Time on Tuesday\, September 5.
URL:https://gelbvieh.org/event/aga-office-closed-8
LOCATION:SD
CATEGORIES:AGA Announcements,Event
END:VEVENT
BEGIN:VEVENT
DTSTART;VALUE=DATE:20170904
DTEND;VALUE=DATE:20170905
DTSTAMP:20260422T160018
CREATED:20170830T165110Z
LAST-MODIFIED:20170830T165110Z
UID:10904-1504483200-1504569599@gelbvieh.org
SUMMARY:AGA Office Closed
DESCRIPTION:The AGA office will be closed Monday\, September 4\, 2017\, in observance of Labor Day. The office will resume regular business hours of 7:30 a.m.-4:00 p.m. Mountain Time on Tuesday\, September 5.
URL:https://gelbvieh.org/event/aga-office-closed-9
LOCATION:SD
CATEGORIES:AGA Announcements,Event
END:VEVENT
BEGIN:VEVENT
DTSTART;VALUE=DATE:20170906
DTEND;VALUE=DATE:20170907
DTSTAMP:20260422T160018
CREATED:20170830T165556Z
LAST-MODIFIED:20170830T165556Z
UID:10906-1504656000-1504742399@gelbvieh.org
SUMMARY:Northern International Livestock Exposition Entry Deadline
DESCRIPTION:The Northern International Livestock Exposition (NILE) takes place in Billings\, Montana\, October 14-21\, 2017. The Gelbvieh and Balancer show takes place on Thursday\, October 19\, with the junior show beginning at 8:00 a.m.\, followed by the open show. The entry deadline is September 6. Visit the NILE website for more information or contact Gelbvieh show superintendent Kathy Rankin at 406-937-4815.
URL:https://gelbvieh.org/event/northern-international-livestock-exposition-entry-deadline
LOCATION:NILE\, 308 6th Ave N\, Billings\, MT\, 59101\, United States
CATEGORIES:Show
END:VEVENT
BEGIN:VEVENT
DTSTART;VALUE=DATE:20170912
DTEND;VALUE=DATE:20170913
DTSTAMP:20260422T160018
CREATED:20170830T185100Z
LAST-MODIFIED:20170830T185100Z
UID:10907-1505174400-1505260799@gelbvieh.org
SUMMARY:American Royal Entry Deadline
DESCRIPTION:The American Royal Livestock Show is being held October 18-29\, 2017\, in Kansas City\, Missouri. The Gelbvieh and Balancer show takes place on Saturday\, October 20. The junior show will begin at 8:00 a.m. and be followed by the open show\, both taking place on the east side of Hale Arena. The entry deadline for both shows and the ownership deadline for the junior show is September 12. For more information\, visit the American Royal website or contact Al Knapp\, Gelbvieh show superintendent\, at 913-219-6613.
URL:https://gelbvieh.org/event/american-royal-entry-deadline
LOCATION:Hale Arena – American Royal Complex\, Kansas City\, MO\, United States
CATEGORIES:Show
END:VEVENT
BEGIN:VEVENT
DTSTART;TZID=America/Chicago:20170916T130000
DTEND;TZID=America/Chicago:20170916T170000
DTSTAMP:20260422T160018
CREATED:20170804T173518Z
LAST-MODIFIED:20170804T173518Z
UID:10747-1505566800-1505581200@gelbvieh.org
SUMMARY:Seedstock Plus Showcase Sale XII & 9th Annual Customer Appreciation Sale
DESCRIPTION:Including a total black dispersal & red purebred dispersal for Kenyon Cattle/Little Sioux Gelbvieh and a registered herd dispersal for Four Winds Ranch \nBid and Buy at: CattleUSA.com
URL:https://gelbvieh.org/event/seedstock-plus-showcase-sale-xii-9th-annual-customer-appreciation-sale-2
LOCATION:Kingsville Livestock\, Kingsville\, MO\, United States
CATEGORIES:Sales
ORGANIZER;CN="Seedstock Plus":MAILTO:john@seedstockplus.com
END:VEVENT
BEGIN:VEVENT
DTSTART;VALUE=DATE:20170927
DTEND;VALUE=DATE:20170928
DTSTAMP:20260422T160018
CREATED:20170804T195615Z
LAST-MODIFIED:20170804T195615Z
UID:10758-1506470400-1506556799@gelbvieh.org
SUMMARY:Eagle Pass Ranch Fall Bull Sale
DESCRIPTION:
URL:https://gelbvieh.org/event/eagle-pass-ranch-fall-bull-sale-2
LOCATION:Dos Palos Y Auction Yard\, Dos Palos\, CA\, United States
CATEGORIES:Sales
END:VEVENT
BEGIN:VEVENT
DTSTART;VALUE=DATE:20170930
DTEND;VALUE=DATE:20171001
DTSTAMP:20260422T160018
CREATED:20170830T161955Z
LAST-MODIFIED:20170830T161955Z
UID:10898-1506729600-1506815999@gelbvieh.org
SUMMARY:Bluegrass Gelbvieh Invitational Bull & Female Sale
DESCRIPTION:
URL:https://gelbvieh.org/event/bluegrass-gelbvieh-invitational-bull-female-sale
LOCATION:Unnamed Venue\, Mt. Sterling\, KY\, United States
CATEGORIES:Sales
END:VEVENT
BEGIN:VEVENT
DTSTART;VALUE=DATE:20171001
DTEND;VALUE=DATE:20171002
DTSTAMP:20260422T160018
CREATED:20170804T174736Z
LAST-MODIFIED:20170804T200712Z
UID:10749-1506816000-1506902399@gelbvieh.org
SUMMARY:AGJA Calendar Booking Deadline
DESCRIPTION:Take advantage of this great opportunity to advertise your program in the 2018 AGJA Calendar. \nDon’t miss the chance to advertise your sale\, field day or other important events. \nContact the AGA office at 303.465.2333 to reserve your space.
URL:https://gelbvieh.org/event/agja-calendar-booking-deadline
LOCATION:SD
CATEGORIES:AGA Announcements
ORGANIZER;CN="American Gelbvieh Association":MAILTO:info@gelbvieh.org
END:VEVENT
BEGIN:VEVENT
DTSTART;VALUE=DATE:20171001
DTEND;VALUE=DATE:20171002
DTSTAMP:20260422T160018
CREATED:20170830T185952Z
LAST-MODIFIED:20170830T185952Z
UID:10910-1506816000-1506902399@gelbvieh.org
SUMMARY:NAILE Entry Deadline
DESCRIPTION:The North American International Livestock Exposition (NAILE) takes place October 31-November 16\, 2017 in Louisville\, Kentucky. The Gelbvieh and Balancer junior heifer show is being held on Saturday\, November 11 and the Gelbvieh and Balancer open show is being held on Wednesday\, November 15. The entry deadline for the show is October 1. For more information\, please visit the NAILE website or contact Gelbvieh show superintendent\, Joe Piles at 502-507-3845.
URL:https://gelbvieh.org/event/naile-entry-deadline
LOCATION:Kentucky Exposition Center\, 937 Phillips Lane \, Louisville\, KY\, 40209\, United States
CATEGORIES:Show
END:VEVENT
BEGIN:VEVENT
DTSTART;TZID=America/Chicago:20171002T200000
DTEND;TZID=America/Chicago:20171002T210000
DTSTAMP:20260422T160018
CREATED:20170830T163019Z
LAST-MODIFIED:20170830T163019Z
UID:10900-1506974400-1506978000@gelbvieh.org
SUMMARY:American Rancher on RFD-TV
DESCRIPTION:The AGA’s fall episode will premiere on Monday\, October 2\, 2017\, at 8:00 p.m. CDT on RFD-TV. The episode will re-air on Tuesday\, October 3\, at 12:00 a.m. CDT\, and Sunday\, October 8 at 11:00 a.m. CDT.
URL:https://gelbvieh.org/event/american-rancher-on-rfd-tv
LOCATION:RFD-TV
CATEGORIES:Event
END:VEVENT
BEGIN:VEVENT
DTSTART;TZID=America/Chicago:20171014T120000
DTEND;TZID=America/Chicago:20171014T170000
DTSTAMP:20260422T160018
CREATED:20170804T172949Z
LAST-MODIFIED:20170804T172949Z
UID:10744-1507982400-1508000400@gelbvieh.org
SUMMARY:27th Annual Judd Ranch Gelbvieh\, Balancer® & Red Angus Cow Power Female Sale
DESCRIPTION:
URL:https://gelbvieh.org/event/27th-annual-judd-ranch-gelbvieh-balancer-red-angus-cow-power-female-sale
LOCATION:Judd Ranch\, Pomona\, KS\, United States
CATEGORIES:Sales
END:VEVENT
BEGIN:VEVENT
DTSTART;VALUE=DATE:20171018
DTEND;VALUE=DATE:20171023
DTSTAMP:20260422T160018
CREATED:20170324T132649Z
LAST-MODIFIED:20170324T132649Z
UID:10209-1508284800-1508716799@gelbvieh.org
SUMMARY:American Royal
DESCRIPTION:
URL:https://gelbvieh.org/event/american-royal
LOCATION:Unnamed Venue\, Kansas City\, KS\, United States
CATEGORIES:Show
END:VEVENT
BEGIN:VEVENT
DTSTART;VALUE=DATE:20171019
DTEND;VALUE=DATE:20171020
DTSTAMP:20260422T160018
CREATED:20170830T165449Z
LAST-MODIFIED:20170830T165449Z
UID:10905-1508371200-1508457599@gelbvieh.org
SUMMARY:Northern International Livestock Exposition Gelbvieh and Balancer Show
DESCRIPTION:The Northern International Livestock Exposition (NILE) takes place in Billings\, Montana\, October 14-21\, 2017. The Gelbvieh and Balancer show takes place on Thursday\, October 19\, with the junior show beginning at 8:00 a.m.\, followed by the open show. The entry deadline is September 6. Visit the NILE website for more information or contact Gelbvieh show superintendent Kathy Rankin at 406-937-4815.
URL:https://gelbvieh.org/event/northern-international-livestock-exposition
LOCATION:NILE\, 308 6th Ave N\, Billings\, MT\, 59101\, United States
CATEGORIES:Show
END:VEVENT
BEGIN:VEVENT
DTSTART;TZID=America/Denver:20171021T120000
DTEND;TZID=America/Denver:20171021T170000
DTSTAMP:20260422T160018
CREATED:20170524T170206Z
LAST-MODIFIED:20170524T170206Z
UID:10482-1508587200-1508605200@gelbvieh.org
SUMMARY:Seedstock Plus Fall Bull Sale
DESCRIPTION:200+ Angus\, Gelbvieh\, and Balancer bulls
URL:https://gelbvieh.org/event/seedstock-plus-fall-bull-sale-2
LOCATION:Joplin Regional Stockyards\, 18864 Kepler Drive\, St. Carthage\, MO\, 64628\, United States
CATEGORIES:Sales
ORGANIZER;CN="Seedstock Plus":MAILTO:john@seedstockplus.com
END:VEVENT
BEGIN:VEVENT
DTSTART;TZID=America/Denver:20171021T123000
DTEND;TZID=America/Denver:20171021T170000
DTSTAMP:20260422T160018
CREATED:20170830T163336Z
LAST-MODIFIED:20170830T204631Z
UID:10901-1508589000-1508605200@gelbvieh.org
SUMMARY:Midwest Beef Alliance Fall Bull & Female Sale
DESCRIPTION:
URL:https://gelbvieh.org/event/midwest-beef-alliance-fall-bull-female-sale
LOCATION:Unnamed Venue\, Marshall Junction\, MO\, United States
CATEGORIES:Sales
END:VEVENT
BEGIN:VEVENT
DTSTART;VALUE=DATE:20171028
DTEND;VALUE=DATE:20171029
DTSTAMP:20260422T160018
CREATED:20170804T201021Z
LAST-MODIFIED:20170804T201634Z
UID:10759-1509148800-1509235199@gelbvieh.org
SUMMARY:Flying H Genetics Roughage N' Ready Fall Bull Sale
DESCRIPTION:
URL:https://gelbvieh.org/event/flying-h-genetics-roughafe-n-ready-fall-bull-sale
LOCATION:Unnamed Venue\, Butler\, MO\, United States
CATEGORIES:Sales
END:VEVENT
BEGIN:VEVENT
DTSTART;TZID=America/Chicago:20171028T130000
DTEND;TZID=America/Chicago:20171028T170000
DTSTAMP:20260422T160018
CREATED:20170804T182804Z
LAST-MODIFIED:20170804T182804Z
UID:10756-1509195600-1509210000@gelbvieh.org
SUMMARY:Warner Beef Genetics - Genetic Opportunities Female Production Sale
DESCRIPTION:100+ Females Sell \n-Donor Cows \n-Bred Heifers \n-Open Show Heifer Prospects
URL:https://gelbvieh.org/event/warner-beef-genetics-genetic-opportunities-female-production-sale
LOCATION:Warner Beef Genetics\, 42198 Road 721\, Arapahoe\, NE\, 68922\, United States
CATEGORIES:Sales
END:VEVENT
BEGIN:VEVENT
DTSTART;TZID=America/Denver:20171102T110000
DTEND;TZID=America/Denver:20171102T170000
DTSTAMP:20260422T160018
CREATED:20170815T141044Z
LAST-MODIFIED:20171026T211444Z
UID:10822-1509620400-1509642000@gelbvieh.org
SUMMARY:Ridinger Cattle Company Pioneers of Progress Inaugural Production Sale
DESCRIPTION:
URL:https://gelbvieh.org/event/ridinger-cattle-company-pioneers-of-progress-inaugural-production-sale
LOCATION:Burlington Livestock Exchange\, Burlington\, CO\, United States
CATEGORIES:Sales
END:VEVENT
BEGIN:VEVENT
DTSTART;VALUE=DATE:20171104
DTEND;VALUE=DATE:20171105
DTSTAMP:20260422T160018
CREATED:20170804T201226Z
LAST-MODIFIED:20170804T201513Z
UID:10762-1509753600-1509839999@gelbvieh.org
SUMMARY:Harriman Santa Fe Top of the Breed Bull & Female Sale
DESCRIPTION:
URL:https://gelbvieh.org/event/harriman-santa-fe-top-of-the-breed-bull-female-sale
LOCATION:Unnamed Venue\, Windsor\, MO\, United States
CATEGORIES:Sales
END:VEVENT
BEGIN:VEVENT
DTSTART;VALUE=DATE:20171104
DTEND;VALUE=DATE:20171105
DTSTAMP:20260422T160018
CREATED:20170830T190211Z
LAST-MODIFIED:20170830T190211Z
UID:10911-1509753600-1509839999@gelbvieh.org
SUMMARY:TJB Gelbvieh's 6th Annual Bull Sale
DESCRIPTION:
URL:https://gelbvieh.org/event/tjb-gelbviehs-6th-annual-bull-sale
LOCATION:TJB Gelbvieh\, 455 Brotherton Lane\, Chickamauga\, GA\, 30707\, United States
CATEGORIES:Sales
END:VEVENT
BEGIN:VEVENT
DTSTART;TZID=America/Chicago:20171104T120000
DTEND;TZID=America/Chicago:20171104T170000
DTSTAMP:20260422T160018
CREATED:20170911T135250Z
LAST-MODIFIED:20170911T135250Z
UID:10965-1509796800-1509814800@gelbvieh.org
SUMMARY:B/F Cattle Company with Cleland Cattle Company Maternal Integrity Gelbvieh & Balancer BULL SALE
DESCRIPTION:B/F Cattle Company with Cleland Cattle Company Maternal Integrity Gelbvieh & Balancer® BULL SALE – Forage developed\, work ready\, athletic\, easy keeping bulls for the commercial cattleman. For information or to request a catalog\, call Brett Foster at 660.492.2808. Videos may be viewed at www.bfcattleco.com. Sale starts at 1:00 p.m.\, lunch served at 12:00 noon.
URL:https://gelbvieh.org/event/bf-cattle-company-with-cleland-cattle-company-maternal-integrity-gelbvieh-balancer-bull-sale
LOCATION:At the Farm\, 5746 NW County Rd. 13003\, Butler\, MO\, 64730\, United States
CATEGORIES:Sales
END:VEVENT
BEGIN:VEVENT
DTSTART;VALUE=DATE:20171110
DTEND;VALUE=DATE:20171111
DTSTAMP:20260422T160018
CREATED:20171019T134728Z
LAST-MODIFIED:20171019T134728Z
UID:11207-1510272000-1510358399@gelbvieh.org
SUMMARY:Data Due for Winter NCE EPD Run
DESCRIPTION:
URL:https://gelbvieh.org/event/data-due-for-winter-nce-epd-run
LOCATION:AGA Office\, 10900 Dover Street\, Westminster\, 80021\, United States
CATEGORIES:AGA Announcements
END:VEVENT
BEGIN:VEVENT
DTSTART;VALUE=DATE:20171111
DTEND;VALUE=DATE:20171112
DTSTAMP:20260422T160018
CREATED:20170804T201431Z
LAST-MODIFIED:20170804T201438Z
UID:10764-1510358400-1510444799@gelbvieh.org
SUMMARY:Eagle Pass Ranch Fall Female Sale
DESCRIPTION:
URL:https://gelbvieh.org/event/eagle-pass-ranch-fall-female-sale
LOCATION:Unnamed Venue\, Highmore\, SD\, United States
CATEGORIES:Sales
END:VEVENT
END:VCALENDAR