BEGIN:VCALENDAR
VERSION:2.0
PRODID:-//American Gelbvieh - ECPv6.15.20//NONSGML v1.0//EN
CALSCALE:GREGORIAN
METHOD:PUBLISH
X-ORIGINAL-URL:https://gelbvieh.org
X-WR-CALDESC:Events for American Gelbvieh
REFRESH-INTERVAL;VALUE=DURATION:PT1H
X-Robots-Tag:noindex
X-PUBLISHED-TTL:PT1H
BEGIN:VTIMEZONE
TZID:America/Chicago
BEGIN:DAYLIGHT
TZOFFSETFROM:-0600
TZOFFSETTO:-0500
TZNAME:CDT
DTSTART:20160313T080000
END:DAYLIGHT
BEGIN:STANDARD
TZOFFSETFROM:-0500
TZOFFSETTO:-0600
TZNAME:CST
DTSTART:20161106T070000
END:STANDARD
BEGIN:DAYLIGHT
TZOFFSETFROM:-0600
TZOFFSETTO:-0500
TZNAME:CDT
DTSTART:20170312T080000
END:DAYLIGHT
BEGIN:STANDARD
TZOFFSETFROM:-0500
TZOFFSETTO:-0600
TZNAME:CST
DTSTART:20171105T070000
END:STANDARD
BEGIN:DAYLIGHT
TZOFFSETFROM:-0600
TZOFFSETTO:-0500
TZNAME:CDT
DTSTART:20180311T080000
END:DAYLIGHT
BEGIN:STANDARD
TZOFFSETFROM:-0500
TZOFFSETTO:-0600
TZNAME:CST
DTSTART:20181104T070000
END:STANDARD
BEGIN:DAYLIGHT
TZOFFSETFROM:-0600
TZOFFSETTO:-0500
TZNAME:CDT
DTSTART:20190310T080000
END:DAYLIGHT
BEGIN:STANDARD
TZOFFSETFROM:-0500
TZOFFSETTO:-0600
TZNAME:CST
DTSTART:20191103T070000
END:STANDARD
END:VTIMEZONE
BEGIN:VTIMEZONE
TZID:America/Denver
BEGIN:DAYLIGHT
TZOFFSETFROM:-0700
TZOFFSETTO:-0600
TZNAME:MDT
DTSTART:20160313T090000
END:DAYLIGHT
BEGIN:STANDARD
TZOFFSETFROM:-0600
TZOFFSETTO:-0700
TZNAME:MST
DTSTART:20161106T080000
END:STANDARD
BEGIN:DAYLIGHT
TZOFFSETFROM:-0700
TZOFFSETTO:-0600
TZNAME:MDT
DTSTART:20170312T090000
END:DAYLIGHT
BEGIN:STANDARD
TZOFFSETFROM:-0600
TZOFFSETTO:-0700
TZNAME:MST
DTSTART:20171105T080000
END:STANDARD
BEGIN:DAYLIGHT
TZOFFSETFROM:-0700
TZOFFSETTO:-0600
TZNAME:MDT
DTSTART:20180311T090000
END:DAYLIGHT
BEGIN:STANDARD
TZOFFSETFROM:-0600
TZOFFSETTO:-0700
TZNAME:MST
DTSTART:20181104T080000
END:STANDARD
BEGIN:DAYLIGHT
TZOFFSETFROM:-0700
TZOFFSETTO:-0600
TZNAME:MDT
DTSTART:20190310T090000
END:DAYLIGHT
BEGIN:STANDARD
TZOFFSETFROM:-0600
TZOFFSETTO:-0700
TZNAME:MST
DTSTART:20191103T080000
END:STANDARD
END:VTIMEZONE
BEGIN:VEVENT
DTSTART;VALUE=DATE:20171216
DTEND;VALUE=DATE:20171217
DTSTAMP:20260422T212507
CREATED:20170804T180403Z
LAST-MODIFIED:20170830T191248Z
UID:10753-1513382400-1513468799@gelbvieh.org
SUMMARY:Boys From the South Sale Bull Sale
DESCRIPTION:Green Hills Gelbvieh and Butler Creek Farms
URL:https://gelbvieh.org/event/green-hills-gelbvieh-and-butler-creek-bull-sale
LOCATION:Unnamed Venue\, Lebanon\, TN\, United States
CATEGORIES:Sales
END:VEVENT
BEGIN:VEVENT
DTSTART;TZID=America/Denver:20171216T110000
DTEND;TZID=America/Denver:20171216T170000
DTSTAMP:20260422T212507
CREATED:20170830T191358Z
LAST-MODIFIED:20170830T205801Z
UID:10916-1513422000-1513443600@gelbvieh.org
SUMMARY:4th Annual CJ&L Livestock Bull Sale
DESCRIPTION:
URL:https://gelbvieh.org/event/4th-annual-cjl-livestock-bull-sale
LOCATION:CJ&L Livestock\, 15849 Lower Spring Creek Rd\, Hermosa\, SD\, 57744\, United States
CATEGORIES:Sales
END:VEVENT
BEGIN:VEVENT
DTSTART;VALUE=DATE:20180101
DTEND;VALUE=DATE:20180102
DTSTAMP:20260422T212507
CREATED:20170830T191450Z
LAST-MODIFIED:20170830T191450Z
UID:10917-1514764800-1514851199@gelbvieh.org
SUMMARY:AGA Office Closed for New Year's Day
DESCRIPTION:
URL:https://gelbvieh.org/event/aga-office-closed-for-new-years-day
CATEGORIES:AGA Announcements,Event
END:VEVENT
BEGIN:VEVENT
DTSTART;VALUE=DATE:20180103
DTEND;VALUE=DATE:20180104
DTSTAMP:20260422T212507
CREATED:20170830T191604Z
LAST-MODIFIED:20170830T191604Z
UID:10918-1514937600-1515023999@gelbvieh.org
SUMMARY:NWSS Cattle arrive
DESCRIPTION:
URL:https://gelbvieh.org/event/nwss-cattle-arrive
LOCATION:National Western Stock Show\, Denver\, CO\, United States
CATEGORIES:Show
END:VEVENT
BEGIN:VEVENT
DTSTART;VALUE=DATE:20180104
DTEND;VALUE=DATE:20180105
DTSTAMP:20260422T212507
CREATED:20170830T191644Z
LAST-MODIFIED:20170830T191644Z
UID:10919-1515024000-1515110399@gelbvieh.org
SUMMARY:NWSS Cattle Check-in
DESCRIPTION:
URL:https://gelbvieh.org/event/nwss-cattle-check-in
LOCATION:National Western Stock Show\, Denver\, CO\, United States
CATEGORIES:Show
END:VEVENT
BEGIN:VEVENT
DTSTART;VALUE=DATE:20180106
DTEND;VALUE=DATE:20180107
DTSTAMP:20260422T212507
CREATED:20170830T191735Z
LAST-MODIFIED:20171009T184622Z
UID:10920-1515196800-1515283199@gelbvieh.org
SUMMARY:NWSS Gelbvieh and Balancer Junior Show
DESCRIPTION:
URL:https://gelbvieh.org/event/nwss-gelbvieh-and-balancer-junior-show
LOCATION:National Western Stock Show\, Denver\, CO\, United States
CATEGORIES:AGA Announcements,Show
END:VEVENT
BEGIN:VEVENT
DTSTART;TZID=America/Denver:20180106T110000
DTEND;TZID=America/Denver:20180106T170000
DTSTAMP:20260422T212507
CREATED:20171009T184902Z
LAST-MODIFIED:20171009T221434Z
UID:11104-1515236400-1515258000@gelbvieh.org
SUMMARY:Gelbvieh and Balancer Bull Futurity
DESCRIPTION:Following the Gelbvieh junior heifer show in Stadium Arena
URL:https://gelbvieh.org/event/gelbvieh-and-balancer-bull-futurity
LOCATION:National Western Stock Show\, Denver\, CO\, United States
CATEGORIES:AGA Announcements,Event
END:VEVENT
BEGIN:VEVENT
DTSTART;VALUE=DATE:20180107
DTEND;VALUE=DATE:20180108
DTSTAMP:20260422T212507
CREATED:20170830T191827Z
LAST-MODIFIED:20170830T191827Z
UID:10921-1515283200-1515369599@gelbvieh.org
SUMMARY:NWSS Gelbvieh and Balancer Pen Show
DESCRIPTION:
URL:https://gelbvieh.org/event/nwss-gelbvieh-and-balancer-pen-show
LOCATION:National Western Stock Show\, Denver\, CO\, United States
CATEGORIES:Show
END:VEVENT
BEGIN:VEVENT
DTSTART;VALUE=DATE:20180107
DTEND;VALUE=DATE:20180108
DTSTAMP:20260422T212507
CREATED:20170830T191914Z
LAST-MODIFIED:20170830T191914Z
UID:10922-1515283200-1515369599@gelbvieh.org
SUMMARY:NWSS Gelbvieh and Balancer National Sale
DESCRIPTION:
URL:https://gelbvieh.org/event/nwss-gelbvieh-and-balancer-national-sale
LOCATION:National Western Stock Show\, Denver\, CO\, United States
CATEGORIES:Sales
END:VEVENT
BEGIN:VEVENT
DTSTART;VALUE=DATE:20180108
DTEND;VALUE=DATE:20180109
DTSTAMP:20260422T212507
CREATED:20170830T191948Z
LAST-MODIFIED:20170830T191948Z
UID:10923-1515369600-1515455999@gelbvieh.org
SUMMARY:Gelbvieh and Balancer Open Show
DESCRIPTION:
URL:https://gelbvieh.org/event/gelbvieh-and-balancer-open-show
LOCATION:National Western Stock Show\, Denver\, CO\, United States
CATEGORIES:Show
END:VEVENT
BEGIN:VEVENT
DTSTART;TZID=America/Chicago:20180128T130000
DTEND;TZID=America/Chicago:20180128T200000
DTSTAMP:20260422T212507
CREATED:20171219T180429Z
LAST-MODIFIED:20171219T180429Z
UID:11483-1517144400-1517169600@gelbvieh.org
SUMMARY:North Dakota Gelbvieh Association Annual Meeting and Conference
DESCRIPTION:
URL:https://gelbvieh.org/event/north-dakota-gelbvieh-association-annual-meeting
LOCATION:Baymont Inn & Suites\, Mandan\, CO\, United States
CATEGORIES:Event
END:VEVENT
BEGIN:VEVENT
DTSTART;TZID=America/Denver:20180129T140000
DTEND;TZID=America/Denver:20180129T170000
DTSTAMP:20260422T212507
CREATED:20170918T133348Z
LAST-MODIFIED:20171219T180249Z
UID:10985-1517234400-1517245200@gelbvieh.org
SUMMARY:34th Annual North Dakota Gelbvieh Association's Golden Rule Sale
DESCRIPTION:North Dakota Gelbvieh Association Annual Meeting and Conference taking place January 28\, 2018.
URL:https://gelbvieh.org/event/2018-ndga-golden-rule-sale
LOCATION:Kist Livestock\, Mandan\, ND\, United States
CATEGORIES:Event,Sales
END:VEVENT
BEGIN:VEVENT
DTSTART;VALUE=DATE:20180201
DTEND;VALUE=DATE:20180202
DTSTAMP:20260422T212507
CREATED:20171219T180739Z
LAST-MODIFIED:20171219T180739Z
UID:11486-1517443200-1517529599@gelbvieh.org
SUMMARY:Black Hills Stock Show Gelbvieh & Balancer Show and Sale
DESCRIPTION:
URL:https://gelbvieh.org/event/black-hills-stock-show-gelbvieh-balancer-show-and-sale
LOCATION:Central States Fairgrounds\, 800 San Francisco Street\, Rapid Cith\, SD\, United States
CATEGORIES:Sales,Show
END:VEVENT
BEGIN:VEVENT
DTSTART;VALUE=DATE:20180205
DTEND;VALUE=DATE:20180206
DTSTAMP:20260422T212507
CREATED:20170830T192156Z
LAST-MODIFIED:20170830T192156Z
UID:10924-1517788800-1517875199@gelbvieh.org
SUMMARY:Taubenheim Gelbvieh 28th Annual Production Sale
DESCRIPTION:
URL:https://gelbvieh.org/event/taubenheim-gelbvieh-28th-annual-production-sale-2
LOCATION:Unnamed Venue\, Amherst\, NE\, United States
CATEGORIES:Sales
END:VEVENT
BEGIN:VEVENT
DTSTART;VALUE=DATE:20180206
DTEND;VALUE=DATE:20180207
DTSTAMP:20260422T212507
CREATED:20170818T193806Z
LAST-MODIFIED:20170818T193806Z
UID:10849-1517875200-1517961599@gelbvieh.org
SUMMARY:Lemke Cattle Bull and Female Sale
DESCRIPTION:
URL:https://gelbvieh.org/event/lemke-cattle-bull-and-female-sale
LOCATION:At the Ranch\, 1757 ROAD 2500\, LAWRENCE\, NE\, 68957-6022\, United States
CATEGORIES:Event,Sales
END:VEVENT
BEGIN:VEVENT
DTSTART;VALUE=DATE:20180210
DTEND;VALUE=DATE:20180211
DTSTAMP:20260422T212507
CREATED:20171122T231432Z
LAST-MODIFIED:20171122T231432Z
UID:11389-1518220800-1518307199@gelbvieh.org
SUMMARY:Prairie Hills Gelbvieh Annual Production Sale
DESCRIPTION:
URL:https://gelbvieh.org/event/prairie-hills-gelbvieh-annual-production-sale
LOCATION:At the Ranch\, Dickinson\, ND\, United States
CATEGORIES:Sales
END:VEVENT
BEGIN:VEVENT
DTSTART;TZID=America/Denver:20180213T140000
DTEND;TZID=America/Denver:20180213T170000
DTSTAMP:20260422T212507
CREATED:20180122T152752Z
LAST-MODIFIED:20180122T152752Z
UID:11608-1518530400-1518541200@gelbvieh.org
SUMMARY:45th Annual Gelbvieh Gold Sale
DESCRIPTION:Held in conjunction with the Iowa Beef Expo
URL:https://gelbvieh.org/event/45th-annual-gelbvieh-gold-sale
LOCATION:Iowa State Fairgrounds\, Des Moines\, IA\, United States
CATEGORIES:Sales
ORGANIZER;CN="Stuart & Kaye Gilbert":MAILTO:redcowrelocators@gmail.com
END:VEVENT
BEGIN:VEVENT
DTSTART;VALUE=DATE:20180217
DTEND;VALUE=DATE:20180218
DTSTAMP:20260422T212507
CREATED:20171219T180859Z
LAST-MODIFIED:20171219T180859Z
UID:11488-1518825600-1518911999@gelbvieh.org
SUMMARY:Overmiller Gelbvieh & Red Angus Annual Production Sale
DESCRIPTION:
URL:https://gelbvieh.org/event/overmiller-gelbvieh-red-angus-annual-production-sale
LOCATION:At the Farm\, Smith Center\, KS\, United States
CATEGORIES:Sales
END:VEVENT
BEGIN:VEVENT
DTSTART;VALUE=DATE:20180218
DTEND;VALUE=DATE:20180219
DTSTAMP:20260422T212507
CREATED:20171219T142951Z
LAST-MODIFIED:20171219T143145Z
UID:11475-1518912000-1518998399@gelbvieh.org
SUMMARY:Larsons Lost River Livestock 8th Annual Production Sale
DESCRIPTION:
URL:https://gelbvieh.org/event/larsons-lost-river-livestock-8th-annual-production-sale
LOCATION:At the farm\, 12866 Lindberg Lake Road\, Clearbrook\, MN\, 56634\, United States
CATEGORIES:Sales
ORGANIZER;CN="David Larson":MAILTO:david.larson.lrl@gmail.com
END:VEVENT
BEGIN:VEVENT
DTSTART;VALUE=DATE:20180220
DTEND;VALUE=DATE:20180221
DTSTAMP:20260422T212507
CREATED:20170804T171714Z
LAST-MODIFIED:20170804T173038Z
UID:10743-1519084800-1519171199@gelbvieh.org
SUMMARY:Cedar Top Ranch Spring Bull Sale
DESCRIPTION:Selling 200 coming 2-year-old Balancer Bulls \nThird Tuesday of February
URL:https://gelbvieh.org/event/cedar-top-ranch-spring-bull-sale
LOCATION:Burwell Livestock Market\, Burwell\, NE\, United States
CATEGORIES:Sales
ORGANIZER;CN="Cedar Top Ranch":MAILTO:cedartopranch@yahoo.com
END:VEVENT
BEGIN:VEVENT
DTSTART;VALUE=DATE:20180222
DTEND;VALUE=DATE:20180223
DTSTAMP:20260422T212507
CREATED:20171219T181019Z
LAST-MODIFIED:20171219T181019Z
UID:11491-1519257600-1519343999@gelbvieh.org
SUMMARY:Nebraska Cattlemen's Classic Gelbvieh and Balancer Show and Sale
DESCRIPTION:
URL:https://gelbvieh.org/event/nebraska-cattlemens-classic-gelbvieh-balancer-show-sale
LOCATION:Buffalo County Fairgrounds\, Kearney\, NE\, United States
CATEGORIES:Sales,Show
END:VEVENT
BEGIN:VEVENT
DTSTART;VALUE=DATE:20180222
DTEND;VALUE=DATE:20180223
DTSTAMP:20260422T212507
CREATED:20170830T192420Z
LAST-MODIFIED:20170830T192420Z
UID:10926-1519257600-1519343999@gelbvieh.org
SUMMARY:Plateau Gelbvieh Annual Bull Sale
DESCRIPTION:
URL:https://gelbvieh.org/event/plateau-gelbvieh-annual-bull-sale-2
LOCATION:Unnamed Venue\, Brush\, CO\, United States
CATEGORIES:Sales
ORGANIZER;CN="Plateau Gelbvieh - Jim Roelle":MAILTO:jr.plateau@hotmail.com
END:VEVENT
BEGIN:VEVENT
DTSTART;TZID=America/Denver:20180223T120000
DTEND;TZID=America/Denver:20180223T160000
DTSTAMP:20260422T212507
CREATED:20170905T133544Z
LAST-MODIFIED:20170905T133544Z
UID:10947-1519387200-1519401600@gelbvieh.org
SUMMARY:27th Annual "Pot of Gold" Gelbvieh\, Angus\, and Balancer Bull Sale
DESCRIPTION:27th annual sale\, selling 120 Gelbvieh\, Angus\, and Balancer bulls. All bulls P.A.P.\, fertility\, PI-BVD\, and Trich tested. EPD’s on all bulls – many with Genomic Enhanced EPD’s. Bulls range from calving ease to performance along with carcass and maternal traits. Blacks and Reds\, many homozygous polled and/or homozygous black. Herd sire prospects. High altitude bulls for over 27 years that work well in range conditions.
URL:https://gelbvieh.org/event/27th-annual-pot-of-gold-gelbvieh-angus-and-balancer-bull-sale
LOCATION:Jim’s Auction Barn\, 62687 Jay Jay Road\, Montrose\, CO\, 81401\, United States
CATEGORIES:Sales
ORGANIZER;CN="Dave Bowman":MAILTO:davedawn@gelbviehbulls.net
END:VEVENT
BEGIN:VEVENT
DTSTART;VALUE=DATE:20180224
DTEND;VALUE=DATE:20180225
DTSTAMP:20260422T212507
CREATED:20171002T200442Z
LAST-MODIFIED:20171002T200442Z
UID:11052-1519430400-1519516799@gelbvieh.org
SUMMARY:Seedstock Plus North Missouri Bull Sale
DESCRIPTION:
URL:https://gelbvieh.org/event/seedstock-plus-north-missouri-bull-sale-3
LOCATION:Kingsville Livestock\, Kingsville\, MO\, United States
CATEGORIES:Sales
ORGANIZER;CN="Seedstock Plus":MAILTO:john@seedstockplus.com
END:VEVENT
BEGIN:VEVENT
DTSTART;VALUE=DATE:20180224
DTEND;VALUE=DATE:20180225
DTSTAMP:20260422T212507
CREATED:20170804T205059Z
LAST-MODIFIED:20170804T205059Z
UID:10778-1519430400-1519516799@gelbvieh.org
SUMMARY:Swanson Cattle Company 31st Annual Production Sale
DESCRIPTION:
URL:https://gelbvieh.org/event/swanson-cattle-company-31st-annual-production-sale
LOCATION:Unnamed Venue\, Oxford\, NE\, United States
CATEGORIES:Sales
ORGANIZER;CN="Swanson Cattle Company - Jeff Swanson":MAILTO:swansoncattleco@yahoo.com
END:VEVENT
BEGIN:VEVENT
DTSTART;VALUE=DATE:20180224
DTEND;VALUE=DATE:20180225
DTSTAMP:20260422T212507
CREATED:20170804T205224Z
LAST-MODIFIED:20170804T205224Z
UID:10780-1519430400-1519516799@gelbvieh.org
SUMMARY:Post Rock Cattle Company Cowman's Kind Annual Bull Sale
DESCRIPTION:
URL:https://gelbvieh.org/event/post-rock-cattle-company-cowmans-kind-annual-bull-sale
LOCATION:Post Rock Cattle Company Sale Facility\, Barnard\, KS\, United States
CATEGORIES:Sales
ORGANIZER;CN="Post Rock Cattle Company":MAILTO:prcc@twinvalley.net
END:VEVENT
BEGIN:VEVENT
DTSTART;TZID=America/Denver:20180224T130000
DTEND;TZID=America/Denver:20180224T170000
DTSTAMP:20260422T212507
CREATED:20180216T211724Z
LAST-MODIFIED:20180216T211724Z
UID:11759-1519477200-1519491600@gelbvieh.org
SUMMARY:Oklahoma Gelbvieh Sooner Select Sale
DESCRIPTION:
URL:https://gelbvieh.org/event/oklahoma-gelbvieh-sooner-select-sale
LOCATION:McAlister Union Stockyards\, 2515 Standard Rd\, McAlester\, OK\, 74501\, United States
CATEGORIES:Sales
ORGANIZER;CN="Ronn Cunningham":MAILTO:colronn@yahoo.com
END:VEVENT
BEGIN:VEVENT
DTSTART;TZID=America/Denver:20180228T130000
DTEND;TZID=America/Denver:20180228T170000
DTSTAMP:20260422T212507
CREATED:20180109T201457Z
LAST-MODIFIED:20180109T212232Z
UID:11566-1519822800-1519837200@gelbvieh.org
SUMMARY:Grund Beef Genetics Cattlemen's Choice Bull Sale
DESCRIPTION:
URL:https://gelbvieh.org/event/grund-beef-genetics-cattlemens-choice-bull-sale
LOCATION:Oakley Livestock Commission\, Oakley\, KS\, United States
CATEGORIES:Sales
END:VEVENT
BEGIN:VEVENT
DTSTART;VALUE=DATE:20180302
DTEND;VALUE=DATE:20180303
DTSTAMP:20260422T212507
CREATED:20171219T182407Z
LAST-MODIFIED:20171219T182407Z
UID:11494-1519948800-1520035199@gelbvieh.org
SUMMARY:Chimney Butte Ranch Annual Production Sale
DESCRIPTION:
URL:https://gelbvieh.org/event/chimney-butte-ranch-annual-production-sale
LOCATION:At the Ranch\, Mandan\, ND\, United States
CATEGORIES:Sales
END:VEVENT
BEGIN:VEVENT
DTSTART;VALUE=DATE:20180303
DTEND;VALUE=DATE:20180304
DTSTAMP:20260422T212507
CREATED:20171002T200538Z
LAST-MODIFIED:20171002T200538Z
UID:11054-1520035200-1520121599@gelbvieh.org
SUMMARY:Seedstock Plus Arkansas Bull Sale
DESCRIPTION:
URL:https://gelbvieh.org/event/seedstock-plus-arkansas-bull-sale-2
LOCATION:Hope Livestock Market\, Hope\, AR\, United States
CATEGORIES:Sales
ORGANIZER;CN="Seedstock Plus":MAILTO:john@seedstockplus.com
END:VEVENT
END:VCALENDAR