BEGIN:VCALENDAR
VERSION:2.0
PRODID:-//American Gelbvieh - ECPv6.15.20//NONSGML v1.0//EN
CALSCALE:GREGORIAN
METHOD:PUBLISH
X-ORIGINAL-URL:https://gelbvieh.org
X-WR-CALDESC:Events for American Gelbvieh
REFRESH-INTERVAL;VALUE=DURATION:PT1H
X-Robots-Tag:noindex
X-PUBLISHED-TTL:PT1H
BEGIN:VTIMEZONE
TZID:America/Denver
BEGIN:DAYLIGHT
TZOFFSETFROM:-0700
TZOFFSETTO:-0600
TZNAME:MDT
DTSTART:20170312T090000
END:DAYLIGHT
BEGIN:STANDARD
TZOFFSETFROM:-0600
TZOFFSETTO:-0700
TZNAME:MST
DTSTART:20171105T080000
END:STANDARD
BEGIN:DAYLIGHT
TZOFFSETFROM:-0700
TZOFFSETTO:-0600
TZNAME:MDT
DTSTART:20180311T090000
END:DAYLIGHT
BEGIN:STANDARD
TZOFFSETFROM:-0600
TZOFFSETTO:-0700
TZNAME:MST
DTSTART:20181104T080000
END:STANDARD
BEGIN:DAYLIGHT
TZOFFSETFROM:-0700
TZOFFSETTO:-0600
TZNAME:MDT
DTSTART:20190310T090000
END:DAYLIGHT
BEGIN:STANDARD
TZOFFSETFROM:-0600
TZOFFSETTO:-0700
TZNAME:MST
DTSTART:20191103T080000
END:STANDARD
END:VTIMEZONE
BEGIN:VEVENT
DTSTART;VALUE=DATE:20180324
DTEND;VALUE=DATE:20180325
DTSTAMP:20260423T182007
CREATED:20171219T183327Z
LAST-MODIFIED:20171219T183327Z
UID:11497-1521849600-1521935999@gelbvieh.org
SUMMARY:Cranview Gelbvieh Annual Progress and Performance Sale
DESCRIPTION:
URL:https://gelbvieh.org/event/cranview-gelbvieh-annual-progress-performance-sale
LOCATION:Rugby Livestock Auction\, Rugby\, ND\, United States
CATEGORIES:Sales
END:VEVENT
BEGIN:VEVENT
DTSTART;VALUE=DATE:20180324
DTEND;VALUE=DATE:20180325
DTSTAMP:20260423T182007
CREATED:20170830T194838Z
LAST-MODIFIED:20170830T194838Z
UID:10938-1521849600-1521935999@gelbvieh.org
SUMMARY:Harriman Sata Fe Top of the Breed Bull & Female Sale
DESCRIPTION:
URL:https://gelbvieh.org/event/harriman-sata-fe-top-of-the-breed-bull-female-sale
LOCATION:Unnamed Venue\, Windsor\, MO\, United States
CATEGORIES:Sales
END:VEVENT
BEGIN:VEVENT
DTSTART;VALUE=DATE:20180328
DTEND;VALUE=DATE:20180329
DTSTAMP:20260423T182007
CREATED:20180110T211024Z
LAST-MODIFIED:20180110T220910Z
UID:11569-1522195200-1522281599@gelbvieh.org
SUMMARY:Kansas Bull Test Sale
DESCRIPTION:Visit www.kansasbulltest.com for photos\, videos\, catalog request and performance information. Live broadcast and bidding available on Superior Livestock Auction.
URL:https://gelbvieh.org/event/kansas-bull-test-sale
LOCATION:Mitchell County Fairgrounds\, Beloit\, KS\, United States
CATEGORIES:Sales
END:VEVENT
BEGIN:VEVENT
DTSTART;VALUE=DATE:20180407
DTEND;VALUE=DATE:20180408
DTSTAMP:20260423T182007
CREATED:20171122T231330Z
LAST-MODIFIED:20171122T231330Z
UID:11386-1523059200-1523145599@gelbvieh.org
SUMMARY:Circle S Ranch Going to Grass Production Sale
DESCRIPTION:
URL:https://gelbvieh.org/event/circle-s-ranch-going-to-grass-production-sale
LOCATION:At the Ranch\, Canton\, Kansas\, United States
CATEGORIES:Sales
END:VEVENT
BEGIN:VEVENT
DTSTART;VALUE=DATE:20180407
DTEND;VALUE=DATE:20180408
DTSTAMP:20260423T182007
CREATED:20180126T162230Z
LAST-MODIFIED:20180126T162307Z
UID:11633-1523059200-1523145599@gelbvieh.org
SUMMARY:Middle Tennessee Gelbvieh & Angus Invitational
DESCRIPTION:
URL:https://gelbvieh.org/event/middle-tennessee-gelbvieh-angus-invitational-2
LOCATION:Centerville\, TN
CATEGORIES:Sales
ORGANIZER;CN="Slaughter Sale Management":MAILTO:hmslghtr@aol.com
END:VEVENT
BEGIN:VEVENT
DTSTART;TZID=America/Denver:20180407T120000
DTEND;TZID=America/Denver:20180407T170000
DTSTAMP:20260423T182007
CREATED:20180212T230321Z
LAST-MODIFIED:20180212T230321Z
UID:11730-1523102400-1523120400@gelbvieh.org
SUMMARY:B/F Cattle Company with Cleland Cattle Company Maternal Integrity Gelbvieh & Balancer® BULL SALE
DESCRIPTION:Forage developed\, work ready\, athletic\, easy keeping bulls for the commercial cattleman. For information or to request a catalog\, call Brett Foster at 660.492.2808. Videos may be viewed at www.bfcattleco.com. Lunch served at 12:00 noon\, sale starts 1:00 p.m.
URL:https://gelbvieh.org/event/bf-cattle-company-with-cleland-cattle-company-maternal-integrity-gelbvieh-balancer-bull-sale-2
LOCATION:At the farm\, 5746 NE County Road 13003\, Butler\, MO\, 64730\, United States
CATEGORIES:Sales
END:VEVENT
BEGIN:VEVENT
DTSTART;VALUE=DATE:20180414
DTEND;VALUE=DATE:20180415
DTSTAMP:20260423T182007
CREATED:20171002T200747Z
LAST-MODIFIED:20171002T200747Z
UID:11058-1523664000-1523750399@gelbvieh.org
SUMMARY:Bar T Bar Ranch Annual Bull Sale
DESCRIPTION:
URL:https://gelbvieh.org/event/bar-t-bar-ranch-annual-bull-sale
LOCATION:Bar T Bar Ranch\, Winslow\, AZ\, United States
CATEGORIES:Sales
END:VEVENT
BEGIN:VEVENT
DTSTART;TZID=America/Denver:20180414T120000
DTEND;TZID=America/Denver:20180414T170000
DTSTAMP:20260423T182007
CREATED:20180228T171010Z
LAST-MODIFIED:20180228T171010Z
UID:11812-1523707200-1523725200@gelbvieh.org
SUMMARY:Knoll Crest Farm Performance Bull and Commercial Heifer Sale
DESCRIPTION:The address listed below is a GPS address. Our mailing address is PO Box 117\, Red House VA 23963
URL:https://gelbvieh.org/event/knoll-crest-farm-performance-bull-and-commercial-heifer-sale
LOCATION:Knoll Crest Farm\, 167 Bull Hill Road\, Concord\, VA\, 24538\, United States
CATEGORIES:Sales
ORGANIZER;CN="Dalton Bennett":MAILTO:knollcrest@knollcrestfarm.com
END:VEVENT
BEGIN:VEVENT
DTSTART;VALUE=DATE:20180428
DTEND;VALUE=DATE:20180429
DTSTAMP:20260423T182007
CREATED:20180126T162406Z
LAST-MODIFIED:20180126T162406Z
UID:11636-1524873600-1524959999@gelbvieh.org
SUMMARY:Bush Cattle Farm Dispersal Sale
DESCRIPTION:
URL:https://gelbvieh.org/event/bush-cattle-farm-dispersal-sale
LOCATION:Franklin\, KY
CATEGORIES:Sales
ORGANIZER;CN="Slaughter Sale Management":MAILTO:hmslghtr@aol.com
END:VEVENT
BEGIN:VEVENT
DTSTART;TZID=America/Denver:20180512T130000
DTEND;TZID=America/Denver:20180512T170000
DTSTAMP:20260423T182007
CREATED:20180510T214726Z
LAST-MODIFIED:20180510T214726Z
UID:12131-1526130000-1526144400@gelbvieh.org
SUMMARY:6th Annual Middle Tennessee Gelbvieh/Angus Invitational
DESCRIPTION:Hosted by Armstrong Cattle Co.
URL:https://gelbvieh.org/event/6th-annual-middle-tennessee-gelbviehangus-invitational-2
LOCATION:Armstrong Cattle Company\, 4874 Hwy 50\, Centerville\, TN\, 37033\, United States
CATEGORIES:Sales
ORGANIZER;CN="Slaughter Sale Management":MAILTO:hmslghtr@aol.com
END:VEVENT
BEGIN:VEVENT
DTSTART;TZID=America/Denver:20180512T130000
DTEND;TZID=America/Denver:20180512T170000
DTSTAMP:20260423T182007
CREATED:20180510T215129Z
LAST-MODIFIED:20180510T215129Z
UID:12134-1526130000-1526144400@gelbvieh.org
SUMMARY:Kittle Farms Building A Legacy Spring Bull Sale
DESCRIPTION:
URL:https://gelbvieh.org/event/kittle-farms-building-a-legacy-spring-bull-sale
LOCATION:NE Alabama Agri-Business Center\, 1571 McCurdy Ave N\, Rainsville\, AL\, 35986\, United States
CATEGORIES:Sales
END:VEVENT
BEGIN:VEVENT
DTSTART;VALUE=DATE:20180520
DTEND;VALUE=DATE:20180521
DTSTAMP:20260423T182007
CREATED:20180515T154338Z
LAST-MODIFIED:20180515T155037Z
UID:12161-1526774400-1526860799@gelbvieh.org
SUMMARY:TJB Gelbvieh Show Heifer Sale
DESCRIPTION:Online show heifer sale. Visit www.tjbgelbvieh.com for more information.
URL:https://gelbvieh.org/event/tjb-gelbvieh-show-heifer-sale
CATEGORIES:Event,Sales
END:VEVENT
BEGIN:VEVENT
DTSTART;VALUE=DATE:20180525
DTEND;VALUE=DATE:20180526
DTSTAMP:20260423T182007
CREATED:20180515T153835Z
LAST-MODIFIED:20180515T153835Z
UID:12159-1527206400-1527292799@gelbvieh.org
SUMMARY:AGJA Corn Fed Classic Important Deadline
DESCRIPTION:• Corn Fed Classic Entries Due\n• Ownership Deadline for Corn Fed Classic\n• Scholarship Application Postmark Deadline\n• Creative Writing Postmark Deadline\n• Video Contest Postmark Deadline\n• Graphic Design Postmark Deadline\n• Ambassador Notebook Postmark Deadline\n• Board of Directors Application Postmark Deadline\n• Premier Breeder Application Postmark Deadline \nEntry forms and all supporting documents\, including the general information and rules packet\, can be found here.
URL:https://gelbvieh.org/event/agja-corn-fed-classic-important-deadline
CATEGORIES:Event,Juniors
END:VEVENT
BEGIN:VEVENT
DTSTART;TZID=America/Denver:20180525T073000
DTEND;TZID=America/Denver:20180528T160000
DTSTAMP:20260423T182007
CREATED:20180419T201556Z
LAST-MODIFIED:20180524T141959Z
UID:12047-1527233400-1527523200@gelbvieh.org
SUMMARY:AGA Office Closed for Memorial Day
DESCRIPTION:The AGA office will be closed Friday\, May 25 through Monday\, May 28 in observance of Memorial Day. The AGA office will resume regular business hours of 7:30 a.m.-4:00 p.m. Mountain Time on Tuesday\, May 29. The AGA wishes everyone a safe and happy weekend as we remember those who have sacrificed for our country.
URL:https://gelbvieh.org/event/aga-office-closed-for-memorial-day-2
LOCATION:AGA Office\, 10900 Dover Street\, Westminster\, 80021\, United States
CATEGORIES:AGA Announcements,Event
END:VEVENT
BEGIN:VEVENT
DTSTART;TZID=America/Denver:20180525T080000
DTEND;TZID=America/Denver:20180527T170000
DTSTAMP:20260423T182007
CREATED:20180417T194747Z
LAST-MODIFIED:20180417T194747Z
UID:12026-1527235200-1527440400@gelbvieh.org
SUMMARY:AGJA Eastern Regional
DESCRIPTION:
URL:https://gelbvieh.org/event/agja-eastern-regional-3
LOCATION:Marion County Fairgrounds\, Palmyra\, MO\, United States
CATEGORIES:AGA Announcements,Juniors,Show
END:VEVENT
BEGIN:VEVENT
DTSTART;TZID=America/Denver:20180601T080000
DTEND;TZID=America/Denver:20180602T170000
DTSTAMP:20260423T182007
CREATED:20180417T194944Z
LAST-MODIFIED:20180417T194944Z
UID:12029-1527840000-1527958800@gelbvieh.org
SUMMARY:AGJA Western Regional
DESCRIPTION:
URL:https://gelbvieh.org/event/agja-western-regional-2
LOCATION:Cloud County Fairgrounds\, Concordia\, KS\, United States
CATEGORIES:AGA Announcements,Juniors,Show
END:VEVENT
BEGIN:VEVENT
DTSTART;TZID=America/Denver:20180620T080000
DTEND;TZID=America/Denver:20180623T170000
DTSTAMP:20260423T182007
CREATED:20180504T134730Z
LAST-MODIFIED:20180504T134730Z
UID:12110-1529481600-1529773200@gelbvieh.org
SUMMARY:2018 BIF Annual Meeting and Research Symposium
DESCRIPTION:The Beef Improvement Federation (BIF) is celebrating 50 years in 2018. Themed “Elevating the Industry\,” the Annual Meeting and Research Symposium is poised not only to celebrate the last 50 years but launch into the next 50. The 2018 BIF Annual Meeting and Research Symposium will return to Colorado June 20-23 at the Embassy Suites Convention Center in Loveland.
URL:https://gelbvieh.org/event/2018-bif-annual-meeting-and-research-symposium
LOCATION:Embassy Suites Convention Center Hotel\, Loveland\, CO\, United States
CATEGORIES:Event
END:VEVENT
BEGIN:VEVENT
DTSTART;VALUE=DATE:20180624
DTEND;VALUE=DATE:20180625
DTSTAMP:20260423T182007
CREATED:20180515T150336Z
LAST-MODIFIED:20180515T150336Z
UID:12155-1529798400-1529884799@gelbvieh.org
SUMMARY:TJB Gelbvieh & Balancer Bred Heifer Sale
DESCRIPTION:Online bred heifer sale for fall-calving bred heifers. Visit www.tjbgelbvieh.com for more information.
URL:https://gelbvieh.org/event/tjb-gelbvieh-balancer-bred-heifer-sale
CATEGORIES:Event,Sales
END:VEVENT
BEGIN:VEVENT
DTSTART;TZID=America/Denver:20180701T080000
DTEND;TZID=America/Denver:20180706T170000
DTSTAMP:20260423T182007
CREATED:20180417T194158Z
LAST-MODIFIED:20180417T194158Z
UID:12020-1530432000-1530896400@gelbvieh.org
SUMMARY:2018 AGJA Corn Fed Classic
DESCRIPTION:Hosted by the Iowa Junior Gelbvieh Association and Illinois Junior Gelbvieh Association
URL:https://gelbvieh.org/event/2018-agja-corn-fed-classic
LOCATION:National Cattle Congress Facilities\, 257 Ansborough Ave\, Waterloo\, IA\, 50701\, United States
CATEGORIES:AGA Announcements,Juniors,Show
END:VEVENT
BEGIN:VEVENT
DTSTART;VALUE=DATE:20180704
DTEND;VALUE=DATE:20180705
DTSTAMP:20260423T182007
CREATED:20180515T154438Z
LAST-MODIFIED:20180515T154438Z
UID:12163-1530662400-1530748799@gelbvieh.org
SUMMARY:AGA office closed for Independence Day
DESCRIPTION:
URL:https://gelbvieh.org/event/aga-office-closed-for-independence-day
LOCATION:AGA Office\, 10900 Dover Street\, Westminster\, 80021\, United States
CATEGORIES:AGA Announcements
END:VEVENT
BEGIN:VEVENT
DTSTART;TZID=America/Denver:20180719T080000
DTEND;TZID=America/Denver:20180722T170000
DTSTAMP:20260423T182007
CREATED:20180417T195237Z
LAST-MODIFIED:20180417T195237Z
UID:12032-1531987200-1532278800@gelbvieh.org
SUMMARY:The Summit – IGS Youth Leadership Conference
DESCRIPTION:The AGJA has teamed up with the American Junior Shorthorn Association and the American Junior Simmental Association for The Summit\, IGS Youth Leadership Conference. The Summit is open to all youth ages 14-22 in the beef industry but be sure to register soon\, only 100 spots are available and registration is on a first-come\, first-served basis.
URL:https://gelbvieh.org/event/the-summit-igs-youth-leadership-conference
LOCATION:Fort Worth\, Texas\, Fort Worth\, TX\, United States
CATEGORIES:AGA Announcements,Event,Juniors
END:VEVENT
BEGIN:VEVENT
DTSTART;TZID=America/Denver:20180830T080000
DTEND;TZID=America/Denver:20180901T170000
DTSTAMP:20260423T182007
CREATED:20180517T212344Z
LAST-MODIFIED:20180517T212344Z
UID:12224-1535616000-1535821200@gelbvieh.org
SUMMARY:Gelbvieh events at Oregon State Fair
DESCRIPTION:Jr. Show August 30\, 2018\nPacific Northwest Gelbvieh Heifer Futurity August 31\, 2018\nOpen Gelbvieh Show September 1\, 2018
URL:https://gelbvieh.org/event/oregon-state-fair
LOCATION:Oregon State Fair & Exposition Center\, 2330 17th Street NE\, Salem\, OR\, 97301\, United States
CATEGORIES:Event,Show
ORGANIZER;CN="Pacific Northwest Gelbvieh Association":MAILTO:hopfer@frontier.com
END:VEVENT
BEGIN:VEVENT
DTSTART;VALUE=DATE:20180831
DTEND;VALUE=DATE:20180904
DTSTAMP:20260423T182007
CREATED:20180613T191844Z
LAST-MODIFIED:20180613T192045Z
UID:12383-1535673600-1536019199@gelbvieh.org
SUMMARY:AGA office closed for Labor Day
DESCRIPTION:
URL:https://gelbvieh.org/event/aga-office-closed-for-labor-day
CATEGORIES:AGA Announcements,Event
END:VEVENT
BEGIN:VEVENT
DTSTART;TZID=America/Denver:20180915T080000
DTEND;TZID=America/Denver:20180915T170000
DTSTAMP:20260423T182007
CREATED:20180613T192402Z
LAST-MODIFIED:20180615T195934Z
UID:12385-1536998400-1537030800@gelbvieh.org
SUMMARY:Seedstock Plus Showcase Sale XIII & 10th Annual Customer Appreciation Sale
DESCRIPTION:
URL:https://gelbvieh.org/event/seedstock-plus-showcase-sale-xiii-10th-annual-customer-appreciation-sale
LOCATION:Kingsville Livestock Auction\, 1630 SW 58 Hwy\, Kingsville\, MO\, 64061
CATEGORIES:Event,Sales
ORGANIZER;CN="Seedstock Plus":MAILTO:john@seedstockplus.com
END:VEVENT
BEGIN:VEVENT
DTSTART;VALUE=DATE:20180922
DTEND;VALUE=DATE:20180923
DTSTAMP:20260423T182007
CREATED:20180726T200556Z
LAST-MODIFIED:20180726T200556Z
UID:12671-1537574400-1537660799@gelbvieh.org
SUMMARY:North Dakota Gelbvieh Association Annual Field Day
DESCRIPTION:
URL:https://gelbvieh.org/event/north-dakota-gelbvieh-association-annual-field-day
LOCATION:Golden Buckle Gelbvieh Ranch\, Medina\, ND\, United States
CATEGORIES:Event
END:VEVENT
BEGIN:VEVENT
DTSTART;TZID=America/Denver:20180929T080000
DTEND;TZID=America/Denver:20180929T170000
DTSTAMP:20260423T182007
CREATED:20180613T192624Z
LAST-MODIFIED:20180613T192624Z
UID:12388-1538208000-1538240400@gelbvieh.org
SUMMARY:Bluegrass Gelbvieh Invitational Fall Bull & Female Sale
DESCRIPTION:
URL:https://gelbvieh.org/event/bluegrass-gelbvieh-invitational-fall-bull-female-sale
LOCATION:Mt. Sterling\, KY\, Mt. Sterling\, KY
CATEGORIES:Event,Sales
END:VEVENT
BEGIN:VEVENT
DTSTART;VALUE=DATE:20181006
DTEND;VALUE=DATE:20181007
DTSTAMP:20260423T182007
CREATED:20180718T132752Z
LAST-MODIFIED:20180718T132752Z
UID:12619-1538784000-1538870399@gelbvieh.org
SUMMARY:Kansas Gelbvieh Association Herd Tour
DESCRIPTION:
URL:https://gelbvieh.org/event/kansas-gelbvieh-association-herd-tour
CATEGORIES:Event
END:VEVENT
BEGIN:VEVENT
DTSTART;VALUE=DATE:20181006
DTEND;VALUE=DATE:20181007
DTSTAMP:20260423T182007
CREATED:20180924T202246Z
LAST-MODIFIED:20180924T202246Z
UID:13015-1538784000-1538870399@gelbvieh.org
SUMMARY:Kansas Gelbvieh Association Field Day
DESCRIPTION:
URL:https://gelbvieh.org/event/kansas-gelbvieh-association-field-day
CATEGORIES:Event
END:VEVENT
BEGIN:VEVENT
DTSTART;TZID=America/Denver:20181012T110000
DTEND;TZID=America/Denver:20181012T170000
DTSTAMP:20260423T182007
CREATED:20180917T212252Z
LAST-MODIFIED:20180917T212252Z
UID:12977-1539342000-1539363600@gelbvieh.org
SUMMARY:J Bar M Gelbvieh Complete Female Dispersal Sale
DESCRIPTION:
URL:https://gelbvieh.org/event/j-bar-m-gelbvieh-complete-female-dispersal-sale
LOCATION:Hartland Farms Sale Facility\, Stella\, Missouri
CATEGORIES:Event,Sales
END:VEVENT
BEGIN:VEVENT
DTSTART;VALUE=DATE:20181013
DTEND;VALUE=DATE:20181014
DTSTAMP:20260423T182007
CREATED:20180813T205222Z
LAST-MODIFIED:20180813T205222Z
UID:12742-1539388800-1539475199@gelbvieh.org
SUMMARY:Rogers Valley Farm Gelbvieh Open House Private Treaty Kick-Off Fall Bull Sale
DESCRIPTION:
URL:https://gelbvieh.org/event/rogers-valley-farm-gelbvieh-open-house-private-treaty-kick-off-fall-bull-sale
LOCATION:Mendon\, MO\, Mendon\, MO
CATEGORIES:Event,Sales
END:VEVENT
END:VCALENDAR