BEGIN:VCALENDAR
VERSION:2.0
PRODID:-//American Gelbvieh - ECPv6.15.20//NONSGML v1.0//EN
CALSCALE:GREGORIAN
METHOD:PUBLISH
X-WR-CALNAME:American Gelbvieh
X-ORIGINAL-URL:https://gelbvieh.org
X-WR-CALDESC:Events for American Gelbvieh
REFRESH-INTERVAL;VALUE=DURATION:PT1H
X-Robots-Tag:noindex
X-PUBLISHED-TTL:PT1H
BEGIN:VTIMEZONE
TZID:America/Chicago
BEGIN:DAYLIGHT
TZOFFSETFROM:-0600
TZOFFSETTO:-0500
TZNAME:CDT
DTSTART:20170312T080000
END:DAYLIGHT
BEGIN:STANDARD
TZOFFSETFROM:-0500
TZOFFSETTO:-0600
TZNAME:CST
DTSTART:20171105T070000
END:STANDARD
BEGIN:DAYLIGHT
TZOFFSETFROM:-0600
TZOFFSETTO:-0500
TZNAME:CDT
DTSTART:20180311T080000
END:DAYLIGHT
BEGIN:STANDARD
TZOFFSETFROM:-0500
TZOFFSETTO:-0600
TZNAME:CST
DTSTART:20181104T070000
END:STANDARD
BEGIN:DAYLIGHT
TZOFFSETFROM:-0600
TZOFFSETTO:-0500
TZNAME:CDT
DTSTART:20190310T080000
END:DAYLIGHT
BEGIN:STANDARD
TZOFFSETFROM:-0500
TZOFFSETTO:-0600
TZNAME:CST
DTSTART:20191103T070000
END:STANDARD
END:VTIMEZONE
BEGIN:VTIMEZONE
TZID:America/Denver
BEGIN:DAYLIGHT
TZOFFSETFROM:-0700
TZOFFSETTO:-0600
TZNAME:MDT
DTSTART:20170312T090000
END:DAYLIGHT
BEGIN:STANDARD
TZOFFSETFROM:-0600
TZOFFSETTO:-0700
TZNAME:MST
DTSTART:20171105T080000
END:STANDARD
BEGIN:DAYLIGHT
TZOFFSETFROM:-0700
TZOFFSETTO:-0600
TZNAME:MDT
DTSTART:20180311T090000
END:DAYLIGHT
BEGIN:STANDARD
TZOFFSETFROM:-0600
TZOFFSETTO:-0700
TZNAME:MST
DTSTART:20181104T080000
END:STANDARD
BEGIN:DAYLIGHT
TZOFFSETFROM:-0700
TZOFFSETTO:-0600
TZNAME:MDT
DTSTART:20190310T090000
END:DAYLIGHT
BEGIN:STANDARD
TZOFFSETFROM:-0600
TZOFFSETTO:-0700
TZNAME:MST
DTSTART:20191103T080000
END:STANDARD
END:VTIMEZONE
BEGIN:VTIMEZONE
TZID:America/Indiana/Indianapolis
BEGIN:DAYLIGHT
TZOFFSETFROM:-0500
TZOFFSETTO:-0400
TZNAME:EDT
DTSTART:20170312T070000
END:DAYLIGHT
BEGIN:STANDARD
TZOFFSETFROM:-0400
TZOFFSETTO:-0500
TZNAME:EST
DTSTART:20171105T060000
END:STANDARD
BEGIN:DAYLIGHT
TZOFFSETFROM:-0500
TZOFFSETTO:-0400
TZNAME:EDT
DTSTART:20180311T070000
END:DAYLIGHT
BEGIN:STANDARD
TZOFFSETFROM:-0400
TZOFFSETTO:-0500
TZNAME:EST
DTSTART:20181104T060000
END:STANDARD
BEGIN:DAYLIGHT
TZOFFSETFROM:-0500
TZOFFSETTO:-0400
TZNAME:EDT
DTSTART:20190310T070000
END:DAYLIGHT
BEGIN:STANDARD
TZOFFSETFROM:-0400
TZOFFSETTO:-0500
TZNAME:EST
DTSTART:20191103T060000
END:STANDARD
END:VTIMEZONE
BEGIN:VEVENT
DTSTART;TZID=America/Chicago:20180303T130000
DTEND;TZID=America/Chicago:20180303T170000
DTSTAMP:20260423T173059
CREATED:20171108T170343Z
LAST-MODIFIED:20171108T172430Z
UID:11318-1520082000-1520096400@gelbvieh.org
SUMMARY:Cib's Gelbvieh Annual Bull and Female Sale
DESCRIPTION:Our annual private treaty kick off sale will feature Purebred Gelbvieh and Balancer yearling bulls and females as well as select bred cows and heifers. Sires of the offering include HYEK Black Impact\, Astronaut\, TAU Sniper\, Black Granite\, and Coleman Charlo. Call or email with questions or to request a catalog.
URL:https://gelbvieh.org/event/cibs-gelbvieh-annual-bull-and-female-sale
LOCATION:At the Farm\, 2786 R Ave\, Clutier\, IA\, 52217\, United States
CATEGORIES:Sales
ORGANIZER;CN="Cib's Gelbvieh":MAILTO:tnmcibula@yahoo.com
END:VEVENT
BEGIN:VEVENT
DTSTART;TZID=America/Chicago:20180305T110000
DTEND;TZID=America/Chicago:20180305T170000
DTSTAMP:20260423T173059
CREATED:20171106T141626Z
LAST-MODIFIED:20171106T141626Z
UID:11310-1520247600-1520269200@gelbvieh.org
SUMMARY:MLM Gelbvieh Private Treaty Kickoff Sale
DESCRIPTION:Selling black and red Gelbvieh and Balancer bulls.
URL:https://gelbvieh.org/event/mlm-gelbvieh-private-treaty-kickoff-sale-2
LOCATION:At the Ranch\, 824 Road 3000\, Superior\, NE\, 68978\, United States
CATEGORIES:Sales
ORGANIZER;CN="Marlin Meyer":MAILTO:mlm68978@yahoo.com
END:VEVENT
BEGIN:VEVENT
DTSTART;TZID=America/Denver:20180305T130000
DTEND;TZID=America/Denver:20180305T175900
DTSTAMP:20260423T173059
CREATED:20170707T205131Z
LAST-MODIFIED:20180220T155958Z
UID:10627-1520254800-1520272740@gelbvieh.org
SUMMARY:Hojer Ranch Gelbvieh & Balancer 26th Annual Production Sale
DESCRIPTION:Additional Information: Selling 130 Bulls and 230 Gelbvieh\, Balancer & Gelbvieh influenced heifers. Ask about our unique heifer replacement program. \nClick here to view videos: https://www.dvauction.com/video_catalogs/3389 \nClick here to view catalog: https://d3s7yb5qtsmwow.cloudfront.net/dvauction.com/catalogs/__2018%20Catalogs_/Hojer%203-5-18/HTML/index.html 
URL:https://gelbvieh.org/event/hojer-gelbvieh-balancer-26th-annual-production-sale
LOCATION:Magness Livestock\, Huron\, SD\, United States
CATEGORIES:Sales
END:VEVENT
BEGIN:VEVENT
DTSTART;VALUE=DATE:20180306
DTEND;VALUE=DATE:20180307
DTSTAMP:20260423T173059
CREATED:20170830T193845Z
LAST-MODIFIED:20170830T193845Z
UID:10930-1520294400-1520380799@gelbvieh.org
SUMMARY:Warner Beef Genetics- Genetic Investment Bull Sale
DESCRIPTION:
URL:https://gelbvieh.org/event/warner-beef-genetics-genetic-investment-bull-sale
LOCATION:Warner Beef Genetics\, 42198 Road 721\, Arapahoe\, NE\, 68922\, United States
CATEGORIES:Sales
END:VEVENT
BEGIN:VEVENT
DTSTART;VALUE=DATE:20180308
DTEND;VALUE=DATE:20180309
DTSTAMP:20260423T173059
CREATED:20170804T210135Z
LAST-MODIFIED:20170804T210135Z
UID:10786-1520467200-1520553599@gelbvieh.org
SUMMARY:Raile Gelbvieh/Balancer Bull Sale
DESCRIPTION:
URL:https://gelbvieh.org/event/raile-gelbviehbalancer-bull-sale-2
LOCATION:Burlington Livestock Exchange\, Burlington\, CO\, United States
CATEGORIES:Sales
ORGANIZER;CN="Delbert & Marilyn Raile":MAILTO:dmraile@railegelbvieh.com
END:VEVENT
BEGIN:VEVENT
DTSTART;VALUE=DATE:20180310
DTEND;VALUE=DATE:20180311
DTSTAMP:20260423T173059
CREATED:20171215T210108Z
LAST-MODIFIED:20171215T210738Z
UID:11438-1520640000-1520726399@gelbvieh.org
SUMMARY:Seedstock Plus Red Reward Sale
DESCRIPTION:
URL:https://gelbvieh.org/event/seedstock-plus-red-reward-sale
LOCATION:United Producers\, Humansville\, MO\, United States
CATEGORIES:Sales
ORGANIZER;CN="Seedstock Plus":MAILTO:john@seedstockplus.com
END:VEVENT
BEGIN:VEVENT
DTSTART;VALUE=DATE:20180310
DTEND;VALUE=DATE:20180311
DTSTAMP:20260423T173059
CREATED:20170804T210254Z
LAST-MODIFIED:20170804T210254Z
UID:10787-1520640000-1520726399@gelbvieh.org
SUMMARY:Genetic Power Bull Sale
DESCRIPTION:
URL:https://gelbvieh.org/event/genetic-power-bull-sale
LOCATION:Springfield Livestock Marketing Center\, 6821 W Independence Dr\, Springfield\, MO\, 65802\, United States
CATEGORIES:Sales
END:VEVENT
BEGIN:VEVENT
DTSTART;VALUE=DATE:20180310
DTEND;VALUE=DATE:20180311
DTSTAMP:20260423T173059
CREATED:20170830T194039Z
LAST-MODIFIED:20170830T194039Z
UID:10931-1520640000-1520726399@gelbvieh.org
SUMMARY:Midwest Beef Alliance Spring Bull Sale
DESCRIPTION:
URL:https://gelbvieh.org/event/midwest-beef-alliance-spring-bull-sale
LOCATION:Unnamed Venue\, Springfield\, MO\, United States
CATEGORIES:Sales
END:VEVENT
BEGIN:VEVENT
DTSTART;TZID=America/Denver:20180312T130000
DTEND;TZID=America/Denver:20180312T150000
DTSTAMP:20260423T173059
CREATED:20180220T155843Z
LAST-MODIFIED:20180220T155843Z
UID:11767-1520859600-1520866800@gelbvieh.org
SUMMARY:Feist Gelbvieh 30th Annual Bull Sale
DESCRIPTION:
URL:https://gelbvieh.org/event/feist-gelbvieh-30th-annual-bull-sale
LOCATION:Bowman Auction Market\, Bowman\, ND\, United States
CATEGORIES:Sales
END:VEVENT
BEGIN:VEVENT
DTSTART;VALUE=DATE:20180313
DTEND;VALUE=DATE:20180314
DTSTAMP:20260423T173059
CREATED:20170804T210351Z
LAST-MODIFIED:20170804T210351Z
UID:10788-1520899200-1520985599@gelbvieh.org
SUMMARY:Bar Arrow Cattle Company 28th Annual Production Sale
DESCRIPTION:
URL:https://gelbvieh.org/event/bar-arrow-cattle-company-28th-annual-production-sale
LOCATION:Bar Arrow Cattle Co.\, Phillipsburg\, KS\, United States
CATEGORIES:Sales
ORGANIZER;CN="Bar Arrow Cattle Company - Stuart Jarvis":MAILTO:bararrow@ruraltel.net
END:VEVENT
BEGIN:VEVENT
DTSTART;VALUE=DATE:20180314
DTEND;VALUE=DATE:20180315
DTSTAMP:20260423T173059
CREATED:20180207T175420Z
LAST-MODIFIED:20180207T175420Z
UID:11691-1520985600-1521071999@gelbvieh.org
SUMMARY:Fladeland Livestock Third Annual Bull Sale
DESCRIPTION:
URL:https://gelbvieh.org/event/fladeland-livestock-third-annual-bull-sale
LOCATION:Johnson Auction Mart\, Moose Jaw\, Saskatchewan\, Canada
CATEGORIES:Sales
END:VEVENT
BEGIN:VEVENT
DTSTART;VALUE=DATE:20180315
DTEND;VALUE=DATE:20180316
DTSTAMP:20260423T173059
CREATED:20170804T210528Z
LAST-MODIFIED:20170830T205533Z
UID:10789-1521072000-1521158399@gelbvieh.org
SUMMARY:Kicking Horse Ranch Annual Production Sale
DESCRIPTION:Offering 40 bulls and 20 heifers
URL:https://gelbvieh.org/event/kicking-horse-ranch-annual-production-sale-3
LOCATION:Western Livestock Auction\, Great Falls\, MT\, United States
CATEGORIES:Sales
ORGANIZER;CN="Kicking Horse Ranch":MAILTO:krankin@northerntel.net
END:VEVENT
BEGIN:VEVENT
DTSTART;VALUE=DATE:20180317
DTEND;VALUE=DATE:20180318
DTSTAMP:20260423T173059
CREATED:20170816T192638Z
LAST-MODIFIED:20170816T192638Z
UID:10839-1521244800-1521331199@gelbvieh.org
SUMMARY:Flying H Genetics Grown On Grass-Missouri Spring Sale
DESCRIPTION:
URL:https://gelbvieh.org/event/flying-h-genetics-grown-on-grass-missouri-spring-sale
LOCATION:Unnamed Venue\, Butler\, MO\, United States
CATEGORIES:Event,Sales
END:VEVENT
BEGIN:VEVENT
DTSTART;VALUE=DATE:20180317
DTEND;VALUE=DATE:20180318
DTSTAMP:20260423T173059
CREATED:20170830T194638Z
LAST-MODIFIED:20170830T194638Z
UID:10935-1521244800-1521331199@gelbvieh.org
SUMMARY:Lone Oak Cattle Annual Bull Sale
DESCRIPTION:
URL:https://gelbvieh.org/event/lone-oak-cattle-annual-bull-sale
LOCATION:Unnamed Venue\, Mechanicsville\, IA\, United States
CATEGORIES:Sales
ORGANIZER;CN="Loan Oak Cattle":MAILTO:hornsandthorns@netins.net
END:VEVENT
BEGIN:VEVENT
DTSTART;TZID=America/Indiana/Indianapolis:20180317T100000
DTEND;TZID=America/Indiana/Indianapolis:20180317T143000
DTSTAMP:20260423T173059
CREATED:20171004T164241Z
LAST-MODIFIED:20171004T164241Z
UID:11083-1521280800-1521297000@gelbvieh.org
SUMMARY:Midwest Beef Cattle Consultants\, Brooks Farms\, Inc.\, and M5 Ag Services\, LLC.\, 15th Annual Open House and Bull Sale
DESCRIPTION:35 yearling Balancer\, Gelbvieh\, SimAngus and calving ease Angus bulls will sell. Our emphasis has been to raise cattle that will calve easily\, jump up and nurse quickly\, wean off heavy and produce a great carcass. Daughters of our bulls will be “front pasture” cows that have great disposition\, excellent udders\, sound feet and tremendous fertility. Cows are expected to produce a calf every year for 10-15 years because the dams of these bulls have been bred to be low-maintenance cows that produce for 10-15 years. All bulls are semen tested and guaranteed for calving ease on cows (some also on heifers)\, calf vigor\, structural soundness (for life!) and disposition\, also for life. We feel that a bull is a long-term investment in your herd and we will stand behind our bulls.
URL:https://gelbvieh.org/event/midwest-beef-cattle-consultants-brooks-farms-inc-and-m5-ag-services-llc-15th-annual-open-house-and-bull-sale
LOCATION:M5 Ag Services\, LLC.\, 3824 S. Binford Road\, Carthage\, IN\, 46115\, United States
CATEGORIES:Sales
ORGANIZER;CN="W. Mark Hilton":MAILTO:mark@mwbeefcattle.com
END:VEVENT
BEGIN:VEVENT
DTSTART;VALUE=DATE:20180321
DTEND;VALUE=DATE:20180322
DTSTAMP:20260423T173059
CREATED:20170905T133344Z
LAST-MODIFIED:20180316T143102Z
UID:10945-1521590400-1521676799@gelbvieh.org
SUMMARY:Eagle Pass Bull Sale
DESCRIPTION:
URL:https://gelbvieh.org/event/eagle-pass-bull-sale
LOCATION:At the Ranch\, Highmore\, SD\, United States
CATEGORIES:Sales
END:VEVENT
BEGIN:VEVENT
DTSTART;VALUE=DATE:20180323
DTEND;VALUE=DATE:20180324
DTSTAMP:20260423T173059
CREATED:20170830T194203Z
LAST-MODIFIED:20180309T151930Z
UID:10933-1521763200-1521849599@gelbvieh.org
SUMMARY:9th Annual Southwest Iowa Gelbvieh and Balancer Bull & Female Sale
DESCRIPTION:Featuring lot #11\, Rafter R ZC2273E. Warner Feed Efficiency Test Center winner with an RFI score of -3.67. Take a look at this 75% black Balancer’s EPDs.
URL:https://gelbvieh.org/event/9th-annual-southwest-iowa-gelbvieh-and-balancer-bull-female-sale
LOCATION:Unnamed Venue\, Creston\, IA\, United States
CATEGORIES:Sales
END:VEVENT
BEGIN:VEVENT
DTSTART;VALUE=DATE:20180324
DTEND;VALUE=DATE:20180325
DTSTAMP:20260423T173059
CREATED:20170928T133803Z
LAST-MODIFIED:20170928T133803Z
UID:11024-1521849600-1521935999@gelbvieh.org
SUMMARY:Arkansas Bull Sale 3rd Annual Bull and Commercial Female Sale
DESCRIPTION:
URL:https://gelbvieh.org/event/arkansas-bull-sale-3rd-annual-bull-and-commercial-female-sale
LOCATION:Heber Springs\, AR\, United States
CATEGORIES:Sales
END:VEVENT
BEGIN:VEVENT
DTSTART;VALUE=DATE:20180324
DTEND;VALUE=DATE:20180325
DTSTAMP:20260423T173059
CREATED:20171002T200628Z
LAST-MODIFIED:20171002T200628Z
UID:11056-1521849600-1521935999@gelbvieh.org
SUMMARY:Seedstock Plus South Missouri Bull Sale
DESCRIPTION:
URL:https://gelbvieh.org/event/seedstock-plus-south-missouri-bull-sale-3
LOCATION:Joplin Regional Stockyards\, Carthage\, MO\, United States
CATEGORIES:Sales
ORGANIZER;CN="Seedstock Plus":MAILTO:john@seedstockplus.com
END:VEVENT
BEGIN:VEVENT
DTSTART;VALUE=DATE:20180324
DTEND;VALUE=DATE:20180325
DTSTAMP:20260423T173059
CREATED:20171219T183327Z
LAST-MODIFIED:20171219T183327Z
UID:11497-1521849600-1521935999@gelbvieh.org
SUMMARY:Cranview Gelbvieh Annual Progress and Performance Sale
DESCRIPTION:
URL:https://gelbvieh.org/event/cranview-gelbvieh-annual-progress-performance-sale
LOCATION:Rugby Livestock Auction\, Rugby\, ND\, United States
CATEGORIES:Sales
END:VEVENT
BEGIN:VEVENT
DTSTART;VALUE=DATE:20180324
DTEND;VALUE=DATE:20180325
DTSTAMP:20260423T173059
CREATED:20170830T194838Z
LAST-MODIFIED:20170830T194838Z
UID:10938-1521849600-1521935999@gelbvieh.org
SUMMARY:Harriman Sata Fe Top of the Breed Bull & Female Sale
DESCRIPTION:
URL:https://gelbvieh.org/event/harriman-sata-fe-top-of-the-breed-bull-female-sale
LOCATION:Unnamed Venue\, Windsor\, MO\, United States
CATEGORIES:Sales
END:VEVENT
BEGIN:VEVENT
DTSTART;VALUE=DATE:20180328
DTEND;VALUE=DATE:20180329
DTSTAMP:20260423T173059
CREATED:20180110T211024Z
LAST-MODIFIED:20180110T220910Z
UID:11569-1522195200-1522281599@gelbvieh.org
SUMMARY:Kansas Bull Test Sale
DESCRIPTION:Visit www.kansasbulltest.com for photos\, videos\, catalog request and performance information. Live broadcast and bidding available on Superior Livestock Auction.
URL:https://gelbvieh.org/event/kansas-bull-test-sale
LOCATION:Mitchell County Fairgrounds\, Beloit\, KS\, United States
CATEGORIES:Sales
END:VEVENT
BEGIN:VEVENT
DTSTART;VALUE=DATE:20180407
DTEND;VALUE=DATE:20180408
DTSTAMP:20260423T173059
CREATED:20171122T231330Z
LAST-MODIFIED:20171122T231330Z
UID:11386-1523059200-1523145599@gelbvieh.org
SUMMARY:Circle S Ranch Going to Grass Production Sale
DESCRIPTION:
URL:https://gelbvieh.org/event/circle-s-ranch-going-to-grass-production-sale
LOCATION:At the Ranch\, Canton\, Kansas\, United States
CATEGORIES:Sales
END:VEVENT
BEGIN:VEVENT
DTSTART;VALUE=DATE:20180407
DTEND;VALUE=DATE:20180408
DTSTAMP:20260423T173059
CREATED:20180126T162230Z
LAST-MODIFIED:20180126T162307Z
UID:11633-1523059200-1523145599@gelbvieh.org
SUMMARY:Middle Tennessee Gelbvieh & Angus Invitational
DESCRIPTION:
URL:https://gelbvieh.org/event/middle-tennessee-gelbvieh-angus-invitational-2
LOCATION:Centerville\, TN
CATEGORIES:Sales
ORGANIZER;CN="Slaughter Sale Management":MAILTO:hmslghtr@aol.com
END:VEVENT
BEGIN:VEVENT
DTSTART;TZID=America/Denver:20180407T120000
DTEND;TZID=America/Denver:20180407T170000
DTSTAMP:20260423T173059
CREATED:20180212T230321Z
LAST-MODIFIED:20180212T230321Z
UID:11730-1523102400-1523120400@gelbvieh.org
SUMMARY:B/F Cattle Company with Cleland Cattle Company Maternal Integrity Gelbvieh & Balancer® BULL SALE
DESCRIPTION:Forage developed\, work ready\, athletic\, easy keeping bulls for the commercial cattleman. For information or to request a catalog\, call Brett Foster at 660.492.2808. Videos may be viewed at www.bfcattleco.com. Lunch served at 12:00 noon\, sale starts 1:00 p.m.
URL:https://gelbvieh.org/event/bf-cattle-company-with-cleland-cattle-company-maternal-integrity-gelbvieh-balancer-bull-sale-2
LOCATION:At the farm\, 5746 NE County Road 13003\, Butler\, MO\, 64730\, United States
CATEGORIES:Sales
END:VEVENT
BEGIN:VEVENT
DTSTART;VALUE=DATE:20180414
DTEND;VALUE=DATE:20180415
DTSTAMP:20260423T173059
CREATED:20171002T200747Z
LAST-MODIFIED:20171002T200747Z
UID:11058-1523664000-1523750399@gelbvieh.org
SUMMARY:Bar T Bar Ranch Annual Bull Sale
DESCRIPTION:
URL:https://gelbvieh.org/event/bar-t-bar-ranch-annual-bull-sale
LOCATION:Bar T Bar Ranch\, Winslow\, AZ\, United States
CATEGORIES:Sales
END:VEVENT
BEGIN:VEVENT
DTSTART;TZID=America/Denver:20180414T120000
DTEND;TZID=America/Denver:20180414T170000
DTSTAMP:20260423T173059
CREATED:20180228T171010Z
LAST-MODIFIED:20180228T171010Z
UID:11812-1523707200-1523725200@gelbvieh.org
SUMMARY:Knoll Crest Farm Performance Bull and Commercial Heifer Sale
DESCRIPTION:The address listed below is a GPS address. Our mailing address is PO Box 117\, Red House VA 23963
URL:https://gelbvieh.org/event/knoll-crest-farm-performance-bull-and-commercial-heifer-sale
LOCATION:Knoll Crest Farm\, 167 Bull Hill Road\, Concord\, VA\, 24538\, United States
CATEGORIES:Sales
ORGANIZER;CN="Dalton Bennett":MAILTO:knollcrest@knollcrestfarm.com
END:VEVENT
BEGIN:VEVENT
DTSTART;VALUE=DATE:20180428
DTEND;VALUE=DATE:20180429
DTSTAMP:20260423T173059
CREATED:20180126T162406Z
LAST-MODIFIED:20180126T162406Z
UID:11636-1524873600-1524959999@gelbvieh.org
SUMMARY:Bush Cattle Farm Dispersal Sale
DESCRIPTION:
URL:https://gelbvieh.org/event/bush-cattle-farm-dispersal-sale
LOCATION:Franklin\, KY
CATEGORIES:Sales
ORGANIZER;CN="Slaughter Sale Management":MAILTO:hmslghtr@aol.com
END:VEVENT
BEGIN:VEVENT
DTSTART;TZID=America/Denver:20180512T130000
DTEND;TZID=America/Denver:20180512T170000
DTSTAMP:20260423T173059
CREATED:20180510T214726Z
LAST-MODIFIED:20180510T214726Z
UID:12131-1526130000-1526144400@gelbvieh.org
SUMMARY:6th Annual Middle Tennessee Gelbvieh/Angus Invitational
DESCRIPTION:Hosted by Armstrong Cattle Co.
URL:https://gelbvieh.org/event/6th-annual-middle-tennessee-gelbviehangus-invitational-2
LOCATION:Armstrong Cattle Company\, 4874 Hwy 50\, Centerville\, TN\, 37033\, United States
CATEGORIES:Sales
ORGANIZER;CN="Slaughter Sale Management":MAILTO:hmslghtr@aol.com
END:VEVENT
BEGIN:VEVENT
DTSTART;TZID=America/Denver:20180512T130000
DTEND;TZID=America/Denver:20180512T170000
DTSTAMP:20260423T173059
CREATED:20180510T215129Z
LAST-MODIFIED:20180510T215129Z
UID:12134-1526130000-1526144400@gelbvieh.org
SUMMARY:Kittle Farms Building A Legacy Spring Bull Sale
DESCRIPTION:
URL:https://gelbvieh.org/event/kittle-farms-building-a-legacy-spring-bull-sale
LOCATION:NE Alabama Agri-Business Center\, 1571 McCurdy Ave N\, Rainsville\, AL\, 35986\, United States
CATEGORIES:Sales
END:VEVENT
END:VCALENDAR