BEGIN:VCALENDAR
VERSION:2.0
PRODID:-//American Gelbvieh - ECPv6.15.18//NONSGML v1.0//EN
CALSCALE:GREGORIAN
METHOD:PUBLISH
X-ORIGINAL-URL:https://gelbvieh.org
X-WR-CALDESC:Events for American Gelbvieh
REFRESH-INTERVAL;VALUE=DURATION:PT1H
X-Robots-Tag:noindex
X-PUBLISHED-TTL:PT1H
BEGIN:VTIMEZONE
TZID:America/Denver
BEGIN:DAYLIGHT
TZOFFSETFROM:-0700
TZOFFSETTO:-0600
TZNAME:MDT
DTSTART:20150308T090000
END:DAYLIGHT
BEGIN:STANDARD
TZOFFSETFROM:-0600
TZOFFSETTO:-0700
TZNAME:MST
DTSTART:20151101T080000
END:STANDARD
BEGIN:DAYLIGHT
TZOFFSETFROM:-0700
TZOFFSETTO:-0600
TZNAME:MDT
DTSTART:20160313T090000
END:DAYLIGHT
BEGIN:STANDARD
TZOFFSETFROM:-0600
TZOFFSETTO:-0700
TZNAME:MST
DTSTART:20161106T080000
END:STANDARD
BEGIN:DAYLIGHT
TZOFFSETFROM:-0700
TZOFFSETTO:-0600
TZNAME:MDT
DTSTART:20170312T090000
END:DAYLIGHT
BEGIN:STANDARD
TZOFFSETFROM:-0600
TZOFFSETTO:-0700
TZNAME:MST
DTSTART:20171105T080000
END:STANDARD
BEGIN:DAYLIGHT
TZOFFSETFROM:-0700
TZOFFSETTO:-0600
TZNAME:MDT
DTSTART:20180311T090000
END:DAYLIGHT
BEGIN:STANDARD
TZOFFSETFROM:-0600
TZOFFSETTO:-0700
TZNAME:MST
DTSTART:20181104T080000
END:STANDARD
END:VTIMEZONE
BEGIN:VTIMEZONE
TZID:America/Chicago
BEGIN:DAYLIGHT
TZOFFSETFROM:-0600
TZOFFSETTO:-0500
TZNAME:CDT
DTSTART:20150308T080000
END:DAYLIGHT
BEGIN:STANDARD
TZOFFSETFROM:-0500
TZOFFSETTO:-0600
TZNAME:CST
DTSTART:20151101T070000
END:STANDARD
BEGIN:DAYLIGHT
TZOFFSETFROM:-0600
TZOFFSETTO:-0500
TZNAME:CDT
DTSTART:20160313T080000
END:DAYLIGHT
BEGIN:STANDARD
TZOFFSETFROM:-0500
TZOFFSETTO:-0600
TZNAME:CST
DTSTART:20161106T070000
END:STANDARD
BEGIN:DAYLIGHT
TZOFFSETFROM:-0600
TZOFFSETTO:-0500
TZNAME:CDT
DTSTART:20170312T080000
END:DAYLIGHT
BEGIN:STANDARD
TZOFFSETFROM:-0500
TZOFFSETTO:-0600
TZNAME:CST
DTSTART:20171105T070000
END:STANDARD
BEGIN:DAYLIGHT
TZOFFSETFROM:-0600
TZOFFSETTO:-0500
TZNAME:CDT
DTSTART:20180311T080000
END:DAYLIGHT
BEGIN:STANDARD
TZOFFSETFROM:-0500
TZOFFSETTO:-0600
TZNAME:CST
DTSTART:20181104T070000
END:STANDARD
END:VTIMEZONE
BEGIN:VTIMEZONE
TZID:America/Kentucky/Louisville
BEGIN:DAYLIGHT
TZOFFSETFROM:-0500
TZOFFSETTO:-0400
TZNAME:EDT
DTSTART:20160313T070000
END:DAYLIGHT
BEGIN:STANDARD
TZOFFSETFROM:-0400
TZOFFSETTO:-0500
TZNAME:EST
DTSTART:20161106T060000
END:STANDARD
BEGIN:DAYLIGHT
TZOFFSETFROM:-0500
TZOFFSETTO:-0400
TZNAME:EDT
DTSTART:20170312T070000
END:DAYLIGHT
BEGIN:STANDARD
TZOFFSETFROM:-0400
TZOFFSETTO:-0500
TZNAME:EST
DTSTART:20171105T060000
END:STANDARD
BEGIN:DAYLIGHT
TZOFFSETFROM:-0500
TZOFFSETTO:-0400
TZNAME:EDT
DTSTART:20180311T070000
END:DAYLIGHT
BEGIN:STANDARD
TZOFFSETFROM:-0400
TZOFFSETTO:-0500
TZNAME:EST
DTSTART:20181104T060000
END:STANDARD
END:VTIMEZONE
BEGIN:VEVENT
DTSTART;VALUE=DATE:20161119
DTEND;VALUE=DATE:20161121
DTSTAMP:20260421T203410
CREATED:20160613T175045Z
LAST-MODIFIED:20160613T175045Z
UID:8975-1479513600-1479686399@gelbvieh.org
SUMMARY:Triple K Gelbvieh Open House
DESCRIPTION:
URL:https://gelbvieh.org/event/triple-k-gelbvieh-open-house
LOCATION:Triple K Gelbvieh\, Basehor\, KS\, United States
CATEGORIES:Event
END:VEVENT
BEGIN:VEVENT
DTSTART;TZID=America/Chicago:20161119T120000
DTEND;TZID=America/Chicago:20161119T170000
DTSTAMP:20260421T203410
CREATED:20160920T161643Z
LAST-MODIFIED:20161003T144243Z
UID:9279-1479556800-1479574800@gelbvieh.org
SUMMARY:Seedstock Plus Influence Commercial Female Sale
DESCRIPTION:Selling: 30+ 2 year old Balancer and Gelbvieh bulls\n575 Females Registered and Commercial\, red and black\nYearling open heifers\, Spring bred heifers\, 3 year olds and running age\, fall pairs \nIncluding: Complete Dispersal Of JKAR Cattle registered herd\, fall pairs\nComplete Dispersal of 4H Farms\, commercial spring bred females\nHerd Reduction for Stuecken Bros\, registered and commercial fall pairs \n 
URL:https://gelbvieh.org/event/seedstock-plus-influence-commercial-female-sale
LOCATION:Kingsville Livestock\, Kingsville\, MO\, United States
CATEGORIES:Sales
ORGANIZER;CN="Seedstock Plus":MAILTO:john@seedstockplus.com
END:VEVENT
BEGIN:VEVENT
DTSTART;VALUE=DATE:20161126
DTEND;VALUE=DATE:20161127
DTSTAMP:20260421T203410
CREATED:20160824T171756Z
LAST-MODIFIED:20160824T171756Z
UID:9161-1480118400-1480204799@gelbvieh.org
SUMMARY:Butler Creek Gelbvieh Online Sale
DESCRIPTION:
URL:https://gelbvieh.org/event/butler-creek-gelbvieh-online-sale
END:VEVENT
BEGIN:VEVENT
DTSTART;VALUE=DATE:20161128
DTEND;VALUE=DATE:20161129
DTSTAMP:20260421T203410
CREATED:20160920T164215Z
LAST-MODIFIED:20160920T164215Z
UID:9293-1480291200-1480377599@gelbvieh.org
SUMMARY:Bachman Cattle Farms Game Changer Dispersal
DESCRIPTION:Entire Gelbvieh herd sells.
URL:https://gelbvieh.org/event/bachman-cattle-farms-game-changer-dispersal
LOCATION:Three Cedars Event Center\, Nevada\, MO\, United States
CATEGORIES:Sales
END:VEVENT
BEGIN:VEVENT
DTSTART;VALUE=DATE:20161130
DTEND;VALUE=DATE:20161203
DTSTAMP:20260421T203410
CREATED:20160613T173112Z
LAST-MODIFIED:20160613T173112Z
UID:8957-1480464000-1480723199@gelbvieh.org
SUMMARY:46th Annual American Gelbvieh Association National Convention
DESCRIPTION:
URL:https://gelbvieh.org/event/46th-annual-american-gelbvieh-association-national-convention
LOCATION:Lincoln Marriott Cornhusker Hotel\, 333 South 13th Street\, Lincoln\, NE\, United States
CATEGORIES:AGA Announcements,Event
ORGANIZER;CN="American Gelbvieh Association":MAILTO:info@gelbvieh.org
END:VEVENT
BEGIN:VEVENT
DTSTART;TZID=America/Chicago:20161201T000000
DTEND;TZID=America/Chicago:20161201T170000
DTSTAMP:20260421T203410
CREATED:20160920T163601Z
LAST-MODIFIED:20160920T163601Z
UID:9286-1480550400-1480611600@gelbvieh.org
SUMMARY:Cattlemen's Profit Roundup
DESCRIPTION:Join the American Gelbvieh Association for this FREE to attend event open to all in the beef industry. This year’s roundup features speakers from CattleFax and the University of Nebraska-Lincoln.
URL:https://gelbvieh.org/event/cattlemens-profit-roundup
LOCATION:Lincoln Marriott Cornhusker Hotel\, 333 South 13th Street\, Lincoln\, NE\, United States
CATEGORIES:AGA Announcements
ORGANIZER;CN="American Gelbvieh Association":MAILTO:info@gelbvieh.org
END:VEVENT
BEGIN:VEVENT
DTSTART;VALUE=DATE:20161202
DTEND;VALUE=DATE:20161203
DTSTAMP:20260421T203410
CREATED:20160902T165417Z
LAST-MODIFIED:20160902T165417Z
UID:9191-1480636800-1480723199@gelbvieh.org
SUMMARY:Knoll Crest Farms "Total Performance Bull Sale"
DESCRIPTION:
URL:https://gelbvieh.org/event/knoll-crest-farms-total-performance-bull-sale
END:VEVENT
BEGIN:VEVENT
DTSTART;VALUE=DATE:20161203
DTEND;VALUE=DATE:20161204
DTSTAMP:20260421T203410
CREATED:20160613T165014Z
LAST-MODIFIED:20160613T172230Z
UID:8921-1480723200-1480809599@gelbvieh.org
SUMMARY:SEGA Gelbvieh & Friends Female Sale
DESCRIPTION:
URL:https://gelbvieh.org/event/sega-gelbvieh-friends-female-sale-2
LOCATION:At the Ranch\, 16509 WCR 85\, Pierce\, CO\, 80650\, United States
CATEGORIES:Sales
END:VEVENT
BEGIN:VEVENT
DTSTART;VALUE=DATE:20170107
DTEND;VALUE=DATE:20170108
DTSTAMP:20260421T203410
CREATED:20161212T151829Z
LAST-MODIFIED:20161212T151829Z
UID:9628-1483747200-1483833599@gelbvieh.org
SUMMARY:Breeder's Choice Gelbvieh Bull Futurity
DESCRIPTION:
URL:https://gelbvieh.org/event/breeders-choice-gelbvieh-bull-futurity
LOCATION:Unnamed Venue\, Denver\, CO\, United States
CATEGORIES:Event
END:VEVENT
BEGIN:VEVENT
DTSTART;TZID=America/Denver:20170107T073000
DTEND;TZID=America/Denver:20170107T120000
DTSTAMP:20260421T203410
CREATED:20160920T143054Z
LAST-MODIFIED:20160920T143054Z
UID:9264-1483774200-1483790400@gelbvieh.org
SUMMARY:National Western Stock Show Junior Heifer Show
DESCRIPTION:
URL:https://gelbvieh.org/event/national-western-stock-show-junior-heifer-show
LOCATION:Stadium Arena – NWSS\, Denver\, CO\, United States
CATEGORIES:Juniors,Show
END:VEVENT
BEGIN:VEVENT
DTSTART;TZID=America/Denver:20170108T080000
DTEND;TZID=America/Denver:20170108T120000
DTSTAMP:20260421T203410
CREATED:20160920T163645Z
LAST-MODIFIED:20160920T163645Z
UID:9288-1483862400-1483876800@gelbvieh.org
SUMMARY:NWSS Gelbvieh Pen Show
DESCRIPTION:
URL:https://gelbvieh.org/event/nwss-gelbvieh-pen-show
LOCATION:National Western Stock Show\, Denver\, CO\, United States
CATEGORIES:Show
END:VEVENT
BEGIN:VEVENT
DTSTART;TZID=America/Denver:20170108T180000
DTEND;TZID=America/Denver:20170108T200000
DTSTAMP:20260421T203410
CREATED:20160920T163745Z
LAST-MODIFIED:20160920T163745Z
UID:9290-1483898400-1483905600@gelbvieh.org
SUMMARY:Gelbvieh and Balancer National Sale
DESCRIPTION:
URL:https://gelbvieh.org/event/gelbvieh-and-balancer-national-sale
LOCATION:The Hill – NWSS\, Denver\, CO\, United States
CATEGORIES:AGA Announcements,Sales
END:VEVENT
BEGIN:VEVENT
DTSTART;TZID=America/Denver:20170109T080000
DTEND;TZID=America/Denver:20170109T170000
DTSTAMP:20260421T203410
CREATED:20160920T163816Z
LAST-MODIFIED:20160920T163816Z
UID:9292-1483948800-1483981200@gelbvieh.org
SUMMARY:National Gelbvieh Show
DESCRIPTION:
URL:https://gelbvieh.org/event/national-gelbvieh-show
LOCATION:Stadium Arena – NWSS\, Denver\, CO\, United States
CATEGORIES:AGA Announcements,Show
END:VEVENT
BEGIN:VEVENT
DTSTART;VALUE=DATE:20170125
DTEND;VALUE=DATE:20170126
DTSTAMP:20260421T203410
CREATED:20170127T233541Z
LAST-MODIFIED:20170127T233901Z
UID:9859-1485302400-1485388799@gelbvieh.org
SUMMARY:Lyman Livestock Cattlemen to Cattle Bull Sale
DESCRIPTION:90 yearling bulls Pap tested at 7200FT
URL:https://gelbvieh.org/event/lyman-livestock-cattlemen-to-cattle-bull-sale
LOCATION:Producers Livestock Auction\, 207 Salina Creek Drive\, Salina\, UT\, United States
CATEGORIES:Sales
ORGANIZER;CN="Lyman Livestock":MAILTO:loulabell_lyman@hotmail.com 
END:VEVENT
BEGIN:VEVENT
DTSTART;TZID=America/Denver:20170130T130000
DTEND;TZID=America/Denver:20170130T170000
DTSTAMP:20260421T203410
CREATED:20160811T135005Z
LAST-MODIFIED:20160811T135005Z
UID:9095-1485781200-1485795600@gelbvieh.org
SUMMARY:North Dakota Golden Rule Sale
DESCRIPTION:North Dakota Gelbvieh Association annual membership meeting and banquet will be held on Sunday\, January 29\, 2017
URL:https://gelbvieh.org/event/north-dakota-golden-rule-sale
LOCATION:Kist Livestock\, Mandan\, ND\, United States
CATEGORIES:Sales
END:VEVENT
BEGIN:VEVENT
DTSTART;VALUE=DATE:20170204
DTEND;VALUE=DATE:20170205
DTSTAMP:20260421T203410
CREATED:20161123T001642Z
LAST-MODIFIED:20161212T145554Z
UID:9549-1486166400-1486252799@gelbvieh.org
SUMMARY:Lost River Livestock 7th Annual Bull and Female Sale
DESCRIPTION:
URL:https://gelbvieh.org/event/lost-river-livestock-7th-annual-bull-and-female-sale
LOCATION:At the Ranch\, Clearbrook\, MN\, United States
CATEGORIES:Sales
END:VEVENT
BEGIN:VEVENT
DTSTART;VALUE=DATE:20170206
DTEND;VALUE=DATE:20170207
DTSTAMP:20260421T203410
CREATED:20161221T162723Z
LAST-MODIFIED:20161221T162723Z
UID:9693-1486339200-1486425599@gelbvieh.org
SUMMARY:Taubenheim Gelbvieh 27th Annual Production Sale
DESCRIPTION:
URL:https://gelbvieh.org/event/taubenheim-gelbvieh-27th-annual-production-sale
LOCATION:Unnamed Venue\, Amherst\, NE\, United States
CATEGORIES:Sales
END:VEVENT
BEGIN:VEVENT
DTSTART;VALUE=DATE:20170207
DTEND;VALUE=DATE:20170208
DTSTAMP:20260421T203410
CREATED:20160914T132206Z
LAST-MODIFIED:20160914T132206Z
UID:9229-1486425600-1486511999@gelbvieh.org
SUMMARY:Lemke Bull & Female Sale
DESCRIPTION:
URL:https://gelbvieh.org/event/lemke-bull-female-sale
LOCATION:Unnamed Venue\, Lawrence\, NE\, United States
END:VEVENT
BEGIN:VEVENT
DTSTART;VALUE=DATE:20170211
DTEND;VALUE=DATE:20170212
DTSTAMP:20260421T203410
CREATED:20160920T153522Z
LAST-MODIFIED:20160920T153522Z
UID:9270-1486771200-1486857599@gelbvieh.org
SUMMARY:Prairie Hills Gelbvieh Annual Production Sale
DESCRIPTION:
URL:https://gelbvieh.org/event/prairie-hills-gelbvieh
LOCATION:At the Ranch\, Gladstone\, ND\, United States
CATEGORIES:Sales
END:VEVENT
BEGIN:VEVENT
DTSTART;VALUE=DATE:20170213
DTEND;VALUE=DATE:20170214
DTSTAMP:20260421T203410
CREATED:20161228T145111Z
LAST-MODIFIED:20161228T145111Z
UID:9714-1486944000-1487030399@gelbvieh.org
SUMMARY:Dixie National Gelbvieh & Balancer Show
DESCRIPTION:
URL:https://gelbvieh.org/event/dixie-national-gelbvieh-balancer-show
LOCATION:Unnamed Venue\, Jackson\, MS\, United States
CATEGORIES:Show
END:VEVENT
BEGIN:VEVENT
DTSTART;VALUE=DATE:20170214
DTEND;VALUE=DATE:20170215
DTSTAMP:20260421T203410
CREATED:20161212T153917Z
LAST-MODIFIED:20161212T153917Z
UID:9632-1487030400-1487116799@gelbvieh.org
SUMMARY:Iowa Beef Expo Gelbvieh Gold Sale
DESCRIPTION:
URL:https://gelbvieh.org/event/iowa-beef-expo-gelbvieh-gold-sale
LOCATION:Unnamed Venue\, Des Moines\, IA\, United States
CATEGORIES:Sales
END:VEVENT
BEGIN:VEVENT
DTSTART;VALUE=DATE:20170216
DTEND;VALUE=DATE:20170217
DTSTAMP:20260421T203410
CREATED:20170112T205656Z
LAST-MODIFIED:20170112T205656Z
UID:9777-1487203200-1487289599@gelbvieh.org
SUMMARY:Gustin's Diamond D Annual Production Sale
DESCRIPTION:
URL:https://gelbvieh.org/event/gustins-diamond-d-annual-production-sale
LOCATION:At the Ranch\, Mandan\, ND\, United States
CATEGORIES:Sales
END:VEVENT
BEGIN:VEVENT
DTSTART;VALUE=DATE:20170218
DTEND;VALUE=DATE:20170219
DTSTAMP:20260421T203410
CREATED:20160613T171106Z
LAST-MODIFIED:20160613T172201Z
UID:8941-1487376000-1487462399@gelbvieh.org
SUMMARY:Overmiller Gelbvieh and Red Angus Production Sale
DESCRIPTION:
URL:https://gelbvieh.org/event/overmiller-gelbvieh-and-red-angus-production-sale
LOCATION:At the Ranch\, 7062 O Road\, Smith Center\, KS\, United States
CATEGORIES:Sales
END:VEVENT
BEGIN:VEVENT
DTSTART;TZID=America/Chicago:20170218T130000
DTEND;TZID=America/Chicago:20170218T170000
DTSTAMP:20260421T203410
CREATED:20161228T145615Z
LAST-MODIFIED:20161228T162840Z
UID:9716-1487422800-1487437200@gelbvieh.org
SUMMARY:Golden Buckle Gelbvieh Bull Sale
DESCRIPTION:
URL:https://gelbvieh.org/event/golden-buckle-gelbvieh-bull-sale-2
LOCATION:Napoleon Livestock Auction\, Napoleon\, ND\, United States
CATEGORIES:Sales
ORGANIZER;CN="Golden Buckle Gelbvieh":MAILTO:gbgelbv@daktel.com
END:VEVENT
BEGIN:VEVENT
DTSTART;VALUE=DATE:20170221
DTEND;VALUE=DATE:20170222
DTSTAMP:20260421T203410
CREATED:20160613T173710Z
LAST-MODIFIED:20160613T173851Z
UID:8965-1487635200-1487721599@gelbvieh.org
SUMMARY:Cedar Top Ranch Bull Sale
DESCRIPTION:
URL:https://gelbvieh.org/event/cedar-top-ranch-bull-sale
LOCATION:Burwell Livestock Market\, Burwell\, NE\, United States
CATEGORIES:Sales
ORGANIZER;CN="Cedar Top Ranch":MAILTO:cedartopranch@yahoo.com
END:VEVENT
BEGIN:VEVENT
DTSTART;VALUE=DATE:20170223
DTEND;VALUE=DATE:20170224
DTSTAMP:20260421T203410
CREATED:20160613T170433Z
LAST-MODIFIED:20160613T172139Z
UID:8935-1487808000-1487894399@gelbvieh.org
SUMMARY:Plateau Gelbvieh
DESCRIPTION:
URL:https://gelbvieh.org/event/plateau-gelbvieh
LOCATION:Unnamed Venue\, Brush\, CO\, United States
CATEGORIES:Sales
ORGANIZER;CN="Plateau Gelbvieh - Jim Roelle":MAILTO:jr.plateau@hotmail.com
END:VEVENT
BEGIN:VEVENT
DTSTART;TZID=America/Denver:20170224T120000
DTEND;TZID=America/Denver:20170224T160000
DTSTAMP:20260421T203410
CREATED:20160902T182914Z
LAST-MODIFIED:20170209T220049Z
UID:9205-1487937600-1487952000@gelbvieh.org
SUMMARY:26th Annual "Pot of Gold" Gelbvieh\, Angus\, and Balancer Bull Sale
DESCRIPTION:Additional Information: 26th Annual Sale – selling 120 Gelbvieh\, Angus\, and Balancer Bulls. \nRed and Black Gelbvieh and Balancer Bulls\, herdsire prospects\, many have Genomic Enhanced EPDs\, many homozygous black and homozygous polled\, diluter free Reds\, high-altitude bulls. \nBulls have been tested for: P.A.P. and fertility and all tested negative for trich and PI-BVD. Videos on-line mid-February. \nBid in person or on-line at DVAuction. Bulls can be hauled sale day to Utah\, Arizona\, New Mexico\, and Idaho.
URL:https://gelbvieh.org/event/26th-annual-pot-of-gold-gelbvieh-angus-and-balancer-bull-sale
LOCATION:Jim’s Auction Barn\, 62687 Jay Jay Road\, Montrose\, CO\, 81401\, United States
CATEGORIES:Sales
ORGANIZER;CN="Dave Bowman":MAILTO:davedawn@gelbviehbulls.net
END:VEVENT
BEGIN:VEVENT
DTSTART;VALUE=DATE:20170225
DTEND;VALUE=DATE:20170226
DTSTAMP:20260421T203410
CREATED:20160613T172811Z
LAST-MODIFIED:20160613T172811Z
UID:8954-1487980800-1488067199@gelbvieh.org
SUMMARY:Swanson Cattle Company 30th Annual Production Sale
DESCRIPTION:
URL:https://gelbvieh.org/event/swanson-cattle-company-30th-annual-production-sale
LOCATION:At the Ranch\, 10908 724 Road\, Oxford\, NE\, 68967\, United States
CATEGORIES:Sales
ORGANIZER;CN="Swanson Cattle Company - Jeff Swanson":MAILTO:swansoncattleco@yahoo.com
END:VEVENT
BEGIN:VEVENT
DTSTART;VALUE=DATE:20170225
DTEND;VALUE=DATE:20170226
DTSTAMP:20260421T203410
CREATED:20160920T142912Z
LAST-MODIFIED:20160920T142912Z
UID:9261-1487980800-1488067199@gelbvieh.org
SUMMARY:Post Rock Cattle Company Cowman's Kind Bull and Female Sale
DESCRIPTION:
URL:https://gelbvieh.org/event/post-rock-cattle-company-cowmans-kind-bull-and-female-sale
LOCATION:At the Ranch\, Barnard\, KS\, United States
CATEGORIES:Sales
ORGANIZER;CN="Post Rock Cattle Company":MAILTO:prcc@twinvalley.net
END:VEVENT
BEGIN:VEVENT
DTSTART;VALUE=DATE:20170225
DTEND;VALUE=DATE:20170226
DTSTAMP:20260421T203410
CREATED:20161206T165011Z
LAST-MODIFIED:20161206T165340Z
UID:9581-1487980800-1488067199@gelbvieh.org
SUMMARY:Oklahoma Gelbvieh Association Sooner Select Sale
DESCRIPTION:
URL:https://gelbvieh.org/event/oklahoma-gelbvieh-association-sooner-select-sale
LOCATION:Unnamed Venue\, McAlester\, OK\, United States
CATEGORIES:Sales
END:VEVENT
END:VCALENDAR