BEGIN:VCALENDAR
VERSION:2.0
PRODID:-//American Gelbvieh - ECPv6.15.18//NONSGML v1.0//EN
CALSCALE:GREGORIAN
METHOD:PUBLISH
X-ORIGINAL-URL:https://gelbvieh.org
X-WR-CALDESC:Events for American Gelbvieh
REFRESH-INTERVAL;VALUE=DURATION:PT1H
X-Robots-Tag:noindex
X-PUBLISHED-TTL:PT1H
BEGIN:VTIMEZONE
TZID:America/Denver
BEGIN:DAYLIGHT
TZOFFSETFROM:-0700
TZOFFSETTO:-0600
TZNAME:MDT
DTSTART:20150308T090000
END:DAYLIGHT
BEGIN:STANDARD
TZOFFSETFROM:-0600
TZOFFSETTO:-0700
TZNAME:MST
DTSTART:20151101T080000
END:STANDARD
BEGIN:DAYLIGHT
TZOFFSETFROM:-0700
TZOFFSETTO:-0600
TZNAME:MDT
DTSTART:20160313T090000
END:DAYLIGHT
BEGIN:STANDARD
TZOFFSETFROM:-0600
TZOFFSETTO:-0700
TZNAME:MST
DTSTART:20161106T080000
END:STANDARD
BEGIN:DAYLIGHT
TZOFFSETFROM:-0700
TZOFFSETTO:-0600
TZNAME:MDT
DTSTART:20170312T090000
END:DAYLIGHT
BEGIN:STANDARD
TZOFFSETFROM:-0600
TZOFFSETTO:-0700
TZNAME:MST
DTSTART:20171105T080000
END:STANDARD
END:VTIMEZONE
BEGIN:VTIMEZONE
TZID:America/Chicago
BEGIN:DAYLIGHT
TZOFFSETFROM:-0600
TZOFFSETTO:-0500
TZNAME:CDT
DTSTART:20150308T080000
END:DAYLIGHT
BEGIN:STANDARD
TZOFFSETFROM:-0500
TZOFFSETTO:-0600
TZNAME:CST
DTSTART:20151101T070000
END:STANDARD
BEGIN:DAYLIGHT
TZOFFSETFROM:-0600
TZOFFSETTO:-0500
TZNAME:CDT
DTSTART:20160313T080000
END:DAYLIGHT
BEGIN:STANDARD
TZOFFSETFROM:-0500
TZOFFSETTO:-0600
TZNAME:CST
DTSTART:20161106T070000
END:STANDARD
BEGIN:DAYLIGHT
TZOFFSETFROM:-0600
TZOFFSETTO:-0500
TZNAME:CDT
DTSTART:20170312T080000
END:DAYLIGHT
BEGIN:STANDARD
TZOFFSETFROM:-0500
TZOFFSETTO:-0600
TZNAME:CST
DTSTART:20171105T070000
END:STANDARD
END:VTIMEZONE
BEGIN:VTIMEZONE
TZID:America/Los_Angeles
BEGIN:DAYLIGHT
TZOFFSETFROM:-0800
TZOFFSETTO:-0700
TZNAME:PDT
DTSTART:20150308T100000
END:DAYLIGHT
BEGIN:STANDARD
TZOFFSETFROM:-0700
TZOFFSETTO:-0800
TZNAME:PST
DTSTART:20151101T090000
END:STANDARD
BEGIN:DAYLIGHT
TZOFFSETFROM:-0800
TZOFFSETTO:-0700
TZNAME:PDT
DTSTART:20160313T100000
END:DAYLIGHT
BEGIN:STANDARD
TZOFFSETFROM:-0700
TZOFFSETTO:-0800
TZNAME:PST
DTSTART:20161106T090000
END:STANDARD
BEGIN:DAYLIGHT
TZOFFSETFROM:-0800
TZOFFSETTO:-0700
TZNAME:PDT
DTSTART:20170312T100000
END:DAYLIGHT
BEGIN:STANDARD
TZOFFSETFROM:-0700
TZOFFSETTO:-0800
TZNAME:PST
DTSTART:20171105T090000
END:STANDARD
END:VTIMEZONE
BEGIN:VEVENT
DTSTART;VALUE=DATE:20160703
DTEND;VALUE=DATE:20160709
DTSTAMP:20260421T183743
CREATED:20160212T230814Z
LAST-MODIFIED:20160226T224536Z
UID:7967-1467504000-1468022399@gelbvieh.org
SUMMARY:2016 AGJA "Dirt Road Classic"
DESCRIPTION:Click here to view complete details
URL:https://gelbvieh.org/event/2016-agja-dirt-road-classic
LOCATION:Payne County Expo Center\, 4518 Expo Circle E\, Stillwater\, OK\, United States
CATEGORIES:AGA Announcements,Juniors
END:VEVENT
BEGIN:VEVENT
DTSTART;TZID=America/Denver:20160711T100000
DTEND;TZID=America/Denver:20160711T150000
DTSTAMP:20260421T183743
CREATED:20160518T141854Z
LAST-MODIFIED:20160518T141854Z
UID:8816-1468231200-1468249200@gelbvieh.org
SUMMARY:Complete Dispersal Sale of San Juan Ranch Cattle
DESCRIPTION:Additional Information: SJR Purebred Gelbvieh Herd Dispersal Sale \nFirst of two sale is on July 11\, 2016 followed by a final and complete sale on October 15\, 2016. \nJuly 11\, 2016 – 62 Fall calving bred cows\, 32 replacement heifers ready to breed\, 56 weaned calves. \nOctober 15\, 2016 – 30 service-aged bulls and 4 herd sires\, 70 spring bred cows and 37 weanlings.
URL:https://gelbvieh.org/event/complete-dispersal-sale-of-san-juan-ranch-cattle
LOCATION:Western Stockmen Market\, 31911 Hwy 46\, McFarland\, CA\, 93250\, United States
CATEGORIES:Sales
END:VEVENT
BEGIN:VEVENT
DTSTART;VALUE=DATE:20160718
DTEND;VALUE=DATE:20160719
DTSTAMP:20260421T183743
CREATED:20160718T140116Z
LAST-MODIFIED:20160718T140116Z
UID:9058-1468800000-1468886399@gelbvieh.org
SUMMARY:AGA Office Closed
DESCRIPTION:The AGA office will be closed on Monday\, July 18 in order to allow staff the time to pack up the current AGA headquarters and prepare for the to move to the new location. The AGA office will return to regular business hours of Monday-Friday\, 8:00 a.m.-4:30 p.m. MT on Tuesday\, July 19
URL:https://gelbvieh.org/event/aga-office-closed-6
LOCATION:AGA Office\, 10900 Dover Street\, Westminster\, 80021\, United States
CATEGORIES:AGA Announcements,Event
END:VEVENT
BEGIN:VEVENT
DTSTART;TZID=America/Denver:20160723T130000
DTEND;TZID=America/Denver:20160723T160000
DTSTAMP:20260421T183743
CREATED:20151209T213650Z
LAST-MODIFIED:20151209T214156Z
UID:6882-1469278800-1469289600@gelbvieh.org
SUMMARY:Davidson Gelbvieh & Lonesome Dove Ranch Cattle Tour & Customer Appreciation Day
DESCRIPTION:Everyone Welcome!
URL:https://gelbvieh.org/event/davidson-gelbvieh-lonesome-dove-ranch-cattle-tour-customer-appreciation-day
LOCATION:Davidson Gelbvieh & Lonesome Dove Ranch\, Box 681\, Ponteix\, SK\, S0N 1Z0\, Canada
CATEGORIES:Sales
ORGANIZER;CN="Unnamed Organizer":MAILTO:306-625-3755
END:VEVENT
BEGIN:VEVENT
DTSTART;TZID=America/Denver:20160725T080000
DTEND;TZID=America/Denver:20160726T170000
DTSTAMP:20260421T183743
CREATED:20160628T214532Z
LAST-MODIFIED:20160628T214532Z
UID:9020-1469433600-1469552400@gelbvieh.org
SUMMARY:AGA Board of Directors Meeting
DESCRIPTION:
URL:https://gelbvieh.org/event/aga-board-of-directors-meeting
LOCATION:Renaissance Boulder Flatiron Hotel\, Broomfield\, CO
CATEGORIES:AGA Announcements
ORGANIZER;CN="American Gelbvieh Association":MAILTO:info@gelbvieh.org
END:VEVENT
BEGIN:VEVENT
DTSTART;VALUE=DATE:20160801
DTEND;VALUE=DATE:20160802
DTSTAMP:20260421T183743
CREATED:20160613T173419Z
LAST-MODIFIED:20160613T173419Z
UID:8960-1470009600-1470095999@gelbvieh.org
SUMMARY:The Profit Picture Ad Reservation Deadline
DESCRIPTION:Reserve your ad space in the September issue of the The Profit Picture and reach 40\,000 beef producers and 6.1 million cows! Contact Lynn Valentine at the AGA office.
URL:https://gelbvieh.org/event/the-profit-picture-ad-reservation-deadline
CATEGORIES:AGA Announcements
ORGANIZER;CN="Lynn Valentine":MAILTO:lynnv@gelbvieh.org
END:VEVENT
BEGIN:VEVENT
DTSTART;VALUE=DATE:20160805
DTEND;VALUE=DATE:20160806
DTSTAMP:20260421T183743
CREATED:20160727T212959Z
LAST-MODIFIED:20160727T214737Z
UID:9071-1470355200-1470441599@gelbvieh.org
SUMMARY:AGA Office Closed
DESCRIPTION:The AGA office will be closed for moving the AGA headquarters office.
URL:https://gelbvieh.org/event/aga-office-closed-7
CATEGORIES:AGA Announcements
ORGANIZER;CN="American Gelbvieh Association":MAILTO:info@gelbvieh.org
END:VEVENT
BEGIN:VEVENT
DTSTART;VALUE=DATE:20160813
DTEND;VALUE=DATE:20160814
DTSTAMP:20260421T183743
CREATED:20160725T190939Z
LAST-MODIFIED:20160809T150208Z
UID:9065-1471046400-1471132799@gelbvieh.org
SUMMARY:Kansas Gelbvieh Association
DESCRIPTION:The Kansas Gelbvieh Association (KGA) Tour will be held in district 3 (northeast corner of Kansas) on August 13\, 2016.  For specific tour questions contact Tim Beying Tour Chair at 913-680-5708. \nNoon-2PM\nStop 1 Wheeler and Son Gelbvieh   162 State Highway 116 in Holton\, Kansas  66436\nJerry and Josh Wheeler will serve lunch at noon.  Cattle will be on display along with cattle-related sales representatives being on hand.  Also\, Josh will be giving an ultrasound preg-checking demonstration.\nDeparture time promptly at 2PM. \n3PM-4:30PM\nStop 2 Beying’s Dawson Creek Gelbvieh     24114 Easton Road in Easton\, Kansas  66020\nBob and Karla Beying\, along with their family\, will be serving dessert and refreshments.  Cattle will be on display and door prizes will be drawn.\nDeparture time promptly at 4:30PM. \n5PM -5:40PM\nStop 3 is a pasture stop at Triple K Gelbvieh            811 4-H Road in Lansing\, Kansas\nCattle will be on display.\nDeparture time promptly at 5:40PM \n6:00PM-End of Tour\nStop 4 Knapp’s Triple K Gelbvieh     18291 158th Street in Basehor\, KS  66007\nAl and Mary Knapp will be serving dinner at this final stop.  Cattle will be on display along with hosting a visit from AGA Marketing Coordinator\, William McIntosh. \n 
URL:https://gelbvieh.org/event/kansas-gelbvieh-association
CATEGORIES:Event
END:VEVENT
BEGIN:VEVENT
DTSTART;TZID=America/Chicago:20160820T080000
DTEND;TZID=America/Chicago:20160820T170000
DTSTAMP:20260421T183743
CREATED:20160516T150748Z
LAST-MODIFIED:20160613T175917Z
UID:8793-1471680000-1471712400@gelbvieh.org
SUMMARY:North Dakota Gelbvieh Association Field Day
DESCRIPTION:
URL:https://gelbvieh.org/event/north-dakota-gelbvieh-association-field-day
LOCATION:Lost River Livestock\, Clearbrook\, MN\, United States
CATEGORIES:Event
END:VEVENT
BEGIN:VEVENT
DTSTART;TZID=America/Los_Angeles:20160829T080000
DTEND;TZID=America/Los_Angeles:20160901T170000
DTSTAMP:20260421T183743
CREATED:20160516T151052Z
LAST-MODIFIED:20160613T175900Z
UID:8796-1472457600-1472749200@gelbvieh.org
SUMMARY:Oregon State Fair Gelbvieh Show
DESCRIPTION:
URL:https://gelbvieh.org/event/oregon-state-fair-gelbvieh-show
LOCATION:Oregon State Fair & Exposition Center\, 2330 17th Street NE\, Salem\, OR\, 97301\, United States
CATEGORIES:Event
END:VEVENT
BEGIN:VEVENT
DTSTART;TZID=America/Los_Angeles:20160830T180000
DTEND;TZID=America/Los_Angeles:20160830T200000
DTSTAMP:20260421T183743
CREATED:20160516T151225Z
LAST-MODIFIED:20160613T175843Z
UID:8798-1472580000-1472587200@gelbvieh.org
SUMMARY:Pacific Northwest Gelbvieh Association Annual Meeting
DESCRIPTION:Held in conjunction with Breeder’s Choice Heifer Futurity
URL:https://gelbvieh.org/event/pacific-northwest-gelbvieh-association-annual-meeting
LOCATION:Oregon State Fair & Exposition Center\, 2330 17th Street NE\, Salem\, OR\, 97301\, United States
CATEGORIES:Event
ORGANIZER;CN="Pacific Northwest Gelbvieh Association":MAILTO:hopfer@frontier.com
END:VEVENT
BEGIN:VEVENT
DTSTART;TZID=America/Denver:20160902T120000
DTEND;TZID=America/Denver:20160902T170000
DTSTAMP:20260421T183743
CREATED:20160616T202358Z
LAST-MODIFIED:20160616T202358Z
UID:8983-1472817600-1472835600@gelbvieh.org
SUMMARY:South Dakota State Fair Gelbvieh Show
DESCRIPTION:Additional Information: Cattle can begin arriving Aug. 30 and must be checked in by 9 p.m. Aug. 31. Junior show follows immediately after open show.
URL:https://gelbvieh.org/event/south-dakota-state-fair-gelbvieh-show
LOCATION:South Dakota State Fairgrounds\, 890 3rd St. SW\, Huron\, SD\, 57350\, United States
CATEGORIES:Show
END:VEVENT
BEGIN:VEVENT
DTSTART;TZID=America/Denver:20160917T130000
DTEND;TZID=America/Denver:20160917T170000
DTSTAMP:20260421T183743
CREATED:20160613T172044Z
LAST-MODIFIED:20160613T175820Z
UID:8950-1474117200-1474131600@gelbvieh.org
SUMMARY:Seedstock Plus Showcase Sale XI & 8th Annual Customer Appreciation Sale
DESCRIPTION:
URL:https://gelbvieh.org/event/seedstock-plus-showcase-sale-xi-8th-annual-customer-appreciation-sale
LOCATION:Kingsville Livstock\, Kingsville\, MO\, United States
CATEGORIES:Sales
ORGANIZER;CN="Seedstock Plus":MAILTO:john@seedstockplus.com
END:VEVENT
BEGIN:VEVENT
DTSTART;VALUE=DATE:20160924
DTEND;VALUE=DATE:20160925
DTSTAMP:20260421T183743
CREATED:20160811T135137Z
LAST-MODIFIED:20160811T135137Z
UID:9098-1474675200-1474761599@gelbvieh.org
SUMMARY:Bluegrass Gelbvieh Invitational
DESCRIPTION:
URL:https://gelbvieh.org/event/bluegrass-gelbvieh-invitational-2
LOCATION:Chenault Agricultural Center\, Mt. Sterling\, KY\, United States
END:VEVENT
BEGIN:VEVENT
DTSTART;TZID=America/Denver:20160924T010000
DTEND;TZID=America/Denver:20160924T170000
DTSTAMP:20260421T183743
CREATED:20160616T202655Z
LAST-MODIFIED:20160616T202655Z
UID:8986-1474678800-1474736400@gelbvieh.org
SUMMARY:South Dakota Gelbvieh Association Field Day
DESCRIPTION:Additional Information: The afternoon event will feature an educational program\, as well as cattle on display including bred heifers\, cows\, weaned bull calves and herd sires. The day will be topped off with supper and refreshments.
URL:https://gelbvieh.org/event/south-dakota-gelbvieh-association-field-day
LOCATION:CJ&L Livestock\, 15849 Lower Spring Creek Rd\, Hermosa\, SD\, 57744\, United States
CATEGORIES:Event
ORGANIZER;CN="Lori Maude":MAILTO:lori.maude@gmail.com
END:VEVENT
BEGIN:VEVENT
DTSTART;VALUE=DATE:20160928
DTEND;VALUE=DATE:20160929
DTSTAMP:20260421T183743
CREATED:20160613T165827Z
LAST-MODIFIED:20160613T175801Z
UID:8927-1475020800-1475107199@gelbvieh.org
SUMMARY:Eagle Pass Ranch Fall Bull Sale
DESCRIPTION:
URL:https://gelbvieh.org/event/eagle-pass-ranch-fall-bull-sale
LOCATION:Dos Palos Y Auction Yard\, Dos Palos\, CA\, United States
CATEGORIES:Sales
END:VEVENT
BEGIN:VEVENT
DTSTART;VALUE=DATE:20160930
DTEND;VALUE=DATE:20161001
DTSTAMP:20260421T183743
CREATED:20160613T165613Z
LAST-MODIFIED:20160920T144846Z
UID:8926-1475193600-1475279999@gelbvieh.org
SUMMARY:Entry Deadline for AGA Photo Contest
DESCRIPTION:Give us your best shot! Submit your high-quality\, high-resolution\, color photos of Gelbvieh and Balancer cattle to gelbviehmedia@gmail.com
URL:https://gelbvieh.org/event/entry-deadline-for-aga-photo-contest
CATEGORIES:AGA Announcements
END:VEVENT
BEGIN:VEVENT
DTSTART;TZID=America/Denver:20161001T010000
DTEND;TZID=America/Denver:20161001T170000
DTSTAMP:20260421T183743
CREATED:20160920T141753Z
LAST-MODIFIED:20160920T141813Z
UID:9255-1475283600-1475341200@gelbvieh.org
SUMMARY:Warner Beef Genetics Genetic Opportunities Female Production Sale
DESCRIPTION:
URL:https://gelbvieh.org/event/genetic-opportunities-female-production-sale
LOCATION:At the Ranch\, Arapahoe\, NE\, United States
CATEGORIES:Sales
END:VEVENT
BEGIN:VEVENT
DTSTART;TZID=America/Chicago:20161003T200000
DTEND;TZID=America/Chicago:20161003T203000
DTSTAMP:20260421T183743
CREATED:20160613T164638Z
LAST-MODIFIED:20160613T175641Z
UID:8919-1475524800-1475526600@gelbvieh.org
SUMMARY:The American Rancher Featuring the American Gelbvieh Association
DESCRIPTION:Tune in to see how Gelbvieh and Balancer genetics are meeting the demands of the modern beef industry.\nOctober 3\, 2016 at 8:00 p.m. CDT on RFD-TV\nDirecTV channel 345 and Dish Channel 231
URL:https://gelbvieh.org/event/the-american-rancher-featuring-the-american-gelbvieh-association
LOCATION:RFD-TV
CATEGORIES:AGA Announcements
END:VEVENT
BEGIN:VEVENT
DTSTART;VALUE=DATE:20161008
DTEND;VALUE=DATE:20161009
DTSTAMP:20260421T183743
CREATED:20160613T173524Z
LAST-MODIFIED:20160613T175626Z
UID:8962-1475884800-1475971199@gelbvieh.org
SUMMARY:Judd Ranch 26th Annual Cow Power Female Sale
DESCRIPTION:
URL:https://gelbvieh.org/event/judd-ranch-26th-annual-cow-power-female-sale
LOCATION:At the Ranch\, 423 Hwy K-68\, Pomona\, KS\, United States
CATEGORIES:Sales
END:VEVENT
BEGIN:VEVENT
DTSTART;VALUE=DATE:20161010
DTEND;VALUE=DATE:20161011
DTSTAMP:20260421T183743
CREATED:20160613T170858Z
LAST-MODIFIED:20160613T175612Z
UID:8938-1476057600-1476143999@gelbvieh.org
SUMMARY:LeDoux Ranch Future Focus Online Sale
DESCRIPTION:
URL:https://gelbvieh.org/event/ledoux-ranch-future-focus-online-sale
LOCATION:AngusLive.com
CATEGORIES:Sales
END:VEVENT
BEGIN:VEVENT
DTSTART;VALUE=DATE:20161015
DTEND;VALUE=DATE:20161016
DTSTAMP:20260421T183743
CREATED:20160613T171610Z
LAST-MODIFIED:20160613T172559Z
UID:8944-1476489600-1476575999@gelbvieh.org
SUMMARY:Seedstock Plus Fall Bull Sale
DESCRIPTION:
URL:https://gelbvieh.org/event/seedstock-plus-fall-bull-sale
LOCATION:Joplin Regional Stockyards\, Carthage
CATEGORIES:Sales
END:VEVENT
BEGIN:VEVENT
DTSTART;TZID=America/Chicago:20161015T123000
DTEND;TZID=America/Chicago:20161015T170000
DTSTAMP:20260421T183743
CREATED:20160920T142715Z
LAST-MODIFIED:20160920T142715Z
UID:9259-1476534600-1476550800@gelbvieh.org
SUMMARY:Midwest Beef Alliance Female & Bull Sale
DESCRIPTION:
URL:https://gelbvieh.org/event/midwest-beef-alliance-female-bull-sale
LOCATION:Mid-Missouri Livestock Center\, Marshall Junction\, MO\, United States
CATEGORIES:Sales
END:VEVENT
BEGIN:VEVENT
DTSTART;VALUE=DATE:20161022
DTEND;VALUE=DATE:20161023
DTSTAMP:20260421T183743
CREATED:20160823T210105Z
LAST-MODIFIED:20160823T210105Z
UID:9152-1477094400-1477180799@gelbvieh.org
SUMMARY:Flying H Genetics Grown on Grass Fall Bull Sale
DESCRIPTION:
URL:https://gelbvieh.org/event/flying-h-genetics-grown-on-grass-fall-bull-sale
LOCATION:Unnamed Venue\, Butler\, MO\, United States
END:VEVENT
BEGIN:VEVENT
DTSTART;TZID=America/Chicago:20161022T080000
DTEND;TZID=America/Chicago:20161022T170000
DTSTAMP:20260421T183743
CREATED:20160920T143414Z
LAST-MODIFIED:20160920T143537Z
UID:9266-1477123200-1477155600@gelbvieh.org
SUMMARY:American Royal Gelbvieh Junior/Open Show
DESCRIPTION:Entry deadline for the show is September 20\, 2016.
URL:https://gelbvieh.org/event/american-royal-gelbvieh-junioropen-show
LOCATION:Hale Arena – American Royal Complex\, Kansas City\, MO\, United States
CATEGORIES:Show
END:VEVENT
BEGIN:VEVENT
DTSTART;VALUE=DATE:20161105
DTEND;VALUE=DATE:20161106
DTSTAMP:20260421T183743
CREATED:20160711T220330Z
LAST-MODIFIED:20160711T220330Z
UID:9051-1478304000-1478390399@gelbvieh.org
SUMMARY:TJB Gelbvieh Annual Bull Sale
DESCRIPTION:
URL:https://gelbvieh.org/event/tjb-gelbvieh-annual-bull-sale
LOCATION:Unnamed Venue\, Chickamauga\, GA\, United States
CATEGORIES:Sales
END:VEVENT
BEGIN:VEVENT
DTSTART;TZID=America/Denver:20161105T120000
DTEND;TZID=America/Denver:20161105T170000
DTSTAMP:20260421T183743
CREATED:20160929T194941Z
LAST-MODIFIED:20160929T195405Z
UID:9333-1478347200-1478365200@gelbvieh.org
SUMMARY:B/F Cattle Company with Cleland Cattle Company Gelbvieh & Balancer Bull Sale
DESCRIPTION:B/F Cattle Company with Cleland Cattle Company Gelbvieh & Balancer Bull Sale – Pasture raised\, work ready\, athletic\, easy keeping bulls for the commercial cattleman. For information or to request a catalog\, call Brett Foster at 660.492.2808. Videos may be viewed at www.bfcattleco.com.
URL:https://gelbvieh.org/event/bf-cattle-company-with-cleland-cattle-company-gelbvieh-balancer-bull-sale
LOCATION:At the Farm\, 5746 NE County Rd. 13003\, Butler\, MO\, 64730\, United States
CATEGORIES:Sales
END:VEVENT
BEGIN:VEVENT
DTSTART;TZID=America/Denver:20161105T130000
DTEND;TZID=America/Denver:20161105T170000
DTSTAMP:20260421T183743
CREATED:20160816T224551Z
LAST-MODIFIED:20160920T145000Z
UID:9106-1478350800-1478365200@gelbvieh.org
SUMMARY:Harriman Santa Fe Top of the Breed Bull Sale
DESCRIPTION:
URL:https://gelbvieh.org/event/harriman-santa-fe-top-of-the-breed-bull-sale-2
LOCATION:Windsor Livestock Auction\, 1173 MO-52\, Windsor\, MO\, 65630\, United States
CATEGORIES:Sales
END:VEVENT
BEGIN:VEVENT
DTSTART;VALUE=DATE:20161112
DTEND;VALUE=DATE:20161113
DTSTAMP:20260421T183743
CREATED:20160613T171817Z
LAST-MODIFIED:20160613T172326Z
UID:8947-1478908800-1478995199@gelbvieh.org
SUMMARY:C-Cross Cattle Company Annual Fall Bull and Female Sale
DESCRIPTION:
URL:https://gelbvieh.org/event/c-cross-cattle-company-annual-fall-bull-and-female-sale
LOCATION:At the Ranch\, Biscoe\, NC\, United States
CATEGORIES:Sales
ORGANIZER;CN="C-Cross Cattle Company - Duane & Wendy Strider":MAILTO:ccrosscattle@yahoo.com
END:VEVENT
BEGIN:VEVENT
DTSTART;TZID=America/Denver:20161112T130000
DTEND;TZID=America/Denver:20161112T170000
DTSTAMP:20260421T183743
CREATED:20160816T224328Z
LAST-MODIFIED:20160816T224328Z
UID:9104-1478955600-1478970000@gelbvieh.org
SUMMARY:20th Annual HAGA Show-Me Plus Gelbvieh & Balancer Sale
DESCRIPTION:
URL:https://gelbvieh.org/event/20th-annual-haga-show-me-plus-gelbvieh-balancer-sale
LOCATION:Springfield Livestock Marketing Center\, Springfield\, MO\, United States
END:VEVENT
END:VCALENDAR