BEGIN:VCALENDAR
VERSION:2.0
PRODID:-//American Gelbvieh - ECPv6.15.18//NONSGML v1.0//EN
CALSCALE:GREGORIAN
METHOD:PUBLISH
X-WR-CALNAME:American Gelbvieh
X-ORIGINAL-URL:https://gelbvieh.org
X-WR-CALDESC:Events for American Gelbvieh
REFRESH-INTERVAL;VALUE=DURATION:PT1H
X-Robots-Tag:noindex
X-PUBLISHED-TTL:PT1H
BEGIN:VTIMEZONE
TZID:America/Denver
BEGIN:DAYLIGHT
TZOFFSETFROM:-0700
TZOFFSETTO:-0600
TZNAME:MDT
DTSTART:20150308T090000
END:DAYLIGHT
BEGIN:STANDARD
TZOFFSETFROM:-0600
TZOFFSETTO:-0700
TZNAME:MST
DTSTART:20151101T080000
END:STANDARD
BEGIN:DAYLIGHT
TZOFFSETFROM:-0700
TZOFFSETTO:-0600
TZNAME:MDT
DTSTART:20160313T090000
END:DAYLIGHT
BEGIN:STANDARD
TZOFFSETFROM:-0600
TZOFFSETTO:-0700
TZNAME:MST
DTSTART:20161106T080000
END:STANDARD
BEGIN:DAYLIGHT
TZOFFSETFROM:-0700
TZOFFSETTO:-0600
TZNAME:MDT
DTSTART:20170312T090000
END:DAYLIGHT
BEGIN:STANDARD
TZOFFSETFROM:-0600
TZOFFSETTO:-0700
TZNAME:MST
DTSTART:20171105T080000
END:STANDARD
END:VTIMEZONE
BEGIN:VTIMEZONE
TZID:America/Chicago
BEGIN:DAYLIGHT
TZOFFSETFROM:-0600
TZOFFSETTO:-0500
TZNAME:CDT
DTSTART:20150308T080000
END:DAYLIGHT
BEGIN:STANDARD
TZOFFSETFROM:-0500
TZOFFSETTO:-0600
TZNAME:CST
DTSTART:20151101T070000
END:STANDARD
BEGIN:DAYLIGHT
TZOFFSETFROM:-0600
TZOFFSETTO:-0500
TZNAME:CDT
DTSTART:20160313T080000
END:DAYLIGHT
BEGIN:STANDARD
TZOFFSETFROM:-0500
TZOFFSETTO:-0600
TZNAME:CST
DTSTART:20161106T070000
END:STANDARD
BEGIN:DAYLIGHT
TZOFFSETFROM:-0600
TZOFFSETTO:-0500
TZNAME:CDT
DTSTART:20170312T080000
END:DAYLIGHT
BEGIN:STANDARD
TZOFFSETFROM:-0500
TZOFFSETTO:-0600
TZNAME:CST
DTSTART:20171105T070000
END:STANDARD
END:VTIMEZONE
BEGIN:VTIMEZONE
TZID:America/Kentucky/Louisville
BEGIN:DAYLIGHT
TZOFFSETFROM:-0500
TZOFFSETTO:-0400
TZNAME:EDT
DTSTART:20150308T070000
END:DAYLIGHT
BEGIN:STANDARD
TZOFFSETFROM:-0400
TZOFFSETTO:-0500
TZNAME:EST
DTSTART:20151101T060000
END:STANDARD
BEGIN:DAYLIGHT
TZOFFSETFROM:-0500
TZOFFSETTO:-0400
TZNAME:EDT
DTSTART:20160313T070000
END:DAYLIGHT
BEGIN:STANDARD
TZOFFSETFROM:-0400
TZOFFSETTO:-0500
TZNAME:EST
DTSTART:20161106T060000
END:STANDARD
BEGIN:DAYLIGHT
TZOFFSETFROM:-0500
TZOFFSETTO:-0400
TZNAME:EDT
DTSTART:20170312T070000
END:DAYLIGHT
BEGIN:STANDARD
TZOFFSETFROM:-0400
TZOFFSETTO:-0500
TZNAME:EST
DTSTART:20171105T060000
END:STANDARD
END:VTIMEZONE
BEGIN:VEVENT
DTSTART;TZID=America/Denver:20160629T080000
DTEND;TZID=America/Denver:20160629T163000
DTSTAMP:20260421T231548
CREATED:20160627T140207Z
LAST-MODIFIED:20160628T214104Z
UID:9009-1467187200-1467217800@gelbvieh.org
SUMMARY:AGA Office Closed
DESCRIPTION:The AGA Office will be closed to allow staff time to pack the current AGA headquarters and prepare for the move to the new location.
URL:https://gelbvieh.org/event/aga-office-closed-5
LOCATION:AGA Office\, 10900 Dover Street\, Westminster\, 80021\, United States
CATEGORIES:AGA Announcements
END:VEVENT
BEGIN:VEVENT
DTSTART;TZID=America/Denver:20160629T080000
DTEND;TZID=America/Denver:20160629T120000
DTSTAMP:20260421T231548
CREATED:20160627T211628Z
LAST-MODIFIED:20160628T213953Z
UID:9015-1467187200-1467201600@gelbvieh.org
SUMMARY:AGA Registry Unavailable
DESCRIPTION:The AGA Online Registry Service will be inaccessible to the membership the morning of Wednesday\, June 29 for routine maintenance. The registry service will be back online in the afternoon. We apologize for any inconvenience this may cause. If you have any questions about the AGA Registry Service\, please contact the AGA office at 303-465-2333.
URL:https://gelbvieh.org/event/aga-registry-unavailable
CATEGORIES:AGA Announcements
END:VEVENT
BEGIN:VEVENT
DTSTART;VALUE=DATE:20160610
DTEND;VALUE=DATE:20160613
DTSTAMP:20260421T231548
CREATED:20160212T213729Z
LAST-MODIFIED:20160226T224705Z
UID:7964-1465516800-1465775999@gelbvieh.org
SUMMARY:AGJA Western Regional
DESCRIPTION:Click here to view complete details
URL:https://gelbvieh.org/event/agja-western-regional
LOCATION:Central States Fairgrounds\, 800 San Francisco Street\, Rapid Cith\, SD\, United States
CATEGORIES:AGA Announcements,Juniors
END:VEVENT
BEGIN:VEVENT
DTSTART;VALUE=DATE:20160527
DTEND;VALUE=DATE:20160531
DTSTAMP:20260421T231548
CREATED:20160526T151526Z
LAST-MODIFIED:20160526T151620Z
UID:8836-1464307200-1464652799@gelbvieh.org
SUMMARY:AGA Office Closed for Holiday
DESCRIPTION:
URL:https://gelbvieh.org/event/aga-office-closed-for-holiday
LOCATION:AGA Office\, 10900 Dover Street\, Westminster\, 80021\, United States
CATEGORIES:AGA Announcements,Event
END:VEVENT
BEGIN:VEVENT
DTSTART;VALUE=DATE:20160527
DTEND;VALUE=DATE:20160530
DTSTAMP:20260421T231548
CREATED:20160212T213347Z
LAST-MODIFIED:20160226T224641Z
UID:7961-1464307200-1464566399@gelbvieh.org
SUMMARY:AGJA Eastern Regional
DESCRIPTION:View complete details
URL:https://gelbvieh.org/event/agja-eastern-regional
LOCATION:Nelson County Fairgrounds\, 2389 New Haven Road\, Bardstown\, KY\, 40004\, United States
CATEGORIES:AGA Announcements,Juniors
END:VEVENT
BEGIN:VEVENT
DTSTART;TZID=America/Denver:20160429T190000
DTEND;TZID=America/Denver:20160429T200000
DTSTAMP:20260421T231548
CREATED:20160427T204915Z
LAST-MODIFIED:20160427T204915Z
UID:8724-1461956400-1461960000@gelbvieh.org
SUMMARY:Buckingham Cattlemen's Association 12th Annual Bred Heifer Sale
DESCRIPTION:Selling 95 Balancer influenced bred heifers.
URL:https://gelbvieh.org/event/buckingham-cattlemens-association-12th-annual-bred-heifer-sale
LOCATION:Unnamed Venue\, Lynchburg\, VA\, United States
END:VEVENT
BEGIN:VEVENT
DTSTART;TZID=America/Denver:20160421T130000
DTEND;TZID=America/Denver:20160421T170000
DTSTAMP:20260421T231548
CREATED:20160322T144158Z
LAST-MODIFIED:20160322T144158Z
UID:8478-1461243600-1461258000@gelbvieh.org
SUMMARY:RLV Gelbvieh/Balancer Bull Sale
DESCRIPTION:
URL:https://gelbvieh.org/event/rlv-gelbviehbalancer-bull-sale
LOCATION:Belle Fourche Livestock Exchange\, 18662 Livestock Road\, Belle Fourche\, SD\, United States
END:VEVENT
BEGIN:VEVENT
DTSTART;TZID=America/Denver:20160416T120000
DTEND;TZID=America/Denver:20160416T170000
DTSTAMP:20260421T231548
CREATED:20160411T162859Z
LAST-MODIFIED:20160411T162859Z
UID:8626-1460808000-1460826000@gelbvieh.org
SUMMARY:Seedstock Plus Influence Bull & Female Sale
DESCRIPTION:
URL:https://gelbvieh.org/event/seedstock-plus-influence-bull-female-sale
LOCATION:Kingsville Livestock Market\, Kingsville\, MO\, United States
END:VEVENT
BEGIN:VEVENT
DTSTART;TZID=America/Denver:20160414T020000
DTEND;TZID=America/Denver:20160414T170000
DTSTAMP:20260421T231548
CREATED:20160411T163755Z
LAST-MODIFIED:20160411T163755Z
UID:8628-1460599200-1460653200@gelbvieh.org
SUMMARY:Tucker Family Farms Professional Replacement Female Sale
DESCRIPTION:
URL:https://gelbvieh.org/event/tucker-family-farms-professional-replacement-female-sale
LOCATION:At the Farm\, 2786 R Ave\, Clutier\, IA\, 52217\, United States
ORGANIZER;CN="Bill Tucker":MAILTO:betterhefiers@gmail.com 
END:VEVENT
BEGIN:VEVENT
DTSTART;TZID=America/Chicago:20160409T130000
DTEND;TZID=America/Chicago:20160409T170000
DTSTAMP:20260421T231548
CREATED:20160217T221727Z
LAST-MODIFIED:20160217T221727Z
UID:8134-1460206800-1460221200@gelbvieh.org
SUMMARY:4th Annual Middle Tennessee Gelbvieh/Angus Invitational
DESCRIPTION:Hosted by Armstrong Cattle Co.
URL:https://gelbvieh.org/event/4th-annual-middle-tennessee-gelbviehangus-invitational
LOCATION:Unnamed Venue\, Centerville\, TN\, United States
ORGANIZER;CN="Slaughter Sale Management":MAILTO:hmslghtr@aol.com
END:VEVENT
BEGIN:VEVENT
DTSTART;VALUE=DATE:20160409
DTEND;VALUE=DATE:20160410
DTSTAMP:20260421T231548
CREATED:20160217T231222Z
LAST-MODIFIED:20160311T151230Z
UID:8150-1460160000-1460246399@gelbvieh.org
SUMMARY:Bar T Bar Ranches Annual Bull Sale
DESCRIPTION:Videos available online via DVAuction.com starting March 30
URL:https://gelbvieh.org/event/bar-t-bar-ranchers-annual-bull-sale
LOCATION:Crater Ranch Headquarters\, AZ\, United States
ORGANIZER;CN="Bob and Judy Prosser":MAILTO:info@bartbar.com
END:VEVENT
BEGIN:VEVENT
DTSTART;VALUE=DATE:20160409
DTEND;VALUE=DATE:20160410
DTSTAMP:20260421T231548
CREATED:20160217T221537Z
LAST-MODIFIED:20160217T221537Z
UID:8131-1460160000-1460246399@gelbvieh.org
SUMMARY:Knoll Crest Total Performance Bull Sale
DESCRIPTION:
URL:https://gelbvieh.org/event/knoll-crest-total-performance-bull-sale
LOCATION:Unnamed Venue\, VA\, United States
ORGANIZER;CN="Knoll Crest Farm":MAILTO:knollcrest@hughesnet.com
END:VEVENT
BEGIN:VEVENT
DTSTART;TZID=America/Denver:20160408T080000
DTEND;TZID=America/Denver:20160408T163000
DTSTAMP:20260421T231548
CREATED:20160407T212336Z
LAST-MODIFIED:20160407T212336Z
UID:8614-1460102400-1460133000@gelbvieh.org
SUMMARY:Limited Staff Available Friday\, April 8
DESCRIPTION:
URL:https://gelbvieh.org/event/limited-staff-available-friday-april-8
LOCATION:AGA Office\, 10900 Dover Street\, Westminster\, 80021\, United States
CATEGORIES:AGA Announcements,Event
END:VEVENT
BEGIN:VEVENT
DTSTART;TZID=America/Denver:20160406T123000
DTEND;TZID=America/Denver:20160406T170000
DTSTAMP:20260421T231548
CREATED:20160301T171235Z
LAST-MODIFIED:20160301T171235Z
UID:8285-1459945800-1459962000@gelbvieh.org
SUMMARY:75th Annual Kansas Bull Test Sale
DESCRIPTION:
URL:https://gelbvieh.org/event/75th-annual-kansas-bull-test-sale
LOCATION:Mitchell County Fairgrounds\, Beloit\, KS\, United States
END:VEVENT
BEGIN:VEVENT
DTSTART;TZID=America/Chicago:20160402T130000
DTEND;TZID=America/Chicago:20160402T170000
DTSTAMP:20260421T231548
CREATED:20160217T230502Z
LAST-MODIFIED:20160217T230502Z
UID:8145-1459602000-1459616400@gelbvieh.org
SUMMARY:Circle S Ranch 9th Annual Going to Grass Production Sale
DESCRIPTION:
URL:https://gelbvieh.org/event/circle-s-ranch-9th-annual-going-to-grass-production-sale
LOCATION:At the Ranch\, 1371 27th Avenue\, Canton\, KS\, United States
ORGANIZER;CN="John & Carla Shearer & Family":MAILTO:circle_s@hometelco.net
END:VEVENT
BEGIN:VEVENT
DTSTART;TZID=America/Kentucky/Louisville:20160401T090000
DTEND;TZID=America/Kentucky/Louisville:20160402T150000
DTSTAMP:20260421T231548
CREATED:20160217T225954Z
LAST-MODIFIED:20160217T225954Z
UID:8139-1459501200-1459609200@gelbvieh.org
SUMMARY:J&D Kerstiens Gelbvieh Private Treaty Sale
DESCRIPTION:Open House with Viewing – April 1 \nPrivate Treaty Sale – April 2
URL:https://gelbvieh.org/event/jd-kerstiens-gelbvieh-private-treaty-sale
LOCATION:Unnamed Venue\, Jasper\, IN\, United States
ORGANIZER;CN="Jerome Kerstiens":MAILTO:jdkerstiens@psci.net
END:VEVENT
BEGIN:VEVENT
DTSTART;TZID=America/Denver:20160326T130000
DTEND;TZID=America/Denver:20160326T170000
DTSTAMP:20260421T231548
CREATED:20160217T221141Z
LAST-MODIFIED:20160217T221141Z
UID:8128-1458997200-1459011600@gelbvieh.org
SUMMARY:Cranview Gelbvieh Progress and Performance Sale
DESCRIPTION:
URL:https://gelbvieh.org/event/cranview-gelbvieh-progress-performance-sale
LOCATION:Unnamed Venue\, Rugby\, ND\, United States
ORGANIZER;CN="Rob Arnold":MAILTO:RLAGelbvieh@aol.com
END:VEVENT
BEGIN:VEVENT
DTSTART;TZID=America/Denver:20160326T130000
DTEND;TZID=America/Denver:20160326T170000
DTSTAMP:20260421T231548
CREATED:20160217T220903Z
LAST-MODIFIED:20160322T142937Z
UID:8125-1458997200-1459011600@gelbvieh.org
SUMMARY:Wilkinson Gelbvieh Private Treaty Bull Sale
DESCRIPTION:Bulls available starting at 10:00 a.m. for viewing.\nLunch provided at noon\nBid off begins at 1:00 p.m.\nAny remaining bulls will be offered after the sale\, private treaty
URL:https://gelbvieh.org/event/wilkinson-gelbvieh-private-treaty-bull-sale
LOCATION:At the Ranch\, Model\, CO\, United States
ORGANIZER;CN="Bill%2C Nancy & Sydney Wilkinson":MAILTO:bnwbulls@bmi.net
END:VEVENT
BEGIN:VEVENT
DTSTART;TZID=America/Denver:20160326T130000
DTEND;TZID=America/Denver:20160326T170000
DTSTAMP:20260421T231548
CREATED:20160217T220333Z
LAST-MODIFIED:20160217T220333Z
UID:8121-1458997200-1459011600@gelbvieh.org
SUMMARY:Bluegrass Gelbvieh Invitational Bull & Female Sale
DESCRIPTION:
URL:https://gelbvieh.org/event/bluegrass-gelbvieh-invitational
LOCATION:Chenault Ag Center\, Mt. Sterling\, KY\, United States
ORGANIZER;CN="Slaughter Sale Management":MAILTO:hmslghtr@aol.com
END:VEVENT
BEGIN:VEVENT
DTSTART;TZID=America/Chicago:20160326T130000
DTEND;TZID=America/Chicago:20160326T170000
DTSTAMP:20260421T231548
CREATED:20160217T215511Z
LAST-MODIFIED:20160217T215511Z
UID:8118-1458997200-1459011600@gelbvieh.org
SUMMARY:Harriman Santa Fe "Top of the Breed" Bull Sale
DESCRIPTION:
URL:https://gelbvieh.org/event/harriman-santa-fe-top-of-the-breed-bull-sale
LOCATION:Windsor Livestock Auction\, 1173 MO-52\, Windsor\, MO\, 65630\, United States
ORGANIZER;CN="Bob Harriman":MAILTO:bharriman39@hotmail.com
END:VEVENT
BEGIN:VEVENT
DTSTART;TZID=America/Denver:20160326T130000
DTEND;TZID=America/Denver:20160326T170000
DTSTAMP:20260421T231548
CREATED:20151209T213304Z
LAST-MODIFIED:20151209T214156Z
UID:6877-1458997200-1459011600@gelbvieh.org
SUMMARY:Oklahoma Gelbvieh Association "Sooner Select Sale"
DESCRIPTION:
URL:https://gelbvieh.org/event/facebook-twitter-youtubeyoutube-march-2016-smtwtfs01020304050607080910111213141516171819202122232425262728293031-bookmark-and-share-back-to-calendar-oklahoma-gelbvieh-association-sooner-select-sa
LOCATION:McAlister Union Stockyards\, 2515 Standard Rd\, McAlester\, OK\, 74501\, United States
CATEGORIES:Sales
END:VEVENT
BEGIN:VEVENT
DTSTART;TZID=America/Chicago:20160326T120000
DTEND;TZID=America/Chicago:20160326T170000
DTSTAMP:20260421T231548
CREATED:20160217T215223Z
LAST-MODIFIED:20160217T215223Z
UID:8115-1458993600-1459011600@gelbvieh.org
SUMMARY:Seedstock Plus South Missouri Bull Sale
DESCRIPTION:
URL:https://gelbvieh.org/event/seedstock-plus-south-missouri-bull-sale
LOCATION:Joplin Regional Stockyards\, Carthage\, MO\, United States
ORGANIZER;CN="Seedstock Plus":MAILTO:john@seedstockplus.com
END:VEVENT
BEGIN:VEVENT
DTSTART;TZID=America/Denver:20160323T080000
DTEND;TZID=America/Denver:20160323T170000
DTSTAMP:20260421T231548
CREATED:20160323T131852Z
LAST-MODIFIED:20160323T132527Z
UID:8499-1458720000-1458752400@gelbvieh.org
SUMMARY:AGA Office Closed
DESCRIPTION:Due to inclement weather and blizzard conditions\, the AGA office is closed today\, Wednesday\, March 23. We apologize for any inconvenience this may cause. \nThe AGA office is scheduled to resume regular business hours of Monday-Friday 8:00 a.m.-4:30 p.m. on Thursday\, March 24.
URL:https://gelbvieh.org/event/aga-office-closed-3
LOCATION:AGA Office\, 10900 Dover Street\, Westminster\, 80021\, United States
END:VEVENT
BEGIN:VEVENT
DTSTART;TZID=America/Denver:20160319T133000
DTEND;TZID=America/Denver:20160319T170000
DTSTAMP:20260421T231548
CREATED:20160217T213636Z
LAST-MODIFIED:20160217T213636Z
UID:8109-1458394200-1458406800@gelbvieh.org
SUMMARY:Lone Oak Cattle Fourth Annual Private Treaty Bull Sale
DESCRIPTION:Cattle available for viewing after 9:00 a.m. \nBid-off at 1:30 p.m.
URL:https://gelbvieh.org/event/lone-oak-cattle-fourth-annual-private-treaty-bull-sale
LOCATION:At the Ranch\, 20963 30th St.\, Mechanicsville\, IA\, 562306\, United States
ORGANIZER;CN="Eric & Heather Ehresman":MAILTO:hornsandthorns@netins.net
END:VEVENT
BEGIN:VEVENT
DTSTART;TZID=America/Denver:20160319T130000
DTEND;TZID=America/Denver:20160319T170000
DTSTAMP:20260421T231548
CREATED:20160215T204321Z
LAST-MODIFIED:20160215T204321Z
UID:7986-1458392400-1458406800@gelbvieh.org
SUMMARY:Central Montana Gelbvieh and Angus Genetics 21st Annual Bull Sale
DESCRIPTION:Preview cattle Friday night at 5:00 PM and Saturday morning before sale. Lunch served at noon.
URL:https://gelbvieh.org/event/central-montana-gelbvieh-and-angus-genetics-21st-annual-bull-sale
LOCATION:Lewistown Livestock Auction\, Lewistown\, MT\, United States
ORGANIZER;CN="Don Danell":MAILTO:danelldiamondsix@gmail.com
END:VEVENT
BEGIN:VEVENT
DTSTART;TZID=America/Denver:20160319T010000
DTEND;TZID=America/Denver:20160319T150000
DTSTAMP:20260421T231548
CREATED:20160215T201252Z
LAST-MODIFIED:20160215T201252Z
UID:7977-1458349200-1458399600@gelbvieh.org
SUMMARY:Midwest Beef Consultants\, Brooks Farms\, Inc.\, Ertel Cattle Company and Unsicker Farms 14th Annual Bull Sale
DESCRIPTION:
URL:https://gelbvieh.org/event/midwest-beef-consultants-brooks-farms-inc-ertel-cattle-company-and-unsicker-farms-14th-annual-bull-sale
LOCATION:Brooks Farms\, 8689 W 500 N\, Wolcott\, IN\, 47995\, United States
ORGANIZER;CN="W. Mark Hilton":MAILTO:mark@mwbeefcattle.com
END:VEVENT
BEGIN:VEVENT
DTSTART;VALUE=DATE:20160319
DTEND;VALUE=DATE:20160320
DTSTAMP:20260421T231548
CREATED:20160217T215006Z
LAST-MODIFIED:20160217T215006Z
UID:8112-1458345600-1458431999@gelbvieh.org
SUMMARY:Jumping Cow Gelbvieh and Ridinger Cattle Company Customer Appreciation Day
DESCRIPTION:View private treaty sale catalog.
URL:https://gelbvieh.org/event/jumping-cow-gelbvieh-and-ridinger-cattle-company-customer-appreciation-day-2
LOCATION:Jumping Cow Gelbvieh\, 24063 Co. Rd. 122\, Ramah\, CO\, United States
END:VEVENT
BEGIN:VEVENT
DTSTART;VALUE=DATE:20160319
DTEND;VALUE=DATE:20160320
DTSTAMP:20260421T231548
CREATED:20160217T213234Z
LAST-MODIFIED:20160217T213234Z
UID:8106-1458345600-1458431999@gelbvieh.org
SUMMARY:Flying H Genetics 17th Annual Grown on Grass Bull Sale
DESCRIPTION:
URL:https://gelbvieh.org/event/flying-h-genetics-17th-annual-grown-on-grass-bull-sale
LOCATION:At the Ranch\, Butler\, MO\, United States
ORGANIZER;CN="Cody Helms":MAILTO:cody@flyinghgenetics.com
END:VEVENT
BEGIN:VEVENT
DTSTART;VALUE=DATE:20160319
DTEND;VALUE=DATE:20160320
DTSTAMP:20260421T231548
CREATED:20160217T212911Z
LAST-MODIFIED:20160217T212911Z
UID:8103-1458345600-1458431999@gelbvieh.org
SUMMARY:Pearson Cattle Company Annual Bull Sale
DESCRIPTION:
URL:https://gelbvieh.org/event/pearson-cattle-company-annual-bull-sale
LOCATION:At the Ranch\, Lake City\, SD\, United States
ORGANIZER;CN="Neal Pearson":MAILTO:njpearson@venturecomm.net
END:VEVENT
BEGIN:VEVENT
DTSTART;VALUE=DATE:20160318
DTEND;VALUE=DATE:20160319
DTSTAMP:20260421T231548
CREATED:20160217T212318Z
LAST-MODIFIED:20160217T212318Z
UID:8098-1458259200-1458345599@gelbvieh.org
SUMMARY:7th Annual Southwest Iowa Gelbvieh & Balancer Bull & Female Sale
DESCRIPTION:For online bidding: www.cattleusa.com and click on www.crestonlivestock.com. \nCall Tom Fry at Creston Livestock Auction (641-344-5082) at least two days before the sale to qualify bid numbers.
URL:https://gelbvieh.org/event/7th-annual-southwest-iowa-gelbvieh-balancer-bull-female-sale
LOCATION:Creston Livestock Auction\, Creston\, IA\, United States
ORGANIZER;CN="Michael Bauer":MAILTO:mjbauer4320@hotmail.com
END:VEVENT
END:VCALENDAR