BEGIN:VCALENDAR
VERSION:2.0
PRODID:-//American Gelbvieh - ECPv6.15.20//NONSGML v1.0//EN
CALSCALE:GREGORIAN
METHOD:PUBLISH
X-ORIGINAL-URL:https://gelbvieh.org
X-WR-CALDESC:Events for American Gelbvieh
REFRESH-INTERVAL;VALUE=DURATION:PT1H
X-Robots-Tag:noindex
X-PUBLISHED-TTL:PT1H
BEGIN:VTIMEZONE
TZID:America/Denver
BEGIN:DAYLIGHT
TZOFFSETFROM:-0700
TZOFFSETTO:-0600
TZNAME:MDT
DTSTART:20240310T090000
END:DAYLIGHT
BEGIN:STANDARD
TZOFFSETFROM:-0600
TZOFFSETTO:-0700
TZNAME:MST
DTSTART:20241103T080000
END:STANDARD
BEGIN:DAYLIGHT
TZOFFSETFROM:-0700
TZOFFSETTO:-0600
TZNAME:MDT
DTSTART:20250309T090000
END:DAYLIGHT
BEGIN:STANDARD
TZOFFSETFROM:-0600
TZOFFSETTO:-0700
TZNAME:MST
DTSTART:20251102T080000
END:STANDARD
BEGIN:DAYLIGHT
TZOFFSETFROM:-0700
TZOFFSETTO:-0600
TZNAME:MDT
DTSTART:20260308T090000
END:DAYLIGHT
BEGIN:STANDARD
TZOFFSETFROM:-0600
TZOFFSETTO:-0700
TZNAME:MST
DTSTART:20261101T080000
END:STANDARD
BEGIN:DAYLIGHT
TZOFFSETFROM:-0700
TZOFFSETTO:-0600
TZNAME:MDT
DTSTART:20270314T090000
END:DAYLIGHT
BEGIN:STANDARD
TZOFFSETFROM:-0600
TZOFFSETTO:-0700
TZNAME:MST
DTSTART:20271107T080000
END:STANDARD
END:VTIMEZONE
BEGIN:VEVENT
DTSTART;TZID=America/Denver:20250412T080000
DTEND;TZID=America/Denver:20250412T170000
DTSTAMP:20260422T222055
CREATED:20240813T174901Z
LAST-MODIFIED:20240813T174901Z
UID:25117-1744444800-1744477200@gelbvieh.org
SUMMARY:Knoll Crest Farm Spring Bull and Female Sale
DESCRIPTION:
URL:https://gelbvieh.org/event/knoll-crest-farm-spring-bull-and-female-sale
LOCATION:Red House\, VA\, Red House\, VA
CATEGORIES:Event,Sales
END:VEVENT
BEGIN:VEVENT
DTSTART;TZID=America/Denver:20250623T080000
DTEND;TZID=America/Denver:20250627T170000
DTSTAMP:20260422T222055
CREATED:20240813T174618Z
LAST-MODIFIED:20240813T174618Z
UID:25114-1750665600-1751043600@gelbvieh.org
SUMMARY:Grand Ole Gelbvieh Junior Classic\, Lebanon\, Tenn.
DESCRIPTION:
URL:https://gelbvieh.org/event/grand-ole-gelbvieh-junior-classic-lebanon-tenn
LOCATION:Lebanon\, TN\, Lebanon\, TN
CATEGORIES:Event,Juniors,Show
END:VEVENT
BEGIN:VEVENT
DTSTART;TZID=America/Denver:20250816T090000
DTEND;TZID=America/Denver:20250816T190000
DTSTAMP:20260422T222055
CREATED:20250624T134402Z
LAST-MODIFIED:20250624T134402Z
UID:26293-1755334800-1755370800@gelbvieh.org
SUMMARY:Seedstock Plus On-Line Showcase Sale
DESCRIPTION:Start Time: 9 a.m. CDT\nEnd Time: 7 p.m. (soft close)\nLocation: Burbank Bull Development\nAddress: 18864 Kepler Dr\nCity: Saint Catharine\nState: MO\nZip Code: 64628\nCountry: USA\nContact Name: John Burbank\nPhone: 660-258-5547\nEmail – john@seedstockplus.com\nWebsite: www.seedstockplus.com
URL:https://gelbvieh.org/event/seedstock-plus-on-line-showcase-sale
CATEGORIES:Event,Sales
END:VEVENT
BEGIN:VEVENT
DTSTART;TZID=America/Denver:20251011T080000
DTEND;TZID=America/Denver:20251011T170000
DTSTAMP:20260422T222055
CREATED:20250506T140255Z
LAST-MODIFIED:20250506T140255Z
UID:26162-1760169600-1760202000@gelbvieh.org
SUMMARY:Judd Ranch 35th Annual Cow Power Female Sale
DESCRIPTION:
URL:https://gelbvieh.org/event/judd-ranch-35th-annual-cow-power-female-sale
LOCATION:Pomona\, KS\, Pomona\, KS
CATEGORIES:Event,Sales
END:VEVENT
BEGIN:VEVENT
DTSTART;TZID=America/Denver:20251018T000000
DTEND;TZID=America/Denver:20251018T000000
DTSTAMP:20260422T222055
CREATED:20250624T133944Z
LAST-MODIFIED:20250624T134224Z
UID:8636-1760745600-1760745600@gelbvieh.org
SUMMARY:Seedstock Plus Fall Bull & Female Sale
DESCRIPTION:Start Time: 12 noon\nLocation: Joplin Regional Stockyards\nCity: Carthage\nState: MO\nContact Name: John Burbank\nPhone: 660-734-1165\nEmail – john@seedstockplus.com\nWebsite: www.seedstockplus.com
URL:https://gelbvieh.org/event/seedstock-plus-influence-bull-female-sale-2
CATEGORIES:Event,Sales
END:VEVENT
BEGIN:VEVENT
DTSTART;VALUE=DATE:20251020
DTEND;VALUE=DATE:20251021
DTSTAMP:20260422T222055
CREATED:20250714T173602Z
LAST-MODIFIED:20250714T173602Z
UID:26341-1760918400-1761004799@gelbvieh.org
SUMMARY:Danell Diamond Six Ranch Complete Cowherd Dispersal
DESCRIPTION:
URL:https://gelbvieh.org/event/danell-diamond-six-ranch-complete-cowherd-dispersal
CATEGORIES:Event,Sales
END:VEVENT
BEGIN:VEVENT
DTSTART;VALUE=DATE:20251024
DTEND;VALUE=DATE:20251025
DTSTAMP:20260422T222055
CREATED:20250714T173710Z
LAST-MODIFIED:20251017T143833Z
UID:26344-1761264000-1761350399@gelbvieh.org
SUMMARY:T Bar S Cattle Co. Focused on the Future Bull Sale
DESCRIPTION:Catalog\n\nVideos 
URL:https://gelbvieh.org/event/t-bar-s-cattle-co-focused-on-the-future-bull-sale
LOCATION:Billings\, MO
CATEGORIES:Event,Sales
END:VEVENT
BEGIN:VEVENT
DTSTART;TZID=America/Denver:20251024T080000
DTEND;TZID=America/Denver:20251024T170000
DTSTAMP:20260422T222055
CREATED:20251024T195317Z
LAST-MODIFIED:20251024T195317Z
UID:26742-1761292800-1761325200@gelbvieh.org
SUMMARY:48th Annual Cedar Top Ranch Maternal Empire Bull Sale
DESCRIPTION:
URL:https://gelbvieh.org/event/48th-annual-cedar-top-ranch-maternal-empire-bull-sale
LOCATION:Burwell\, NE\, Burwell\, NE
CATEGORIES:Event,Sales
ORGANIZER;CN="Cedar Top Ranch":MAILTO:cedartopranch@yahoo.com
END:VEVENT
BEGIN:VEVENT
DTSTART;TZID=America/Denver:20251030T080000
DTEND;TZID=America/Denver:20251030T170000
DTSTAMP:20260422T222055
CREATED:20251016T181359Z
LAST-MODIFIED:20251016T181359Z
UID:26689-1761811200-1761843600@gelbvieh.org
SUMMARY:Elite IV Gelbvieh & Balancer Sale
DESCRIPTION:
URL:https://gelbvieh.org/event/elite-iv-gelbvieh-balancer-sale
LOCATION:Kearney\, NE\, Kearney\, NE
CATEGORIES:Event,Sales
END:VEVENT
BEGIN:VEVENT
DTSTART;VALUE=DATE:20251101
DTEND;VALUE=DATE:20251102
DTSTAMP:20260422T222055
CREATED:20250714T173814Z
LAST-MODIFIED:20250714T173814Z
UID:26347-1761955200-1762041599@gelbvieh.org
SUMMARY:TJB Gelbvieh Annual Bull Sale
DESCRIPTION:
URL:https://gelbvieh.org/event/tjb-gelbvieh-annual-bull-sale-4
LOCATION:Chickamauga\, GA\, Chickamauga\, GA
CATEGORIES:Event,Sales
END:VEVENT
BEGIN:VEVENT
DTSTART;TZID=America/Denver:20251101T120000
DTEND;TZID=America/Denver:20251101T170000
DTSTAMP:20260422T222055
CREATED:20250624T134318Z
LAST-MODIFIED:20250624T134318Z
UID:26290-1761998400-1762016400@gelbvieh.org
SUMMARY:Seedstock Plus Red Reward 'Fall Edition' Bull & Female Sale
DESCRIPTION:Start Time: 12 noon\nLocation: Wheeler Livestock Auction\nCity: Osceola\nState: MO\nContact Name: John Burbank\nPhone: 660-734-1165\nEmail – john@seedstockplus.com\nWebsite: www.seedstockplus.com\nAdditional Information: Selling 45 RED Gelbvieh & Balancer bulls! All 18 months old! All have GE-EPDs and are polled tested!
URL:https://gelbvieh.org/event/seedstock-plus-red-reward-fall-edition-bull-female-sale-6
CATEGORIES:Event,Sales
END:VEVENT
BEGIN:VEVENT
DTSTART;TZID=America/Denver:20251108T100000
DTEND;TZID=America/Denver:20251108T113000
DTSTAMP:20260422T222056
CREATED:20250703T182525Z
LAST-MODIFIED:20250714T161051Z
UID:26323-1762596000-1762601400@gelbvieh.org
SUMMARY:Midwest Beef Cattle Consultants 6th Annual Educational Seminar
DESCRIPTION:Location: M5 Family Farms\nAddress: 3824 S Binford Rd\nCity: Carthage\nState: IN\nZip Code: 46115\nCountry: USA\nContact Name: Chris Muegge\nPhone: 317-460-6618\nEmail – cmuegge@myninestar.net\nWebsite: www.mwbeefcattle.com\nAdditional Information: Our educational session will be focused on selling freezer beef. Many of our bull buyers make a significantly higher profit selling freezer beef vs. selling at the market\, and they will share their experiences with those in attendance. Please come and learn from those who are successful in this business.
URL:https://gelbvieh.org/event/midwest-beef-cattle-consultants-6th-annual-educational-seminar
LOCATION:Carthage\, IN
CATEGORIES:Event,Sales
END:VEVENT
BEGIN:VEVENT
DTSTART;TZID=America/Denver:20251108T130000
DTEND;TZID=America/Denver:20251108T143000
DTSTAMP:20260422T222056
CREATED:20250703T182717Z
LAST-MODIFIED:20250703T182717Z
UID:26326-1762606800-1762612200@gelbvieh.org
SUMMARY:Midwest Beef Cattle Consultants 6th Annual Fall Bull & Female Sale
DESCRIPTION:Location: M5 Family Farms\nAddress: 3824 S Binford Rd\nCity: Carthage\nState: IN\nZip Code: 46115\nCountry: United States\nContact Name: Chris Muegge\nPhone: 3174606618\nEmail – cmuegge@myninestar.net\nWebsite: www.mwbeefcattle.com\nAdditional Information: Our 6th annual fall bull and female sale. 20 Balancer\, Gelbvieh and SimAngus bulls. 30 Balancer females – spring breds and fall pairs.
URL:https://gelbvieh.org/event/midwest-beef-cattle-consultants-6th-annual-fall-bull-female-sale
CATEGORIES:Event,Sales
END:VEVENT
BEGIN:VEVENT
DTSTART;VALUE=DATE:20251121
DTEND;VALUE=DATE:20251122
DTSTAMP:20260422T222056
CREATED:20250714T173915Z
LAST-MODIFIED:20250714T173915Z
UID:26350-1763683200-1763769599@gelbvieh.org
SUMMARY:Warner Beef Genetics Genetic Opportunities Female Sale
DESCRIPTION:
URL:https://gelbvieh.org/event/warner-beef-genetics-genetic-opportunities-female-sale-5
LOCATION:Arapahoe\, NE\, Arapahoe\, NE
CATEGORIES:Event,Sales
END:VEVENT
BEGIN:VEVENT
DTSTART;VALUE=DATE:20251122
DTEND;VALUE=DATE:20251123
DTSTAMP:20260422T222056
CREATED:20250714T174007Z
LAST-MODIFIED:20250714T174007Z
UID:26353-1763769600-1763855999@gelbvieh.org
SUMMARY:Butler Creek Farm Power in the Blood Heifer Sale X
DESCRIPTION:
URL:https://gelbvieh.org/event/butler-creek-farm-power-in-the-blood-heifer-sale-x
LOCATION:Milton\, TN
CATEGORIES:Event,Sales
END:VEVENT
BEGIN:VEVENT
DTSTART;VALUE=DATE:20251127
DTEND;VALUE=DATE:20251130
DTSTAMP:20260422T222056
CREATED:20251024T192754Z
LAST-MODIFIED:20251024T192754Z
UID:26722-1764201600-1764460799@gelbvieh.org
SUMMARY:Prairie Hills Gelbvieh Princesses of the Prairie Female Sale
DESCRIPTION:
URL:https://gelbvieh.org/event/prairie-hills-gelbvieh-princesses-of-the-prairie-female-sale-2
LOCATION:Online @ dvauction.com
CATEGORIES:Event,Sales
END:VEVENT
BEGIN:VEVENT
DTSTART;VALUE=DATE:20251129
DTEND;VALUE=DATE:20251130
DTSTAMP:20260422T222056
CREATED:20251024T193116Z
LAST-MODIFIED:20251024T193233Z
UID:26725-1764374400-1764460799@gelbvieh.org
SUMMARY:Boys from the South Bull Sale
DESCRIPTION:
URL:https://gelbvieh.org/event/boys-from-the-south-bull-sale-5
LOCATION:Lebanon\, TN\, Lebanon\, TN
CATEGORIES:Event,Sales
END:VEVENT
BEGIN:VEVENT
DTSTART;VALUE=DATE:20251202
DTEND;VALUE=DATE:20251203
DTSTAMP:20260422T222056
CREATED:20250714T174425Z
LAST-MODIFIED:20250714T174425Z
UID:26356-1764633600-1764719999@gelbvieh.org
SUMMARY:Warner Beef Genetics Maternal Merit Commercial Female Sale
DESCRIPTION:
URL:https://gelbvieh.org/event/warner-beef-genetics-maternal-merit-commercial-female-sale-3
LOCATION:Arapahoe\, NE\, Arapahoe\, NE
CATEGORIES:Event,Sales
END:VEVENT
BEGIN:VEVENT
DTSTART;VALUE=DATE:20251203
DTEND;VALUE=DATE:20251206
DTSTAMP:20260422T222056
CREATED:20250714T174616Z
LAST-MODIFIED:20250714T174616Z
UID:26359-1764720000-1764979199@gelbvieh.org
SUMMARY:American Gelbvieh Association 55th Annual National Convention
DESCRIPTION:
URL:https://gelbvieh.org/event/american-gelbvieh-association-55th-annual-national-convention
LOCATION:Margaritaville Hotel Nashville
CATEGORIES:Event
END:VEVENT
BEGIN:VEVENT
DTSTART;TZID=America/Denver:20251205T000000
DTEND;TZID=America/Denver:20251205T000000
DTSTAMP:20260422T222056
CREATED:20241231T163749Z
LAST-MODIFIED:20241231T163749Z
UID:25618-1764892800-1764892800@gelbvieh.org
SUMMARY:2025 Knoll Crest Farm Total Performance Bull Sale
DESCRIPTION:
URL:https://gelbvieh.org/event/2025-knoll-crest-farm-total-performance-bull-sale
LOCATION:Red House\, VA\, Red House\, VA
CATEGORIES:Event,Sales
END:VEVENT
BEGIN:VEVENT
DTSTART;VALUE=DATE:20251208
DTEND;VALUE=DATE:20251209
DTSTAMP:20260422T222056
CREATED:20251024T193647Z
LAST-MODIFIED:20251024T193647Z
UID:26730-1765152000-1765238399@gelbvieh.org
SUMMARY:The Gathering Sale
DESCRIPTION:
URL:https://gelbvieh.org/event/the-gathering-sale-2
LOCATION:Alberta\, Canada
CATEGORIES:Event,Sales
END:VEVENT
BEGIN:VEVENT
DTSTART;TZID=America/Denver:20251220T110000
DTEND;TZID=America/Denver:20251220T133000
DTSTAMP:20260422T222056
CREATED:20250714T174930Z
LAST-MODIFIED:20251112T184236Z
UID:26363-1766228400-1766237400@gelbvieh.org
SUMMARY:12th Annual CJ&L Livestock Bull Sale
DESCRIPTION:Contact Name: Lori Maude\nPhone: 303-809-3789\nEmail – lori.maude@gmail.com\nAdditional Information: 18 black Gelbvieh & Balancer Bulls\nFall 2024 and Spring 2025 born\nAll DNA tested
URL:https://gelbvieh.org/event/12th-annual-cjl-livestock-bull-sale
LOCATION:Marvin Maude Ranch\, 15849 Lower Spring Creek Road\, Hermosa\, SD\, 57744\, United States
CATEGORIES:Event,Sales
END:VEVENT
BEGIN:VEVENT
DTSTART;VALUE=DATE:20260104
DTEND;VALUE=DATE:20260105
DTSTAMP:20260422T222056
CREATED:20251229T144342Z
LAST-MODIFIED:20251229T144342Z
UID:26950-1767484800-1767571199@gelbvieh.org
SUMMARY:Cattlemen's Congress Gelbvieh and Balancer Junior Show
DESCRIPTION:
URL:https://gelbvieh.org/event/cattlemens-congress-gelbvieh-and-balancer-junior-show
LOCATION:Oklahoma City\, OK
CATEGORIES:Event,Show
END:VEVENT
BEGIN:VEVENT
DTSTART;VALUE=DATE:20260105
DTEND;VALUE=DATE:20260106
DTSTAMP:20260422T222056
CREATED:20251229T144443Z
LAST-MODIFIED:20251229T144443Z
UID:26953-1767571200-1767657599@gelbvieh.org
SUMMARY:National Gelbvieh and Balancer® Pen Show
DESCRIPTION:
URL:https://gelbvieh.org/event/national-gelbvieh-and-balancer-pen-show
LOCATION:Oklahoma City\, OK
CATEGORIES:Event,Show
END:VEVENT
BEGIN:VEVENT
DTSTART;VALUE=DATE:20260105
DTEND;VALUE=DATE:20260106
DTSTAMP:20260422T222056
CREATED:20251229T144530Z
LAST-MODIFIED:20251229T144530Z
UID:26956-1767571200-1767657599@gelbvieh.org
SUMMARY:The Congressional National Gelbvieh and Balancer® Sale
DESCRIPTION:
URL:https://gelbvieh.org/event/the-congressional-national-gelbvieh-and-balancer-sale
LOCATION:Oklahoma City\, OK
CATEGORIES:Event,Sales
END:VEVENT
BEGIN:VEVENT
DTSTART;VALUE=DATE:20260106
DTEND;VALUE=DATE:20260107
DTSTAMP:20260422T222056
CREATED:20251229T144640Z
LAST-MODIFIED:20251229T144640Z
UID:26959-1767657600-1767743999@gelbvieh.org
SUMMARY:National Gelbvieh and Balancer® Show
DESCRIPTION:
URL:https://gelbvieh.org/event/national-gelbvieh-and-balancer-show-2
LOCATION:Oklahoma City\, OK
CATEGORIES:Event,Show
END:VEVENT
BEGIN:VEVENT
DTSTART;VALUE=DATE:20260110
DTEND;VALUE=DATE:20260111
DTSTAMP:20260422T222056
CREATED:20251024T194456Z
LAST-MODIFIED:20251024T194456Z
UID:26734-1768003200-1768089599@gelbvieh.org
SUMMARY:Top of the Rockies Online Sale
DESCRIPTION:
URL:https://gelbvieh.org/event/top-of-the-rockies-online-sale
LOCATION:Online @ SC Online Sales
CATEGORIES:Event,Sales
END:VEVENT
BEGIN:VEVENT
DTSTART;VALUE=DATE:20260111
DTEND;VALUE=DATE:20260112
DTSTAMP:20260422T222056
CREATED:20250826T201449Z
LAST-MODIFIED:20250826T201449Z
UID:26492-1768089600-1768175999@gelbvieh.org
SUMMARY:National Western Stock Show Gelbvieh/Balancer® Junior Show
DESCRIPTION:
URL:https://gelbvieh.org/event/national-western-stock-show-gelbvieh-balancer-junior-show
LOCATION:Denver\, CO
CATEGORIES:Event,Show
END:VEVENT
BEGIN:VEVENT
DTSTART;VALUE=DATE:20260112
DTEND;VALUE=DATE:20260113
DTSTAMP:20260422T222056
CREATED:20250826T201541Z
LAST-MODIFIED:20250826T201541Z
UID:26495-1768176000-1768262399@gelbvieh.org
SUMMARY:National Western Stock Show Gelbvieh/Balancer® Pen Show
DESCRIPTION:
URL:https://gelbvieh.org/event/national-western-stock-show-gelbvieh-balancer-pen-show
LOCATION:Denver\, CO
CATEGORIES:Event,Show
END:VEVENT
BEGIN:VEVENT
DTSTART;VALUE=DATE:20260113
DTEND;VALUE=DATE:20260114
DTSTAMP:20260422T222056
CREATED:20250826T201636Z
LAST-MODIFIED:20250826T201636Z
UID:26498-1768262400-1768348799@gelbvieh.org
SUMMARY:National Western Stock Show Gelbvieh/Balancer® Open Show
DESCRIPTION:
URL:https://gelbvieh.org/event/national-western-stock-show-gelbvieh-balancer-open-show
LOCATION:Denver\, CO
CATEGORIES:Event,Show
END:VEVENT
END:VCALENDAR