BEGIN:VCALENDAR
VERSION:2.0
PRODID:-//American Gelbvieh - ECPv6.15.20//NONSGML v1.0//EN
CALSCALE:GREGORIAN
METHOD:PUBLISH
X-WR-CALNAME:American Gelbvieh
X-ORIGINAL-URL:https://gelbvieh.org
X-WR-CALDESC:Events for American Gelbvieh
REFRESH-INTERVAL;VALUE=DURATION:PT1H
X-Robots-Tag:noindex
X-PUBLISHED-TTL:PT1H
BEGIN:VTIMEZONE
TZID:America/Chicago
BEGIN:DAYLIGHT
TZOFFSETFROM:-0600
TZOFFSETTO:-0500
TZNAME:CDT
DTSTART:20240310T080000
END:DAYLIGHT
BEGIN:STANDARD
TZOFFSETFROM:-0500
TZOFFSETTO:-0600
TZNAME:CST
DTSTART:20241103T070000
END:STANDARD
BEGIN:DAYLIGHT
TZOFFSETFROM:-0600
TZOFFSETTO:-0500
TZNAME:CDT
DTSTART:20250309T080000
END:DAYLIGHT
BEGIN:STANDARD
TZOFFSETFROM:-0500
TZOFFSETTO:-0600
TZNAME:CST
DTSTART:20251102T070000
END:STANDARD
BEGIN:DAYLIGHT
TZOFFSETFROM:-0600
TZOFFSETTO:-0500
TZNAME:CDT
DTSTART:20260308T080000
END:DAYLIGHT
BEGIN:STANDARD
TZOFFSETFROM:-0500
TZOFFSETTO:-0600
TZNAME:CST
DTSTART:20261101T070000
END:STANDARD
END:VTIMEZONE
BEGIN:VTIMEZONE
TZID:America/Indiana/Indianapolis
BEGIN:DAYLIGHT
TZOFFSETFROM:-0500
TZOFFSETTO:-0400
TZNAME:EDT
DTSTART:20240310T070000
END:DAYLIGHT
BEGIN:STANDARD
TZOFFSETFROM:-0400
TZOFFSETTO:-0500
TZNAME:EST
DTSTART:20241103T060000
END:STANDARD
BEGIN:DAYLIGHT
TZOFFSETFROM:-0500
TZOFFSETTO:-0400
TZNAME:EDT
DTSTART:20250309T070000
END:DAYLIGHT
BEGIN:STANDARD
TZOFFSETFROM:-0400
TZOFFSETTO:-0500
TZNAME:EST
DTSTART:20251102T060000
END:STANDARD
BEGIN:DAYLIGHT
TZOFFSETFROM:-0500
TZOFFSETTO:-0400
TZNAME:EDT
DTSTART:20260308T070000
END:DAYLIGHT
BEGIN:STANDARD
TZOFFSETFROM:-0400
TZOFFSETTO:-0500
TZNAME:EST
DTSTART:20261101T060000
END:STANDARD
END:VTIMEZONE
BEGIN:VTIMEZONE
TZID:America/Denver
BEGIN:DAYLIGHT
TZOFFSETFROM:-0700
TZOFFSETTO:-0600
TZNAME:MDT
DTSTART:20240310T090000
END:DAYLIGHT
BEGIN:STANDARD
TZOFFSETFROM:-0600
TZOFFSETTO:-0700
TZNAME:MST
DTSTART:20241103T080000
END:STANDARD
BEGIN:DAYLIGHT
TZOFFSETFROM:-0700
TZOFFSETTO:-0600
TZNAME:MDT
DTSTART:20250309T090000
END:DAYLIGHT
BEGIN:STANDARD
TZOFFSETFROM:-0600
TZOFFSETTO:-0700
TZNAME:MST
DTSTART:20251102T080000
END:STANDARD
BEGIN:DAYLIGHT
TZOFFSETFROM:-0700
TZOFFSETTO:-0600
TZNAME:MDT
DTSTART:20260308T090000
END:DAYLIGHT
BEGIN:STANDARD
TZOFFSETFROM:-0600
TZOFFSETTO:-0700
TZNAME:MST
DTSTART:20261101T080000
END:STANDARD
END:VTIMEZONE
BEGIN:VEVENT
DTSTART;TZID=America/Chicago:20250214T000000
DTEND;TZID=America/Chicago:20250214T000000
DTSTAMP:20260422T162129
CREATED:20241231T162321Z
LAST-MODIFIED:20241231T162321Z
UID:25585-1739491200-1739491200@gelbvieh.org
SUMMARY:Lemke Cattle Annual Bull & Female Sale
DESCRIPTION:
URL:https://gelbvieh.org/event/lemke-cattle-annual-bull-female-sale
LOCATION:Lawrence\, NE\, 1757 Rd 2500\, Lawrence\, NE\, 68957\, United States
CATEGORIES:Event,Sales
END:VEVENT
BEGIN:VEVENT
DTSTART;TZID=America/Indiana/Indianapolis:20250215T000000
DTEND;TZID=America/Indiana/Indianapolis:20250215T000000
DTSTAMP:20260422T162129
CREATED:20241231T162531Z
LAST-MODIFIED:20241231T162531Z
UID:25588-1739577600-1739577600@gelbvieh.org
SUMMARY:Locust Hill Cattle Company 4th Annual Bull & Female Sale\, Pelham\, N.C.
DESCRIPTION:
URL:https://gelbvieh.org/event/locust-hill-cattle-company-4th-annual-bull-female-sale-pelham-n-c
LOCATION:Pelham\, NC
CATEGORIES:Event,Sales
END:VEVENT
BEGIN:VEVENT
DTSTART;TZID=America/Chicago:20250222T000000
DTEND;TZID=America/Chicago:20250222T000000
DTSTAMP:20260422T162129
CREATED:20241231T162819Z
LAST-MODIFIED:20241231T162819Z
UID:25596-1740182400-1740182400@gelbvieh.org
SUMMARY:Larson’s Lost River Livestock 15th Annual Production Sale
DESCRIPTION:
URL:https://gelbvieh.org/event/larsons-lost-river-livestock-15th-annual-production-sale
LOCATION:Clearbrook\, MN\, 12866 Lindberg Lake Road\, Clearbrook\, MN\, 56634
CATEGORIES:Event,Sales
END:VEVENT
BEGIN:VEVENT
DTSTART;TZID=America/Denver:20250222T110000
DTEND;TZID=America/Denver:20250223T180000
DTSTAMP:20260422T162129
CREATED:20250116T200754Z
LAST-MODIFIED:20250116T200754Z
UID:25667-1740222000-1740333600@gelbvieh.org
SUMMARY:Geidel Cattle Co Bulls sale and Open House
DESCRIPTION:Contact Name: Galen Geidel\nPhone: 641-221-0255\nEmail – galengeidel@hotmail.com
URL:https://gelbvieh.org/event/geidel-cattle-co-bulls-sale-and-open-house
LOCATION:The Farm North of Creston\, 3373 Hwy 25\, Creston\, IA\, 50801\, United States
CATEGORIES:Event,Sales
END:VEVENT
BEGIN:VEVENT
DTSTART;TZID=America/Denver:20250222T120000
DTEND;TZID=America/Denver:20250222T120000
DTSTAMP:20260422T162129
CREATED:20241231T162735Z
LAST-MODIFIED:20250121T162111Z
UID:25593-1740225600-1740225600@gelbvieh.org
SUMMARY:Seedstock Plus North Missouri Bull Sale\, Kingsville\, Mo.
DESCRIPTION:
URL:https://gelbvieh.org/event/seedstock-plus-north-missouri-bull-sale-kingsville-mo
LOCATION:Kingsville Livestock\, Kingsville\, MO\, United States
CATEGORIES:Event,Sales
END:VEVENT
BEGIN:VEVENT
DTSTART;TZID=America/Denver:20250222T123000
DTEND;TZID=America/Denver:20250222T170000
DTSTAMP:20260422T162129
CREATED:20241231T161656Z
LAST-MODIFIED:20241231T161736Z
UID:25570-1740227400-1740243600@gelbvieh.org
SUMMARY:Black Gold Genetics Share the Gold Bull Sale
DESCRIPTION:Contact Name: Mark Crane\nPhone: 719-523-3108\nEmail – blackgoldcattlecompany@gmail.com\nWebsite: www.blackgoldgenetics.com
URL:https://gelbvieh.org/event/black-gold-genetics-share-the-gold-bull-sale-2
LOCATION:Pritchett\, CO
CATEGORIES:Event,Sales
END:VEVENT
BEGIN:VEVENT
DTSTART;VALUE=DATE:20250226
DTEND;VALUE=DATE:20250227
DTSTAMP:20260422T162129
CREATED:20240916T190535Z
LAST-MODIFIED:20241231T163013Z
UID:25156-1740528000-1740614399@gelbvieh.org
SUMMARY:Grund Beef Genetics Annual Bull Sale
DESCRIPTION:
URL:https://gelbvieh.org/event/grund-beef-genetics-annual-bull-sale-3
LOCATION:Sharon Springs\, KS
CATEGORIES:Event,Sales
END:VEVENT
BEGIN:VEVENT
DTSTART;TZID=America/Denver:20250227T080000
DTEND;TZID=America/Denver:20250227T170000
DTSTAMP:20260422T162129
CREATED:20240813T173910Z
LAST-MODIFIED:20241231T162912Z
UID:25090-1740643200-1740675600@gelbvieh.org
SUMMARY:Plateau Gelbvieh Annual Bull Sale
DESCRIPTION:
URL:https://gelbvieh.org/event/plateau-gelbvieh-annual-bull-sale-6
LOCATION:Brush\, CO\, Brush\, CO
CATEGORIES:Event,Sales
END:VEVENT
BEGIN:VEVENT
DTSTART;TZID=America/Denver:20250228T120000
DTEND;TZID=America/Denver:20250228T170000
DTSTAMP:20260422T162129
CREATED:20240813T174030Z
LAST-MODIFIED:20250217T151909Z
UID:25093-1740744000-1740762000@gelbvieh.org
SUMMARY:34th Annual Pot of Gold Sale
DESCRIPTION:The sale starts at noon MST and will sell on DVAuction.com \nFor catalog and videos go to:  www.gelbviehbulls.net       email:  davedawn@gelbviehbulls.net \nBlack and Red purebred Gelbvieh and Balancer bulls and 20 select open females offered.  Many homozygous black and homozygous polled genetics and herd-sire prospects.   P.A.P. tested and fertility tested.  Trich and PI-BVD tested negative. \nContact:  Dave Bowman with any questions 970-323-6833 or 970-275-9216 (cell).
URL:https://gelbvieh.org/event/34th-annual-pot-of-gold-sale
LOCATION:Montrose Event Center\, 1036 N. 7th Ave.\, Montrose\, CO\, United States
CATEGORIES:Event,Sales
END:VEVENT
BEGIN:VEVENT
DTSTART;TZID=America/Denver:20250301T080000
DTEND;TZID=America/Denver:20250301T170000
DTSTAMP:20260422T162129
CREATED:20240813T174205Z
LAST-MODIFIED:20240813T174205Z
UID:25098-1740816000-1740848400@gelbvieh.org
SUMMARY:Lazy TV Ranch 44th Annual Production Sale
DESCRIPTION:
URL:https://gelbvieh.org/event/lazy-tv-ranch-44th-annual-production-sale
LOCATION:Selby\, SD\, Selby\, SD
CATEGORIES:Event,Sales
END:VEVENT
BEGIN:VEVENT
DTSTART;TZID=America/Chicago:20250301T120000
DTEND;TZID=America/Chicago:20250301T120000
DTSTAMP:20260422T162129
CREATED:20241231T163143Z
LAST-MODIFIED:20250121T162917Z
UID:25602-1740830400-1740830400@gelbvieh.org
SUMMARY:Seedstock Plus Arkansas Bull Sale
DESCRIPTION:
URL:https://gelbvieh.org/event/seedstock-plus-arkansas-bull-sale-hope-ark
LOCATION:Hope\, Arkansas
CATEGORIES:Event,Sales
END:VEVENT
BEGIN:VEVENT
DTSTART;TZID=America/Chicago:20250301T130000
DTEND;TZID=America/Chicago:20250301T170000
DTSTAMP:20260422T162129
CREATED:20240813T174125Z
LAST-MODIFIED:20250121T163004Z
UID:25096-1740834000-1740848400@gelbvieh.org
SUMMARY:Judd Ranch 47th Gelbvieh\, Balancer and Red Angus Bull Sale
DESCRIPTION:
URL:https://gelbvieh.org/event/judd-ranch-47th-gelbvieh-balancer-and-red-angus-bull-sale
LOCATION:Pomona\, KS\, Pomona\, KS
CATEGORIES:Event,Sales
END:VEVENT
BEGIN:VEVENT
DTSTART;TZID=America/Chicago:20250301T133000
DTEND;TZID=America/Chicago:20250301T170000
DTSTAMP:20260422T162129
CREATED:20250123T161203Z
LAST-MODIFIED:20250123T161203Z
UID:25732-1740835800-1740848400@gelbvieh.org
SUMMARY:Flying H Genetics 45th Annual Bull Sale
DESCRIPTION:Contact Name: Kyle Helms\nPhone: 3089626940\nEmail – kyle@flyinghgenetics.com
URL:https://gelbvieh.org/event/flying-h-genetics-45th-annual-bull-sale
LOCATION:At the Ranch north of Arapahoe\, 41846 Road 730\, Holbrook\, NE\, 68948\, United States
CATEGORIES:Event,Sales
END:VEVENT
BEGIN:VEVENT
DTSTART;TZID=America/Denver:20250303T000000
DTEND;TZID=America/Denver:20250303T000000
DTSTAMP:20260422T162129
CREATED:20241231T163245Z
LAST-MODIFIED:20241231T163245Z
UID:25606-1740960000-1740960000@gelbvieh.org
SUMMARY:Hojer Ranch 33rd Annual Gelbvieh & Balancer Production Sale
DESCRIPTION:
URL:https://gelbvieh.org/event/hojer-ranch-33rd-annual-gelbvieh-balancer-production-sale
LOCATION:Lake Preston\, SD
CATEGORIES:Event,Sales
END:VEVENT
BEGIN:VEVENT
DTSTART;TZID=America/Denver:20250305T080000
DTEND;TZID=America/Denver:20250305T170000
DTSTAMP:20260422T162129
CREATED:20240813T174310Z
LAST-MODIFIED:20240813T174310Z
UID:25102-1741161600-1741194000@gelbvieh.org
SUMMARY:Warner Beef Genetics Genetic Investment Bull Sale
DESCRIPTION:
URL:https://gelbvieh.org/event/warner-beef-genetics-genetic-investment-bull-sale-6
LOCATION:Arapahoe\, NE\, Arapahoe\, NE
CATEGORIES:Event,Sales
END:VEVENT
BEGIN:VEVENT
DTSTART;TZID=America/Denver:20250308T080000
DTEND;TZID=America/Denver:20250308T170000
DTSTAMP:20260422T162129
CREATED:20240813T174402Z
LAST-MODIFIED:20240813T174402Z
UID:25105-1741420800-1741453200@gelbvieh.org
SUMMARY:Bluegrass Gelbvieh Alliance Production Sale
DESCRIPTION:
URL:https://gelbvieh.org/event/bluegrass-gelbvieh-alliance-production-sale
LOCATION:Lexington\, KY
CATEGORIES:Event,Sales
END:VEVENT
BEGIN:VEVENT
DTSTART;TZID=America/Chicago:20250308T120000
DTEND;TZID=America/Chicago:20250308T120000
DTSTAMP:20260422T162129
CREATED:20241231T163352Z
LAST-MODIFIED:20250121T162342Z
UID:25609-1741435200-1741435200@gelbvieh.org
SUMMARY:Seedstock Plus Red Reward Bull & Female Sale
DESCRIPTION:
URL:https://gelbvieh.org/event/seedstock-plus-red-reward-bull-female-sale-7
LOCATION:Osceola\, MO
CATEGORIES:Event,Sales
END:VEVENT
BEGIN:VEVENT
DTSTART;TZID=America/Chicago:20250311T000000
DTEND;TZID=America/Chicago:20250311T000000
DTSTAMP:20260422T162129
CREATED:20241231T163458Z
LAST-MODIFIED:20241231T163458Z
UID:25612-1741651200-1741651200@gelbvieh.org
SUMMARY:Bar Arrow Cattle Company 35th Annual Production Sale
DESCRIPTION:
URL:https://gelbvieh.org/event/bar-arrow-cattle-company-35th-annual-production-sale
LOCATION:Phillipsburg\, KS\, Phillipsburg\, KS
CATEGORIES:Event,Sales
END:VEVENT
BEGIN:VEVENT
DTSTART;TZID=America/Denver:20250311T130000
DTEND;TZID=America/Denver:20250311T170000
DTSTAMP:20260422T162130
CREATED:20250110T211039Z
LAST-MODIFIED:20250110T211039Z
UID:25656-1741698000-1741712400@gelbvieh.org
SUMMARY:True West Genetics Production Sale
DESCRIPTION:Contact Name: JC Cabral\nPhone: 509-540-6954\nEmail – cabrallivestock@yahoo.com\nWebsite: www.cabrallivestock.com
URL:https://gelbvieh.org/event/true-west-genetics-production-sale
LOCATION:Sherman County Fairgrounds\, Moro\, Oregon\, 66147 Lonerock Road\, Moro\, OR\, 97039\, United States
CATEGORIES:Event,Sales
END:VEVENT
BEGIN:VEVENT
DTSTART;TZID=America/Denver:20250312T010000
DTEND;TZID=America/Denver:20250315T133000
DTSTAMP:20260422T162130
CREATED:20250203T182704Z
LAST-MODIFIED:20250203T182704Z
UID:25791-1741741200-1742045400@gelbvieh.org
SUMMARY:Central Montana Gelbvieh & Angus Genetics 30th Annual Bull Sale
DESCRIPTION:Contact Name: Don Danell\nPhone: 406-366-6953\nEmail – danelldiamondsix@gmail.com\nWebsite: billpelton.com\nAdditional Information: Bulls are kept and fed at Danell Diamond Six Ranch\, Lewistown\, Montana and can be viewed at any time by appointment.  Call Don Danell (406)366-6953
URL:https://gelbvieh.org/event/central-montana-gelbvieh-angus-genetics-30th-annual-bull-sale
LOCATION:billpelton.com\, 1012 Maiden Road\, Lewiston\, MT\, 59457\, United States
CATEGORIES:Event,Sales
END:VEVENT
BEGIN:VEVENT
DTSTART;TZID=America/Chicago:20250315T173000
DTEND;TZID=America/Chicago:20250315T173000
DTSTAMP:20260422T162130
CREATED:20250214T143544Z
LAST-MODIFIED:20250214T143544Z
UID:25822-1742059800-1742059800@gelbvieh.org
SUMMARY:Ertel Cattle Co. Annual Production Sale
DESCRIPTION:
URL:https://gelbvieh.org/event/ertel-cattle-co-annual-production-sale-2
LOCATION:Kirksville\, MO\, 24295 Benton Rd\, Kirksville\, MO\, 63501\, United States
CATEGORIES:Event,Sales
END:VEVENT
BEGIN:VEVENT
DTSTART;TZID=America/Denver:20250321T080000
DTEND;TZID=America/Denver:20250321T170000
DTSTAMP:20260422T162130
CREATED:20240813T174437Z
LAST-MODIFIED:20240813T174437Z
UID:25108-1742544000-1742576400@gelbvieh.org
SUMMARY:Southwest Iowa Gelbvieh & Balancer Bull and Female Sale
DESCRIPTION:
URL:https://gelbvieh.org/event/southwest-iowa-gelbvieh-balancer-bull-and-female-sale
LOCATION:Creston\, IA
CATEGORIES:Event,Sales
END:VEVENT
BEGIN:VEVENT
DTSTART;TZID=America/Denver:20250321T110000
DTEND;TZID=America/Denver:20250321T170000
DTSTAMP:20260422T162130
CREATED:20250121T161203Z
LAST-MODIFIED:20250121T161203Z
UID:25703-1742554800-1742576400@gelbvieh.org
SUMMARY:Turkey Creek Gelbvieh Annual Bull Sale
DESCRIPTION:Contact Name: Trevor Hansen\nPhone: 6057602128\nEmail – trevor66hansen@gmail.com
URL:https://gelbvieh.org/event/turkey-creek-gelbvieh-annual-bull-sale
LOCATION:Stockmen’s Livestock Market\, 1200 SD-50\, Yankton\, SD\, 57078\, United States
CATEGORIES:Event,Sales
END:VEVENT
BEGIN:VEVENT
DTSTART;TZID=America/Denver:20250322T080000
DTEND;TZID=America/Denver:20250322T170000
DTSTAMP:20260422T162130
CREATED:20240813T174521Z
LAST-MODIFIED:20240813T174521Z
UID:25111-1742630400-1742662800@gelbvieh.org
SUMMARY:Cranview Gelbvieh 21st Annual Genetic Progress Sale
DESCRIPTION:
URL:https://gelbvieh.org/event/cranview-gelbvieh-21st-annual-genetic-progress-sale
LOCATION:Rugby\, ND\, Rugby\, ND
CATEGORIES:Event,Sales
END:VEVENT
BEGIN:VEVENT
DTSTART;TZID=America/Chicago:20250322T120000
DTEND;TZID=America/Chicago:20250322T120000
DTSTAMP:20260422T162130
CREATED:20241231T163611Z
LAST-MODIFIED:20250121T162250Z
UID:25615-1742644800-1742644800@gelbvieh.org
SUMMARY:Seedstock Plus South Missouri Bull & Female Sale
DESCRIPTION:
URL:https://gelbvieh.org/event/seedstock-plus-south-missouri-bull-female-sale-5
LOCATION:Carthage\, MO\, Carthage\, MO
CATEGORIES:Event,Sales
END:VEVENT
BEGIN:VEVENT
DTSTART;TZID=America/Denver:20250329T130000
DTEND;TZID=America/Denver:20250329T170000
DTSTAMP:20260422T162130
CREATED:20250115T140629Z
LAST-MODIFIED:20250115T140629Z
UID:25663-1743253200-1743267600@gelbvieh.org
SUMMARY:Wilkinson Gelbvieh Ranch Bull Sale
DESCRIPTION:Contact Name: Bill Wilkinson\nPhone: (719) 680-0462\nEmail – bnwbulls@gmail.com\nWebsite: wilkinsongelbvieh.com\nAdditional Information: \nSelling 55 Gelbvieh and Balancer bulls\, all polled\, majority black.   Ultrasounded\, PAP tested\, and BSE tested \n2 pens of 5 Replacement heifers
URL:https://gelbvieh.org/event/wilkinson-gelbvieh-ranch-bull-sale-2
LOCATION:Model\, CO\, 23115 County Road 111.3\, Model\, CO\, 81059\, United States
CATEGORIES:Event,Sales
END:VEVENT
BEGIN:VEVENT
DTSTART;TZID=America/Denver:20250412T080000
DTEND;TZID=America/Denver:20250412T170000
DTSTAMP:20260422T162130
CREATED:20240813T174901Z
LAST-MODIFIED:20240813T174901Z
UID:25117-1744444800-1744477200@gelbvieh.org
SUMMARY:Knoll Crest Farm Spring Bull and Female Sale
DESCRIPTION:
URL:https://gelbvieh.org/event/knoll-crest-farm-spring-bull-and-female-sale
LOCATION:Red House\, VA\, Red House\, VA
CATEGORIES:Event,Sales
END:VEVENT
BEGIN:VEVENT
DTSTART;TZID=America/Denver:20250623T080000
DTEND;TZID=America/Denver:20250627T170000
DTSTAMP:20260422T162130
CREATED:20240813T174618Z
LAST-MODIFIED:20240813T174618Z
UID:25114-1750665600-1751043600@gelbvieh.org
SUMMARY:Grand Ole Gelbvieh Junior Classic\, Lebanon\, Tenn.
DESCRIPTION:
URL:https://gelbvieh.org/event/grand-ole-gelbvieh-junior-classic-lebanon-tenn
LOCATION:Lebanon\, TN\, Lebanon\, TN
CATEGORIES:Event,Juniors,Show
END:VEVENT
BEGIN:VEVENT
DTSTART;TZID=America/Denver:20250816T090000
DTEND;TZID=America/Denver:20250816T190000
DTSTAMP:20260422T162130
CREATED:20250624T134402Z
LAST-MODIFIED:20250624T134402Z
UID:26293-1755334800-1755370800@gelbvieh.org
SUMMARY:Seedstock Plus On-Line Showcase Sale
DESCRIPTION:Start Time: 9 a.m. CDT\nEnd Time: 7 p.m. (soft close)\nLocation: Burbank Bull Development\nAddress: 18864 Kepler Dr\nCity: Saint Catharine\nState: MO\nZip Code: 64628\nCountry: USA\nContact Name: John Burbank\nPhone: 660-258-5547\nEmail – john@seedstockplus.com\nWebsite: www.seedstockplus.com
URL:https://gelbvieh.org/event/seedstock-plus-on-line-showcase-sale
LOCATION:NE
CATEGORIES:Event,Sales
END:VEVENT
BEGIN:VEVENT
DTSTART;TZID=America/Denver:20251011T080000
DTEND;TZID=America/Denver:20251011T170000
DTSTAMP:20260422T162130
CREATED:20250506T140255Z
LAST-MODIFIED:20250506T140255Z
UID:26162-1760169600-1760202000@gelbvieh.org
SUMMARY:Judd Ranch 35th Annual Cow Power Female Sale
DESCRIPTION:
URL:https://gelbvieh.org/event/judd-ranch-35th-annual-cow-power-female-sale
LOCATION:Pomona\, KS\, Pomona\, KS
CATEGORIES:Event,Sales
END:VEVENT
END:VCALENDAR