BEGIN:VCALENDAR
VERSION:2.0
PRODID:-//American Gelbvieh - ECPv6.15.20//NONSGML v1.0//EN
CALSCALE:GREGORIAN
METHOD:PUBLISH
X-ORIGINAL-URL:https://gelbvieh.org
X-WR-CALDESC:Events for American Gelbvieh
REFRESH-INTERVAL;VALUE=DURATION:PT1H
X-Robots-Tag:noindex
X-PUBLISHED-TTL:PT1H
BEGIN:VTIMEZONE
TZID:America/Denver
BEGIN:DAYLIGHT
TZOFFSETFROM:-0700
TZOFFSETTO:-0600
TZNAME:MDT
DTSTART:20240310T090000
END:DAYLIGHT
BEGIN:STANDARD
TZOFFSETFROM:-0600
TZOFFSETTO:-0700
TZNAME:MST
DTSTART:20241103T080000
END:STANDARD
BEGIN:DAYLIGHT
TZOFFSETFROM:-0700
TZOFFSETTO:-0600
TZNAME:MDT
DTSTART:20250309T090000
END:DAYLIGHT
BEGIN:STANDARD
TZOFFSETFROM:-0600
TZOFFSETTO:-0700
TZNAME:MST
DTSTART:20251102T080000
END:STANDARD
BEGIN:DAYLIGHT
TZOFFSETFROM:-0700
TZOFFSETTO:-0600
TZNAME:MDT
DTSTART:20260308T090000
END:DAYLIGHT
BEGIN:STANDARD
TZOFFSETFROM:-0600
TZOFFSETTO:-0700
TZNAME:MST
DTSTART:20261101T080000
END:STANDARD
BEGIN:DAYLIGHT
TZOFFSETFROM:-0700
TZOFFSETTO:-0600
TZNAME:MDT
DTSTART:20270314T090000
END:DAYLIGHT
BEGIN:STANDARD
TZOFFSETFROM:-0600
TZOFFSETTO:-0700
TZNAME:MST
DTSTART:20271107T080000
END:STANDARD
END:VTIMEZONE
BEGIN:VEVENT
DTSTART;VALUE=DATE:20251208
DTEND;VALUE=DATE:20251209
DTSTAMP:20260423T082329
CREATED:20251024T193647Z
LAST-MODIFIED:20251024T193647Z
UID:26730-1765152000-1765238399@gelbvieh.org
SUMMARY:The Gathering Sale
DESCRIPTION:
URL:https://gelbvieh.org/event/the-gathering-sale-2
LOCATION:Alberta\, Canada
CATEGORIES:Event,Sales
END:VEVENT
BEGIN:VEVENT
DTSTART;TZID=America/Denver:20251220T110000
DTEND;TZID=America/Denver:20251220T133000
DTSTAMP:20260423T082329
CREATED:20250714T174930Z
LAST-MODIFIED:20251112T184236Z
UID:26363-1766228400-1766237400@gelbvieh.org
SUMMARY:12th Annual CJ&L Livestock Bull Sale
DESCRIPTION:Contact Name: Lori Maude\nPhone: 303-809-3789\nEmail – lori.maude@gmail.com\nAdditional Information: 18 black Gelbvieh & Balancer Bulls\nFall 2024 and Spring 2025 born\nAll DNA tested
URL:https://gelbvieh.org/event/12th-annual-cjl-livestock-bull-sale
LOCATION:Marvin Maude Ranch\, 15849 Lower Spring Creek Road\, Hermosa\, SD\, 57744\, United States
CATEGORIES:Event,Sales
END:VEVENT
BEGIN:VEVENT
DTSTART;VALUE=DATE:20260104
DTEND;VALUE=DATE:20260105
DTSTAMP:20260423T082329
CREATED:20251229T144342Z
LAST-MODIFIED:20251229T144342Z
UID:26950-1767484800-1767571199@gelbvieh.org
SUMMARY:Cattlemen's Congress Gelbvieh and Balancer Junior Show
DESCRIPTION:
URL:https://gelbvieh.org/event/cattlemens-congress-gelbvieh-and-balancer-junior-show
LOCATION:Oklahoma City\, OK
CATEGORIES:Event,Show
END:VEVENT
BEGIN:VEVENT
DTSTART;VALUE=DATE:20260105
DTEND;VALUE=DATE:20260106
DTSTAMP:20260423T082329
CREATED:20251229T144443Z
LAST-MODIFIED:20251229T144443Z
UID:26953-1767571200-1767657599@gelbvieh.org
SUMMARY:National Gelbvieh and Balancer® Pen Show
DESCRIPTION:
URL:https://gelbvieh.org/event/national-gelbvieh-and-balancer-pen-show
LOCATION:Oklahoma City\, OK
CATEGORIES:Event,Show
END:VEVENT
BEGIN:VEVENT
DTSTART;VALUE=DATE:20260105
DTEND;VALUE=DATE:20260106
DTSTAMP:20260423T082329
CREATED:20251229T144530Z
LAST-MODIFIED:20251229T144530Z
UID:26956-1767571200-1767657599@gelbvieh.org
SUMMARY:The Congressional National Gelbvieh and Balancer® Sale
DESCRIPTION:
URL:https://gelbvieh.org/event/the-congressional-national-gelbvieh-and-balancer-sale
LOCATION:Oklahoma City\, OK
CATEGORIES:Event,Sales
END:VEVENT
BEGIN:VEVENT
DTSTART;VALUE=DATE:20260106
DTEND;VALUE=DATE:20260107
DTSTAMP:20260423T082329
CREATED:20251229T144640Z
LAST-MODIFIED:20251229T144640Z
UID:26959-1767657600-1767743999@gelbvieh.org
SUMMARY:National Gelbvieh and Balancer® Show
DESCRIPTION:
URL:https://gelbvieh.org/event/national-gelbvieh-and-balancer-show-2
LOCATION:Oklahoma City\, OK
CATEGORIES:Event,Show
END:VEVENT
BEGIN:VEVENT
DTSTART;VALUE=DATE:20260110
DTEND;VALUE=DATE:20260111
DTSTAMP:20260423T082329
CREATED:20251024T194456Z
LAST-MODIFIED:20251024T194456Z
UID:26734-1768003200-1768089599@gelbvieh.org
SUMMARY:Top of the Rockies Online Sale
DESCRIPTION:
URL:https://gelbvieh.org/event/top-of-the-rockies-online-sale
LOCATION:Online @ SC Online Sales
CATEGORIES:Event,Sales
END:VEVENT
BEGIN:VEVENT
DTSTART;VALUE=DATE:20260111
DTEND;VALUE=DATE:20260112
DTSTAMP:20260423T082329
CREATED:20250826T201449Z
LAST-MODIFIED:20250826T201449Z
UID:26492-1768089600-1768175999@gelbvieh.org
SUMMARY:National Western Stock Show Gelbvieh/Balancer® Junior Show
DESCRIPTION:
URL:https://gelbvieh.org/event/national-western-stock-show-gelbvieh-balancer-junior-show
LOCATION:Denver\, CO
CATEGORIES:Event,Show
END:VEVENT
BEGIN:VEVENT
DTSTART;VALUE=DATE:20260112
DTEND;VALUE=DATE:20260113
DTSTAMP:20260423T082329
CREATED:20250826T201541Z
LAST-MODIFIED:20250826T201541Z
UID:26495-1768176000-1768262399@gelbvieh.org
SUMMARY:National Western Stock Show Gelbvieh/Balancer® Pen Show
DESCRIPTION:
URL:https://gelbvieh.org/event/national-western-stock-show-gelbvieh-balancer-pen-show
LOCATION:Denver\, CO
CATEGORIES:Event,Show
END:VEVENT
BEGIN:VEVENT
DTSTART;VALUE=DATE:20260113
DTEND;VALUE=DATE:20260114
DTSTAMP:20260423T082329
CREATED:20250826T201636Z
LAST-MODIFIED:20250826T201636Z
UID:26498-1768262400-1768348799@gelbvieh.org
SUMMARY:National Western Stock Show Gelbvieh/Balancer® Open Show
DESCRIPTION:
URL:https://gelbvieh.org/event/national-western-stock-show-gelbvieh-balancer-open-show
LOCATION:Denver\, CO
CATEGORIES:Event,Show
END:VEVENT
BEGIN:VEVENT
DTSTART;VALUE=DATE:20260114
DTEND;VALUE=DATE:20260115
DTSTAMP:20260423T082329
CREATED:20250714T175019Z
LAST-MODIFIED:20251223T190222Z
UID:26366-1768348800-1768435199@gelbvieh.org
SUMMARY:Warner Beef Genetics Maternal Merit in the Yards Sale
DESCRIPTION:
URL:https://gelbvieh.org/event/warner-beef-genetics-maternal-merit-in-the-yards-sale-3
LOCATION:Denver\, CO
CATEGORIES:Event,Sales
END:VEVENT
BEGIN:VEVENT
DTSTART;VALUE=DATE:20260125
DTEND;VALUE=DATE:20260126
DTSTAMP:20260423T082329
CREATED:20250721T130314Z
LAST-MODIFIED:20250721T130314Z
UID:26416-1769299200-1769385599@gelbvieh.org
SUMMARY:North Dakota Gelbvieh Association 42nd Annual Golden Rule Sale
DESCRIPTION:
URL:https://gelbvieh.org/event/north-dakota-gelbvieh-association-42nd-annual-golden-rule-sale
LOCATION:Mandan\, ND\, Mandan\, ND
CATEGORIES:Event,Sales
END:VEVENT
BEGIN:VEVENT
DTSTART;VALUE=DATE:20260205
DTEND;VALUE=DATE:20260206
DTSTAMP:20260423T082329
CREATED:20250714T175112Z
LAST-MODIFIED:20250714T175112Z
UID:26369-1770249600-1770335999@gelbvieh.org
SUMMARY:Black Hills Stock Show Gelbvieh & Balancer Show/Sale
DESCRIPTION:
URL:https://gelbvieh.org/event/black-hills-stock-show-gelbvieh-balancer-show-sale-2
LOCATION:Rapid City\, SD\, Rapid City\, SD\, United States
CATEGORIES:Event,Sales
END:VEVENT
BEGIN:VEVENT
DTSTART;VALUE=DATE:20260214
DTEND;VALUE=DATE:20260215
DTSTAMP:20260423T082329
CREATED:20250714T175153Z
LAST-MODIFIED:20250714T175153Z
UID:26372-1771027200-1771113599@gelbvieh.org
SUMMARY:Prairie Hills Gelbvieh Annual Bull Sale
DESCRIPTION:
URL:https://gelbvieh.org/event/prairie-hills-gelbvieh-annual-bull-sale-8
LOCATION:Gladstone\, ND\, 10190 22nd St. SW\, Gladstone\, ND\, 58630
CATEGORIES:Event,Sales
END:VEVENT
BEGIN:VEVENT
DTSTART;VALUE=DATE:20260214
DTEND;VALUE=DATE:20260215
DTSTAMP:20260423T082329
CREATED:20250721T130209Z
LAST-MODIFIED:20250721T130413Z
UID:26413-1771027200-1771113599@gelbvieh.org
SUMMARY:Genetic Power Bull and Female Sale
DESCRIPTION:
URL:https://gelbvieh.org/event/genetic-power-bull-and-female-sale-2
LOCATION:Springfield\, MO\, Springfield\, MO
CATEGORIES:Event,Sales
END:VEVENT
BEGIN:VEVENT
DTSTART;VALUE=DATE:20260214
DTEND;VALUE=DATE:20260215
DTSTAMP:20260423T082329
CREATED:20251024T195116Z
LAST-MODIFIED:20251024T195116Z
UID:26737-1771027200-1771113599@gelbvieh.org
SUMMARY:Smith Farms Bull & Female Sale
DESCRIPTION:
URL:https://gelbvieh.org/event/smith-farms-bull-female-sale
LOCATION:Purvis\, MS
CATEGORIES:Event,Sales
END:VEVENT
BEGIN:VEVENT
DTSTART;TZID=America/Denver:20260214T080000
DTEND;TZID=America/Denver:20260214T170000
DTSTAMP:20260423T082329
CREATED:20250826T163418Z
LAST-MODIFIED:20250826T163433Z
UID:26489-1771056000-1771088400@gelbvieh.org
SUMMARY:Genetic Power Gelbvieh and Balancer Bull and Female Sale
DESCRIPTION:
URL:https://gelbvieh.org/event/genetic-power-gelbvieh-and-balancer-bull-and-female-sale
LOCATION:Springfield Livestock Marketing Center\, 6821 W Independence Dr\, Springfield\, MO\, 65802\, United States
CATEGORIES:Event,Sales
END:VEVENT
BEGIN:VEVENT
DTSTART;VALUE=DATE:20260217
DTEND;VALUE=DATE:20260218
DTSTAMP:20260423T082329
CREATED:20251024T205258Z
LAST-MODIFIED:20251024T205258Z
UID:26780-1771286400-1771372799@gelbvieh.org
SUMMARY:48th Annual Cedar Top Ranch Maternal Empire Bull Sale
DESCRIPTION:
URL:https://gelbvieh.org/event/48th-annual-cedar-top-ranch-maternal-empire-bull-sale-2
LOCATION:Burwell\, NE\, Burwell\, NE
CATEGORIES:Event,Sales
ORGANIZER;CN="Cedar Top Ranch":MAILTO:cedartopranch@yahoo.com
END:VEVENT
BEGIN:VEVENT
DTSTART;VALUE=DATE:20260219
DTEND;VALUE=DATE:20260220
DTSTAMP:20260423T082329
CREATED:20250815T152440Z
LAST-MODIFIED:20250815T152440Z
UID:26471-1771459200-1771545599@gelbvieh.org
SUMMARY:Gustin's Diamond D Gelbvieh Production Sale
DESCRIPTION:Start Time: 1:00 p.m. CDT \nAddress: 3081 55th Avenue Southeast\, Medina\, ND 58467 \nContact: Richie and Sarah Heinrich\, (701) 320-6484\, sarah.gustin@hotmail.com \nWebsite: www.gustinsdiamondd.com
URL:https://gelbvieh.org/event/gustins-diamond-d-gelbvieh-production-sale-2
LOCATION:Medina\, ND
CATEGORIES:Event,Sales
END:VEVENT
BEGIN:VEVENT
DTSTART;VALUE=DATE:20260221
DTEND;VALUE=DATE:20260222
DTSTAMP:20260423T082329
CREATED:20251024T195441Z
LAST-MODIFIED:20251024T195441Z
UID:26745-1771632000-1771718399@gelbvieh.org
SUMMARY:Locust Hill Cattle Co. Sale
DESCRIPTION:
URL:https://gelbvieh.org/event/locust-hill-cattle-co-sale
LOCATION:Pelham\, NC
CATEGORIES:Event,Sales
END:VEVENT
BEGIN:VEVENT
DTSTART;VALUE=DATE:20260226
DTEND;VALUE=DATE:20260227
DTSTAMP:20260423T082329
CREATED:20251024T195543Z
LAST-MODIFIED:20251024T195543Z
UID:26749-1772064000-1772150399@gelbvieh.org
SUMMARY:Plateau Gelbvieh Bull Sale
DESCRIPTION:
URL:https://gelbvieh.org/event/plateau-gelbvieh-bull-sale-3
LOCATION:Brush\, CO\, Brush\, CO
CATEGORIES:Event,Sales
ORGANIZER;CN="Plateau Gelbvieh - Jim Roelle":MAILTO:jr.plateau@hotmail.com
END:VEVENT
BEGIN:VEVENT
DTSTART;TZID=America/Denver:20260227T000000
DTEND;TZID=America/Denver:20260227T120000
DTSTAMP:20260423T082329
CREATED:20250714T175252Z
LAST-MODIFIED:20260223T145343Z
UID:26375-1772150400-1772193600@gelbvieh.org
SUMMARY:35th Annual "Pot of Gold" Bull Sale
DESCRIPTION:Contact Name: Dave Bowman\nPhone: 970-275-9216\nEmail – davedawn@gelbviehbulls.net\nWebsite: www.gelbviehbulls.net\nAdditional Information: Selling 123 yearling bulls:  Gelbvieh\, Balancer\, Simmental\, Simangus  23 Select Females\,  Reds and Blacks. Homozygous black and Homozygous polled\, Herd Sire Potentials\, All bulls P.A.P. tested\, Trich and PI-BVD tested negative. GE EPDs on all the bulls. If you can’t make the sale you can bid on-line at www.DVAuction.com.
URL:https://gelbvieh.org/event/35th-annual-pot-of-gold-bull-sale
LOCATION:Montrose Event Center\, 1036 N. 7th Ave.\, Montrose\, CO\, United States
CATEGORIES:Event,Sales
END:VEVENT
BEGIN:VEVENT
DTSTART;VALUE=DATE:20260228
DTEND;VALUE=DATE:20260301
DTSTAMP:20260423T082329
CREATED:20250714T175414Z
LAST-MODIFIED:20250714T175414Z
UID:26378-1772236800-1772323199@gelbvieh.org
SUMMARY:Post Rock Cattle Company Cowman's Kind Bull & Female Sale
DESCRIPTION:
URL:https://gelbvieh.org/event/post-rock-cattle-company-cowmans-kind-bull-female-sale-2
LOCATION:Barnard\, KS\, Barnard\, KS
CATEGORIES:Event,Sales
END:VEVENT
BEGIN:VEVENT
DTSTART;VALUE=DATE:20260228
DTEND;VALUE=DATE:20260301
DTSTAMP:20260423T082329
CREATED:20251024T195639Z
LAST-MODIFIED:20251024T195639Z
UID:26752-1772236800-1772323199@gelbvieh.org
SUMMARY:Seedstock Plus North Missouri Bull Sale
DESCRIPTION:
URL:https://gelbvieh.org/event/seedstock-plus-north-missouri-bull-sale-9
LOCATION:Kingsville\, MO\, Kingsville\, MO
CATEGORIES:Event,Sales
END:VEVENT
BEGIN:VEVENT
DTSTART;TZID=America/Denver:20260228T140000
DTEND;TZID=America/Denver:20260228T170000
DTSTAMP:20260423T082329
CREATED:20260107T143621Z
LAST-MODIFIED:20260107T143709Z
UID:27007-1772287200-1772298000@gelbvieh.org
SUMMARY:Event: Larsons Lost River Livestock 16th Annual Production Sale
DESCRIPTION:Contact Name: David Larson\nPhone: 2187663323\nEmail – david.larson.lrl@gmail.com\nWebsite: www.lostriverlivestockmn.com
URL:https://gelbvieh.org/event/event-larsons-lost-river-livestock-16th-annual-production-sale
LOCATION:Clearbrook\, MN\, 12866 Lindberg Lake Road\, Clearbrook\, MN\, 56634
CATEGORIES:Event,Sales
END:VEVENT
BEGIN:VEVENT
DTSTART;VALUE=DATE:20260302
DTEND;VALUE=DATE:20260303
DTSTAMP:20260423T082329
CREATED:20251024T195739Z
LAST-MODIFIED:20251024T195739Z
UID:26755-1772409600-1772495999@gelbvieh.org
SUMMARY:Hojer Ranch 34th Annual Gelbvieh & Balancer Production Sale
DESCRIPTION:
URL:https://gelbvieh.org/event/hojer-ranch-34th-annual-gelbvieh-balancer-production-sale
LOCATION:Lake Preston\, SD
CATEGORIES:Event,Sales
ORGANIZER;CN="Hojer Gelbvieh & Balancer Ranch":MAILTO:hojer@hojerranch.com
END:VEVENT
BEGIN:VEVENT
DTSTART;VALUE=DATE:20260303
DTEND;VALUE=DATE:20260304
DTSTAMP:20260423T082329
CREATED:20251024T195833Z
LAST-MODIFIED:20251024T195833Z
UID:26758-1772496000-1772582399@gelbvieh.org
SUMMARY:Swanson Cattle Company Annual Production Sale
DESCRIPTION:
URL:https://gelbvieh.org/event/swanson-cattle-company-annual-production-sale-2
LOCATION:Oxford\, NE\, Oxford\, NE
CATEGORIES:Event,Sales
ORGANIZER;CN="Swanson Cattle Company - Jeff Swanson":MAILTO:swansoncattleco@yahoo.com
END:VEVENT
BEGIN:VEVENT
DTSTART;VALUE=DATE:20260304
DTEND;VALUE=DATE:20260305
DTSTAMP:20260423T082329
CREATED:20251024T195935Z
LAST-MODIFIED:20251024T195935Z
UID:26761-1772582400-1772668799@gelbvieh.org
SUMMARY:Warner Beef Genetics Genetic Investment Bull Sale
DESCRIPTION:
URL:https://gelbvieh.org/event/warner-beef-genetics-genetic-investment-bull-sale-8
LOCATION:Arapahoe\, NE\, Arapahoe\, NE
CATEGORIES:Event,Sales
END:VEVENT
BEGIN:VEVENT
DTSTART;VALUE=DATE:20260306
DTEND;VALUE=DATE:20260307
DTSTAMP:20260423T082329
CREATED:20260304T151129Z
LAST-MODIFIED:20260304T151129Z
UID:27365-1772755200-1772841599@gelbvieh.org
SUMMARY:Handel Farms Gelbvieh and Red Angus Bull Sale
DESCRIPTION:
URL:https://gelbvieh.org/event/handel-farms-gelbvieh-and-red-angus-bull-sale
LOCATION:Platte\, SD
CATEGORIES:Event,Sales
END:VEVENT
BEGIN:VEVENT
DTSTART;TZID=America/Denver:20260306T120000
DTEND;TZID=America/Denver:20260306T133000
DTSTAMP:20260423T082329
CREATED:20260202T184727Z
LAST-MODIFIED:20260202T184754Z
UID:27133-1772798400-1772803800@gelbvieh.org
SUMMARY:Turkey Creek Gelbvieh 5th Annual Bull Sale
DESCRIPTION:Contact Name: Trevor Hansen\nPhone: 6057602128\nEmail – trevor66hansen@gmail.com\nWebsite: turkeycreekgelbvieh.com
URL:https://gelbvieh.org/event/turkey-creek-gelbvieh-5th-annual-bull-sale
LOCATION:Stockmen’s Livestock\, 1200 SD-50\, Yankton\, SD\, 57078\, United States
CATEGORIES:Event,Sales
END:VEVENT
END:VCALENDAR