BEGIN:VCALENDAR
VERSION:2.0
PRODID:-//American Gelbvieh - ECPv6.15.20//NONSGML v1.0//EN
CALSCALE:GREGORIAN
METHOD:PUBLISH
X-WR-CALNAME:American Gelbvieh
X-ORIGINAL-URL:https://gelbvieh.org
X-WR-CALDESC:Events for American Gelbvieh
REFRESH-INTERVAL;VALUE=DURATION:PT1H
X-Robots-Tag:noindex
X-PUBLISHED-TTL:PT1H
BEGIN:VTIMEZONE
TZID:America/Denver
BEGIN:DAYLIGHT
TZOFFSETFROM:-0700
TZOFFSETTO:-0600
TZNAME:MDT
DTSTART:20170312T090000
END:DAYLIGHT
BEGIN:STANDARD
TZOFFSETFROM:-0600
TZOFFSETTO:-0700
TZNAME:MST
DTSTART:20171105T080000
END:STANDARD
BEGIN:DAYLIGHT
TZOFFSETFROM:-0700
TZOFFSETTO:-0600
TZNAME:MDT
DTSTART:20180311T090000
END:DAYLIGHT
BEGIN:STANDARD
TZOFFSETFROM:-0600
TZOFFSETTO:-0700
TZNAME:MST
DTSTART:20181104T080000
END:STANDARD
BEGIN:DAYLIGHT
TZOFFSETFROM:-0700
TZOFFSETTO:-0600
TZNAME:MDT
DTSTART:20190310T090000
END:DAYLIGHT
BEGIN:STANDARD
TZOFFSETFROM:-0600
TZOFFSETTO:-0700
TZNAME:MST
DTSTART:20191103T080000
END:STANDARD
END:VTIMEZONE
BEGIN:VEVENT
DTSTART;VALUE=DATE:20180414
DTEND;VALUE=DATE:20180415
DTSTAMP:20260424T125455
CREATED:20171002T200747Z
LAST-MODIFIED:20171002T200747Z
UID:11058-1523664000-1523750399@gelbvieh.org
SUMMARY:Bar T Bar Ranch Annual Bull Sale
DESCRIPTION:
URL:https://gelbvieh.org/event/bar-t-bar-ranch-annual-bull-sale
LOCATION:Bar T Bar Ranch\, Winslow\, AZ\, United States
CATEGORIES:Sales
END:VEVENT
BEGIN:VEVENT
DTSTART;TZID=America/Denver:20180414T120000
DTEND;TZID=America/Denver:20180414T170000
DTSTAMP:20260424T125455
CREATED:20180228T171010Z
LAST-MODIFIED:20180228T171010Z
UID:11812-1523707200-1523725200@gelbvieh.org
SUMMARY:Knoll Crest Farm Performance Bull and Commercial Heifer Sale
DESCRIPTION:The address listed below is a GPS address. Our mailing address is PO Box 117\, Red House VA 23963
URL:https://gelbvieh.org/event/knoll-crest-farm-performance-bull-and-commercial-heifer-sale
LOCATION:Knoll Crest Farm\, 167 Bull Hill Road\, Concord\, VA\, 24538\, United States
CATEGORIES:Sales
ORGANIZER;CN="Dalton Bennett":MAILTO:knollcrest@knollcrestfarm.com
END:VEVENT
END:VCALENDAR