BEGIN:VCALENDAR
VERSION:2.0
PRODID:-//American Gelbvieh - ECPv6.15.20//NONSGML v1.0//EN
CALSCALE:GREGORIAN
METHOD:PUBLISH
X-ORIGINAL-URL:https://gelbvieh.org
X-WR-CALDESC:Events for American Gelbvieh
REFRESH-INTERVAL;VALUE=DURATION:PT1H
X-Robots-Tag:noindex
X-PUBLISHED-TTL:PT1H
BEGIN:VTIMEZONE
TZID:America/Denver
BEGIN:DAYLIGHT
TZOFFSETFROM:-0700
TZOFFSETTO:-0600
TZNAME:MDT
DTSTART:20160313T090000
END:DAYLIGHT
BEGIN:STANDARD
TZOFFSETFROM:-0600
TZOFFSETTO:-0700
TZNAME:MST
DTSTART:20161106T080000
END:STANDARD
BEGIN:DAYLIGHT
TZOFFSETFROM:-0700
TZOFFSETTO:-0600
TZNAME:MDT
DTSTART:20170312T090000
END:DAYLIGHT
BEGIN:STANDARD
TZOFFSETFROM:-0600
TZOFFSETTO:-0700
TZNAME:MST
DTSTART:20171105T080000
END:STANDARD
BEGIN:DAYLIGHT
TZOFFSETFROM:-0700
TZOFFSETTO:-0600
TZNAME:MDT
DTSTART:20180311T090000
END:DAYLIGHT
BEGIN:STANDARD
TZOFFSETFROM:-0600
TZOFFSETTO:-0700
TZNAME:MST
DTSTART:20181104T080000
END:STANDARD
END:VTIMEZONE
BEGIN:VEVENT
DTSTART;VALUE=DATE:20170912
DTEND;VALUE=DATE:20170913
DTSTAMP:20260422T122344
CREATED:20170830T185100Z
LAST-MODIFIED:20170830T185100Z
UID:10907-1505174400-1505260799@gelbvieh.org
SUMMARY:American Royal Entry Deadline
DESCRIPTION:The American Royal Livestock Show is being held October 18-29\, 2017\, in Kansas City\, Missouri. The Gelbvieh and Balancer show takes place on Saturday\, October 20. The junior show will begin at 8:00 a.m. and be followed by the open show\, both taking place on the east side of Hale Arena. The entry deadline for both shows and the ownership deadline for the junior show is September 12. For more information\, visit the American Royal website or contact Al Knapp\, Gelbvieh show superintendent\, at 913-219-6613.
URL:https://gelbvieh.org/event/american-royal-entry-deadline
LOCATION:Hale Arena – American Royal Complex\, Kansas City\, MO\, United States
CATEGORIES:Show
END:VEVENT
END:VCALENDAR