BEGIN:VCALENDAR
VERSION:2.0
PRODID:-//American Gelbvieh - ECPv6.15.18//NONSGML v1.0//EN
CALSCALE:GREGORIAN
METHOD:PUBLISH
X-ORIGINAL-URL:https://gelbvieh.org
X-WR-CALDESC:Events for American Gelbvieh
REFRESH-INTERVAL;VALUE=DURATION:PT1H
X-Robots-Tag:noindex
X-PUBLISHED-TTL:PT1H
BEGIN:VTIMEZONE
TZID:America/Kentucky/Louisville
BEGIN:DAYLIGHT
TZOFFSETFROM:-0500
TZOFFSETTO:-0400
TZNAME:EDT
DTSTART:20150308T070000
END:DAYLIGHT
BEGIN:STANDARD
TZOFFSETFROM:-0400
TZOFFSETTO:-0500
TZNAME:EST
DTSTART:20151101T060000
END:STANDARD
BEGIN:DAYLIGHT
TZOFFSETFROM:-0500
TZOFFSETTO:-0400
TZNAME:EDT
DTSTART:20160313T070000
END:DAYLIGHT
BEGIN:STANDARD
TZOFFSETFROM:-0400
TZOFFSETTO:-0500
TZNAME:EST
DTSTART:20161106T060000
END:STANDARD
BEGIN:DAYLIGHT
TZOFFSETFROM:-0500
TZOFFSETTO:-0400
TZNAME:EDT
DTSTART:20170312T070000
END:DAYLIGHT
BEGIN:STANDARD
TZOFFSETFROM:-0400
TZOFFSETTO:-0500
TZNAME:EST
DTSTART:20171105T060000
END:STANDARD
END:VTIMEZONE
BEGIN:VEVENT
DTSTART;TZID=America/Kentucky/Louisville:20161115T080000
DTEND;TZID=America/Kentucky/Louisville:20161115T170000
DTSTAMP:20260421T183254
CREATED:20161017T160436Z
LAST-MODIFIED:20161017T212037Z
UID:9405-1479196800-1479229200@gelbvieh.org
SUMMARY:North American International Livestock Exposition
DESCRIPTION:Thursday\, November 10 and Friday\, November 11\nArrival of cattle before noon EST \nSaturday\, November 12 – 1:00 p.m. EST\nGelbvieh Cattle Sale\nFor more information regarding the sale\, please contact Slaughter Sale Management at 270-556-4259 \nTuesday\, November 15 – 2:30 EST\nGelbvieh Heifer Futurity followed by Eastern National Gelbvieh & Balancer Show
URL:https://gelbvieh.org/event/north-american-international-livestock-exposition
LOCATION:Kentucky Exposition Center\, 937 Phillips Lane \, Louisville\, KY\, 40209\, United States
CATEGORIES:Show
END:VEVENT
END:VCALENDAR